Workbook

Sheet 市  川  市
A2: スポンサー | H2: 品 名 | O2: 代理店 | V2: 担 当
A3: 折 込 日 | C3: 年 月 日 曜日 | H3: サイズ | L3: 総枚数 | R3: 備 考
B4: 0401 | C4: 市 川 市 | S4: 令和８年６月改定・埼北オリコミ | AA4: 0401
B5: 朝日 | C5: 部数 | D5: 配布数 | F5: 毎日 | G5: 部数 | H5: 配布数 | J5: 読売 | K5: 部数 | L5: 配布数 | N5: 産経 | O5: 部数 | P5: 配布数 | R5: 東京 | S5: 部数 | T5: 配布数 | V5: 日経 | W5: 部数 | X5: 配布数
A6: 1 | B6: 市川 | C6: 2350 | E6: 1 | F6: 市川・本 | G6: 1000 | I6: 1 | J6: 市川 | K6: 3150 | M6: 1 | N6: 南行徳 | O6: 400 | Q6: 2 | R6: Ａ市川 | S6: 300 | U6: 4 | V6: Ａ中山 | W6: 950 | AA6: 4011001 | AB6: 4012001 | AC6: 4013001 | AD6: 4014001 | AE6: 4015002 | AF6: 4016004
C7: 0 | F7: 八幡南 | G7: 0 | K7: 0 | O7: 0 | S7: 0 | W7: 0 | AA7: 0 | AB7: 0 | AC7: 0 | AD7: 0 | AE7: 0 | AF7: 0
A8: 3 | B8: 市川南八 | C8: 3750 | E8: 7 | F8: Ｓ本八幡 | G8: 250 | I8: 2 | J8: 国分 | K8: 2100 | M8: 2 | N8: 本八幡 | O8: 850 | Q8: 4 | R8: Ａ市川南 | S8: 500 | U8: 5 | V8: Ａ行徳 | W8: 650 | AA8: 4011003 | AB8: 4012007 | AC8: 4013002 | AD8: 4014002 | AE8: 4015004 | AF8: 4016005
B9: 幡 | C9: 0 | G9: 0 | K9: 0 | O9: 0 | R9: 八幡 | S9: 0 | W9: 0 | AA9: 0 | AB9: 0 | AC9: 0 | AD9: 0 | AE9: 0 | AF9: 0
A10: 5 | B10: 本八幡 | C10: 3400 | E10: 12 | F10: Ａ中山 | G10: 250 | I10: 4 | J10: 市川大野 | K10: 1800 | M10: 4 | N10: 行徳 | O10: 350 | Q10: 5 | R10: Ａ本八幡 | S10: 450 | U10: 7 | V10: Ａ南行徳 | W10: 450 | AA10: 4011005 | AB10: 4012012 | AC10: 4013004 | AD10: 4014004 | AE10: 4015005 | AF10: 4016007
C11: 0 | G11: 0 | K11: 0 | O11: 0 | S11: 0 | W11: 0 | AA11: 0 | AB11: 0 | AC11: 0 | AD11: 0 | AE11: 0 | AF11: 0
A12: 11 | B12: 南行徳 | C12: 1950 | E12: 13 | F12: 行徳 | G12: 100 | I12: 5 | J12: 本八幡第 | K12: 2750 | M12: 7 | N12: Ａ行徳 | O12: 50 | Q12: 11 | R12: Ａ中山 | S12: 350 | U12: 8 | V12: Ａ市川南 | W12: 150 | AA12: 4011011 | AB12: 4012013 | AC12: 4013005 | AD12: 4014007 | AE12: 4015011 | AF12: 4016008
C13: 0 | G13: 0 | J13: 一 | K13: 0 | O13: 0 | S13: 0 | V13: 八幡 | W13: 0 | AA13: 0 | AB13: 0 | AC13: 0 | AD13: 0 | AE13: 0 | AF13: 0
A14: 12 | B14: 行徳 | C14: 2450 | E14: 14 | F14: 南行徳 | G14: 100 | I14: 6 | J14: 本八幡南 | K14: 2500 | M14: 8 | N14: Ｍ市川・ | O14: 850 | Q14: 12 | R14: Ａ行徳 | S14: 350 | U14: 9 | V14: Ｙ市川 | W14: 1300 | AA14: 4011012 | AB14: 4012014 | AC14: 4013006 | AD14: 4014008 | AE14: 4015012 | AF14: 4016009
C15: 0 | G15: 0 | J15: 部 | K15: 0 | N15: 本八幡南 | O15: 0 | S15: 0 | W15: 0 | AA15: 0 | AB15: 0 | AC15: 0 | AD15: 0 | AE15: 0 | AF15: 0
A16: 13 | B16: 中山 | C16: 3050 | E16: 15 | F16: Ａ本八幡 | G16: 0 | I16: 10 | J16: 南行徳 | K16: 2000 | M16: 14 | N16: Ａ中山 | O16: 300 | Q16: 13 | R16: Ａ南行徳 | S16: 550 | U16: 11 | V16: Ｙ国分 | W16: 550 | AA16: 4011013 | AB16: 4012015 | AC16: 4013010 | AD16: 4014014 | AE16: 4015013 | AF16: 4016011
C17: 0 | G17: 0 | K17: 0 | O17: 0 | S17: 0 | W17: 0 | AA17: 0 | AB17: 0 | AC17: 0 | AD17: 0 | AE17: 0 | AF17: 0
A18: 0 | C18: 0 | E18: 0 | G18: 0 | I18: 11 | J18: 本八幡北 | K18: 3000 | M18: 0 | O18: 0 | Q18: 0 | S18: 0 | U18: 13 | V18: Ｙ本八幡 | W18: 950 | AA18: 0 | AB18: 0 | AC18: 4013011 | AD18: 0 | AE18: 0 | AF18: 4016013
C19: 0 | G19: 0 | J19: 部 | K19: 0 | O19: 0 | S19: 0 | V19: 第一 | W19: 0 | AA19: 0 | AB19: 0 | AC19: 0 | AD19: 0 | AE19: 0 | AF19: 0
A20: 0 | C20: 0 | E20: 0 | G20: 0 | I20: 12 | J20: 行徳中央 | K20: 2400 | M20: 0 | O20: 0 | Q20: 0 | S20: 0 | U20: 14 | V20: Ｙ本八幡 | W20: 600 | AA20: 0 | AB20: 0 | AC20: 4013012 | AD20: 0 | AE20: 0 | AF20: 4016014
C21: 0 | G21: 0 | K21: 0 | O21: 0 | S21: 0 | V21: 南部 | W21: 0 | AA21: 0 | AB21: 0 | AC21: 0 | AD21: 0 | AE21: 0 | AF21: 0
A22: 0 | C22: 0 | E22: 0 | G22: 0 | I22: 13 | J22: 中山中央 | K22: 1300 | M22: 0 | O22: 0 | Q22: 0 | S22: 0 | U22: 15 | V22: Ｙ中山中 | W22: 100 | AA22: 0 | AB22: 0 | AC22: 4013013 | AD22: 0 | AE22: 0 | AF22: 4016015
C23: 0 | G23: 0 | K23: 0 | O23: 0 | S23: 0 | V23: 央 | W23: 0 | AA23: 0 | AB23: 0 | AC23: 0 | AD23: 0 | AE23: 0 | AF23: 0
A24: 0 | C24: 0 | E24: 0 | G24: 0 | I24: 14 | J24: 西船橋北 | K24: 2150 | M24: 0 | O24: 0 | Q24: 0 | S24: 0 | U24: 16 | V24: Ｙ市川大 | W24: 300 | AA24: 0 | AB24: 0 | AC24: 4013014 | AD24: 0 | AE24: 0 | AF24: 4016016
C25: 0 | G25: 0 | J25: 部（中山 | K25: 0 | O25: 0 | S25: 0 | V25: 野 | W25: 0 | AA25: 0 | AB25: 0 | AC25: 0 | AD25: 0 | AE25: 0 | AF25: 0
A26: 0 | C26: 0 | E26: 0 | G26: 0 | I26: 17 | J26: 行徳（新 | K26: 2550 | M26: 0 | O26: 0 | Q26: 0 | S26: 0 | U26: 20 | V26: Ｙ行徳 | W26: 350 | AA26: 0 | AB26: 0 | AC26: 4013017 | AD26: 0 | AE26: 0 | AF26: 4016020
C27: 0 | G27: 0 | J27: 行徳） | K27: 0 | O27: 0 | S27: 0 | W27: 0 | AA27: 0 | AB27: 0 | AC27: 0 | AD27: 0 | AE27: 0 | AF27: 0
A28: 0 | C28: 0 | E28: 0 | G28: 0 | I28: 0 | K28: 0 | M28: 0 | O28: 0 | Q28: 0 | S28: 0 | U28: 21 | V28: Ｙ南行徳 | W28: 300 | AA28: 0 | AB28: 0 | AC28: 0 | AD28: 0 | AE28: 0 | AF28: 4016021
C29: 0 | G29: 0 | K29: 0 | O29: 0 | S29: 0 | W29: 0 | AA29: 0 | AB29: 0 | AC29: 0 | AD29: 0 | AE29: 0 | AF29: 0
A30: 0 | C30: 0 | E30: 0 | G30: 0 | I30: 0 | K30: 0 | M30: 0 | O30: 0 | Q30: 0 | S30: 0 | U30: 22 | V30: Ｙ本八幡 | W30: 300 | AA30: 0 | AB30: 0 | AC30: 0 | AD30: 0 | AE30: 0 | AF30: 4016022
C31: 0 | G31: 0 | K31: 0 | O31: 0 | S31: 0 | V31: 北部 | W31: 0 | AA31: 0 | AB31: 0 | AC31: 0 | AD31: 0 | AE31: 0 | AF31: 0
A32: 0 | C32: 0 | E32: 0 | G32: 0 | I32: 0 | K32: 0 | M32: 0 | O32: 0 | Q32: 0 | S32: 0 | U32: 23 | V32: Ｙ行徳中 | W32: 200 | AA32: 0 | AB32: 0 | AC32: 0 | AD32: 0 | AE32: 0 | AF32: 4016023
C33: 0 | G33: 0 | K33: 0 | O33: 0 | S33: 0 | V33: 央 | W33: 0 | AA33: 0 | AB33: 0 | AC33: 0 | AD33: 0 | AE33: 0 | AF33: 0
B42: 小計 | C42: =C6+C8+C10+C12+C14+C16+C18+C20+C22+C24+C26+C28+C30+C32+C34+C36+C38+C40 -> 16950 | D42: =D6+D8+D10+D12+D14+D16+D18+D20+D22+D24+D26+D28+D30+D32+D34+D36+D38+D40 -> 0 | F42: 小計 | G42: =G6+G8+G10+G12+G14+G16+G18+G20+G22+G24+G26+G28+G30+G32+G34+G36+G38+G40 -> 1700 | H42: =H6+H8+H10+H12+H14+H16+H18+H20+H22+H24+H26+H28+H30+H32+H34+H36+H38+H40 -> 0 | J42: 小計 | K42: =K6+K8+K10+K12+K14+K16+K18+K20+K22+K24+K26+K28+K30+K32+K34+K36+K38+K40 -> 25700 | L42: =L6+L8+L10+L12+L14+L16+L18+L20+L22+L24+L26+L28+L30+L32+L34+L36+L38+L40 -> 0 | N42: 小計 | O42: =O6+O8+O10+O12+O14+O16+O18+O20+O22+O24+O26+O28+O30+O32+O34+O36+O38+O40 -> 2800 | P42: =P6+P8+P10+P12+P14+P16+P18+P20+P22+P24+P26+P28+P30+P32+P34+P36+P38+P40 -> 0 | R42: 小計 | S42: =S6+S8+S10+S12+S14+S16+S18+S20+S22+S24+S26+S28+S30+S32+S34+S36+S38+S40 -> 2500 | T42: =T6+T8+T10+T12+T14+T16+T18+T20+T22+T24+T26+T28+T30+T32+T34+T36+T38+T40 -> 0 | V42: 小計 | W42: =W6+W8+W10+W12+W14+W16+W18+W20+W22+W24+W26+W28+W30+W32+W34+W36+W38+W40 -> 7150 | X42: =X6+X8+X10+X12+X14+X16+X18+X20+X22+X24+X26+X28+X30+X32+X34+X36+X38+X40 -> 0
C43: =C7+C9+C11+C13+C15+C17+C19+C21+C23+C25+C27+C29+C31+C33+C35+C37+C39+C41 -> 0 | D43: =D7+D9+D11+D13+D15+D17+D19+D21+D23+D25+D27+D29+D31+D33+D35+D37+D39+D41 -> 0 | G43: =G7+G9+G11+G13+G15+G17+G19+G21+G23+G25+G27+G29+G31+G33+G35+G37+G39+G41 -> 0 | H43: =H7+H9+H11+H13+H15+H17+H19+H21+H23+H25+H27+H29+H31+H33+H35+H37+H39+H41 -> 0 | K43: =K7+K9+K11+K13+K15+K17+K19+K21+K23+K25+K27+K29+K31+K33+K35+K37+K39+K41 -> 0 | L43: =L7+L9+L11+L13+L15+L17+L19+L21+L23+L25+L27+L29+L31+L33+L35+L37+L39+L41 -> 0 | O43: =O7+O9+O11+O13+O15+O17+O19+O21+O23+O25+O27+O29+O31+O33+O35+O37+O39+O41 -> 0 | P43: =P7+P9+P11+P13+P15+P17+P19+P21+P23+P25+P27+P29+P31+P33+P35+P37+P39+P41 -> 0 | S43: =S7+S9+S11+S13+S15+S17+S19+S21+S23+S25+S27+S29+S31+S33+S35+S37+S39+S41 -> 0 | T43: =T7+T9+T11+T13+T15+T17+T19+T21+T23+T25+T27+T29+T31+T33+T35+T37+T39+T41 -> 0 | W43: =W7+W9+W11+W13+W15+W17+W19+W21+W23+W25+W27+W29+W31+W33+W35+W37+W39+W41 -> 0 | X43: =X7+X9+X11+X13+X15+X17+X19+X21+X23+X25+X27+X29+X31+X33+X35+X37+X39+X41 -> 0
F44: 合 計 | K44: =C42+C43+G42+G43+K42+K43+O42+O43+S42+S43+W42+W43 -> 56800 | N44: （ | O44: =D42+D43+H42+H43+L42+L43+P42+P43+T42+T43+X42+X43 -> 0 | Q44: ）
A45: Ｍ市川北部・本八幡南部⇒市川南部に吸収 | H45: Ｍ市川南部⇒市川・本八幡名変 | O45: Ｙ行徳南⇒南行徳名変

Sheet 浦  安  市
A2: スポンサー | H2: 品 名 | O2: 代理店 | V2: 担 当
A3: 折 込 日 | C3: 年 月 日 曜日 | H3: サイズ | L3: 総枚数 | R3: 備 考
B4: 0402 | C4: 浦 安 市 | AA4: 0402
B5: 朝日 | C5: 部数 | D5: 配布数 | F5: 毎日 | G5: 部数 | H5: 配布数 | J5: 読売 | K5: 部数 | L5: 配布数 | N5: 産経 | O5: 部数 | P5: 配布数 | R5: 東京 | S5: 部数 | T5: 配布数 | V5: 日経 | W5: 部数 | X5: 配布数
A6: 2 | B6: 浦安西部 | C6: 2100 | E6: 2 | F6: 浦安 | G6: 350 | I6: 1 | J6: 新浦安 | K6: 7100 | M6: 1 | N6: 浦安 | O6: 750 | Q6: 1 | R6: 浦安 | S6: 250 | U6: 2 | V6: Ａ浦安 | W6: 1500 | AA6: 4021002 | AB6: 4022002 | AC6: 4023001 | AD6: 4024001 | AE6: 4025001 | AF6: 4026002
C7: 0 | G7: 0 | K7: 0 | O7: 0 | S7: 0 | W7: 0 | AA7: 0 | AB7: 0 | AC7: 0 | AD7: 0 | AE7: 0 | AF7: 0
A8: 3 | B8: 浦安（北 | C8: 2500 | E8: 5 | F8: Ａ浦安西 | G8: 150 | I8: 2 | J8: 新浦安舞 | K8: 2800 | M8: 3 | N8: 浦安舞浜 | O8: 400 | Q8: 2 | R8: Ｙ新浦安 | S8: 300 | U8: 4 | V8: Ａ浦安西 | W8: 950 | AA8: 4021003 | AB8: 4022005 | AC8: 4023002 | AD8: 4024003 | AE8: 4025002 | AF8: 4026004
B9: 部） | C9: 0 | F9: 部 | G9: 0 | J9: 浜 | K9: 0 | O9: 0 | R9: 舞浜 | S9: 0 | V9: 部 | W9: 0 | AA9: 0 | AB9: 0 | AC9: 0 | AD9: 0 | AE9: 0 | AF9: 0
A10: 0 | C10: 0 | E10: 6 | F10: Ａ浦安 | G10: 200 | I10: 0 | K10: 0 | M10: 4 | N10: Ａ浦安 | O10: 300 | Q10: 4 | R10: Ｙ新浦安 | S10: 250 | U10: 5 | V10: Ｙ新浦安 | W10: 950 | AA10: 0 | AB10: 4022006 | AC10: 0 | AD10: 4024004 | AE10: 4025004 | AF10: 4026005
C11: 0 | G11: 0 | K11: 0 | O11: 0 | S11: 0 | W11: 0 | AA11: 0 | AB11: 0 | AC11: 0 | AD11: 0 | AE11: 0 | AF11: 0
A12: 0 | C12: 0 | E12: 0 | G12: 0 | I12: 0 | K12: 0 | M12: 0 | O12: 0 | Q12: 5 | R12: Ａ浦安西 | S12: 50 | U12: 6 | V12: Ｙ新浦安 | W12: 900 | AA12: 0 | AB12: 0 | AC12: 0 | AD12: 0 | AE12: 4025005 | AF12: 4026006
C13: 0 | G13: 0 | K13: 0 | O13: 0 | R13: 部 | S13: 0 | V13: 舞浜 | W13: 0 | AA13: 0 | AB13: 0 | AC13: 0 | AD13: 0 | AE13: 0 | AF13: 0
B42: 小計 | C42: =C6+C8+C10+C12+C14+C16+C18+C20+C22+C24+C26+C28+C30+C32+C34+C36+C38+C40 -> 4600 | D42: =D6+D8+D10+D12+D14+D16+D18+D20+D22+D24+D26+D28+D30+D32+D34+D36+D38+D40 -> 0 | F42: 小計 | G42: =G6+G8+G10+G12+G14+G16+G18+G20+G22+G24+G26+G28+G30+G32+G34+G36+G38+G40 -> 700 | H42: =H6+H8+H10+H12+H14+H16+H18+H20+H22+H24+H26+H28+H30+H32+H34+H36+H38+H40 -> 0 | J42: 小計 | K42: =K6+K8+K10+K12+K14+K16+K18+K20+K22+K24+K26+K28+K30+K32+K34+K36+K38+K40 -> 9900 | L42: =L6+L8+L10+L12+L14+L16+L18+L20+L22+L24+L26+L28+L30+L32+L34+L36+L38+L40 -> 0 | N42: 小計 | O42: =O6+O8+O10+O12+O14+O16+O18+O20+O22+O24+O26+O28+O30+O32+O34+O36+O38+O40 -> 1450 | P42: =P6+P8+P10+P12+P14+P16+P18+P20+P22+P24+P26+P28+P30+P32+P34+P36+P38+P40 -> 0 | R42: 小計 | S42: =S6+S8+S10+S12+S14+S16+S18+S20+S22+S24+S26+S28+S30+S32+S34+S36+S38+S40 -> 850 | T42: =T6+T8+T10+T12+T14+T16+T18+T20+T22+T24+T26+T28+T30+T32+T34+T36+T38+T40 -> 0 | V42: 小計 | W42: =W6+W8+W10+W12+W14+W16+W18+W20+W22+W24+W26+W28+W30+W32+W34+W36+W38+W40 -> 4300 | X42: =X6+X8+X10+X12+X14+X16+X18+X20+X22+X24+X26+X28+X30+X32+X34+X36+X38+X40 -> 0
C43: =C7+C9+C11+C13+C15+C17+C19+C21+C23+C25+C27+C29+C31+C33+C35+C37+C39+C41 -> 0 | D43: =D7+D9+D11+D13+D15+D17+D19+D21+D23+D25+D27+D29+D31+D33+D35+D37+D39+D41 -> 0 | G43: =G7+G9+G11+G13+G15+G17+G19+G21+G23+G25+G27+G29+G31+G33+G35+G37+G39+G41 -> 0 | H43: =H7+H9+H11+H13+H15+H17+H19+H21+H23+H25+H27+H29+H31+H33+H35+H37+H39+H41 -> 0 | K43: =K7+K9+K11+K13+K15+K17+K19+K21+K23+K25+K27+K29+K31+K33+K35+K37+K39+K41 -> 0 | L43: =L7+L9+L11+L13+L15+L17+L19+L21+L23+L25+L27+L29+L31+L33+L35+L37+L39+L41 -> 0 | O43: =O7+O9+O11+O13+O15+O17+O19+O21+O23+O25+O27+O29+O31+O33+O35+O37+O39+O41 -> 0 | P43: =P7+P9+P11+P13+P15+P17+P19+P21+P23+P25+P27+P29+P31+P33+P35+P37+P39+P41 -> 0 | S43: =S7+S9+S11+S13+S15+S17+S19+S21+S23+S25+S27+S29+S31+S33+S35+S37+S39+S41 -> 0 | T43: =T7+T9+T11+T13+T15+T17+T19+T21+T23+T25+T27+T29+T31+T33+T35+T37+T39+T41 -> 0 | W43: =W7+W9+W11+W13+W15+W17+W19+W21+W23+W25+W27+W29+W31+W33+W35+W37+W39+W41 -> 0 | X43: =X7+X9+X11+X13+X15+X17+X19+X21+X23+X25+X27+X29+X31+X33+X35+X37+X39+X41 -> 0
F44: 合 計 | K44: =C42+C43+G42+G43+K42+K43+O42+O43+S42+S43+W42+W43 -> 21800 | N44: （ | O44: =D42+D43+H42+H43+L42+L43+P42+P43+T42+T43+X42+X43 -> 0 | Q44: ）
A45: Ｍ浦安南廃店⇒浦安（浦安北部）に統合

Sheet 船  橋  市
A2: スポンサー | H2: 品 名 | O2: 代理店 | V2: 担 当
A3: 折 込 日 | C3: 年 月 日 曜日 | H3: サイズ | L3: 総枚数 | R3: 備 考
B4: 0403 | C4: 船 橋 市 | AA4: 0403
B5: 朝日 | C5: 部数 | D5: 配布数 | F5: 毎日 | G5: 部数 | H5: 配布数 | J5: 読売 | K5: 部数 | L5: 配布数 | N5: 産経 | O5: 部数 | P5: 配布数 | R5: 東京 | S5: 部数 | T5: 配布数 | V5: 日経 | W5: 部数 | X5: 配布数
A6: 1 | B6: 船橋 | C6: 4850 | E6: 6 | F6: 新高根・ | G6: 300 | I6: 2 | J6: 船橋南部 | K6: 5250 | M6: 1 | N6: 船橋中央 | O6: 400 | Q6: 2 | R6: Ａ西船橋 | S6: 250 | U6: 2 | V6: Ａ西船橋 | W6: 700 | AA6: 4031001 | AB6: 4032006 | AC6: 4033002 | AD6: 4034001 | AE6: 4035002 | AF6: 4036002
C7: 0 | F7: 飯山満 | G7: 0 | K7: 0 | O7: 0 | R7: 南部 | S7: 0 | V7: 南部 | W7: 0 | AA7: 0 | AB7: 0 | AC7: 0 | AD7: 0 | AE7: 0 | AF7: 0
A8: 5 | B8: 西船橋南 | C8: 2100 | E8: 7 | F8: 北習志野 | G8: 200 | I8: 3 | J8: 船橋北部 | K8: 2750 | M8: 3 | N8: 夏見・馬 | O8: 350 | Q8: 3 | R8: Ａ船橋 | S8: 550 | U8: 4 | V8: Ａ薬円台 | W8: 1000 | AA8: 4031005 | AB8: 4032007 | AC8: 4033003 | AD8: 4034003 | AE8: 4035003 | AF8: 4036004
B9: 部 | C9: 0 | G9: 0 | K9: 0 | N9: 込沢 | O9: 0 | S9: 0 | W9: 0 | AA9: 0 | AB9: 0 | AC9: 0 | AD9: 0 | AE9: 0 | AF9: 0
A10: 6 | B10: 船橋東部 | C10: 1500 | E10: 8 | F10: 高根台 | G10: 250 | I10: 4 | J10: 船橋海神 | K10: 1750 | M10: 5 | N10: Ａ船橋東 | O10: 50 | Q10: 5 | R10: Ａ薬円台 | S10: 450 | U10: 5 | V10: Ａ北習志 | W10: 550 | AA10: 4031006 | AB10: 4032008 | AC10: 4033004 | AD10: 4034005 | AE10: 4035005 | AF10: 4036005
C11: 0 | G11: 0 | K11: 0 | N11: 部 | O11: 0 | S11: 0 | V11: 野 | W11: 0 | AA11: 0 | AB11: 0 | AC11: 0 | AD11: 0 | AE11: 0 | AF11: 0
A12: 8 | B12: 薬円台 | C12: 3900 | E12: 9 | F12: 薬円台 | G12: 150 | I12: 5 | J12: 船橋金杉 | K12: 3300 | M12: 11 | N12: Ｍ新高根 | O12: 400 | Q12: 6 | R12: Ａ北習志 | S12: 250 | U12: 6 | V12: Ａ津田沼 | W12: 850 | AA12: 4031008 | AB12: 4032009 | AC12: 4033005 | AD12: 4034011 | AE12: 4035006 | AF12: 4036006
C13: 0 | G13: 0 | K13: 0 | N13: ・飯山満 | O13: 0 | R13: 野 | S13: 0 | W13: 0 | AA13: 0 | AB13: 0 | AC13: 0 | AD13: 0 | AE13: 0 | AF13: 0
A14: 9 | B14: 北習志野 | C14: 2200 | E14: 10 | F14: Ｙ船橋馬 | G14: 100 | I14: 6 | J14: 西船橋 | K14: 2800 | M14: 12 | N14: Ｍ北習志 | O14: 250 | Q14: 7 | R14: Ａ船橋松 | S14: 250 | U14: 7 | V14: Ａ船橋芝 | W14: 250 | AA14: 4031009 | AB14: 4032010 | AC14: 4033006 | AD14: 4034012 | AE14: 4035007 | AF14: 4036007
C15: 0 | F15: 込沢西部 | G15: 0 | K15: 0 | N15: 野 | O15: 0 | R15: ヶ丘 | S15: 0 | V15: 山 | W15: 0 | AA15: 0 | AB15: 0 | AC15: 0 | AD15: 0 | AE15: 0 | AF15: 0
A16: 10 | B16: 船橋芝山 | C16: 2400 | E16: 11 | F16: Ｙ船橋馬 | G16: 50 | I16: 7 | J16: 高根台 | K16: 1700 | M16: 13 | N16: Ｍ高根台 | O16: 150 | Q16: 9 | R16: Ａ船橋芝 | S16: 300 | U16: 8 | V16: Ａ船橋松 | W16: 200 | AA16: 4031010 | AB16: 4032011 | AC16: 4033007 | AD16: 4034013 | AE16: 4035009 | AF16: 4036008
C17: 0 | F17: 込沢 | G17: 0 | K17: 0 | O17: 0 | R17: 山 | S17: 0 | V17: ヶ丘 | W17: 0 | AA17: 0 | AB17: 0 | AC17: 0 | AD17: 0 | AE17: 0 | AF17: 0
A18: 11 | B18: 船橋松ヶ | C18: 1450 | E18: 12 | F18: Ａ船橋 | G18: 600 | I18: 8 | J18: 高根台北 | K18: 1850 | M18: 15 | N18: Ａ西船橋 | O18: 300 | Q18: 10 | R18: Ａ船橋三 | S18: 100 | U18: 9 | V18: Ａ船橋小 | W18: 50 | AA18: 4031011 | AB18: 4032012 | AC18: 4033008 | AD18: 4034015 | AE18: 4035010 | AF18: 4036009
B19: 丘 | C19: 0 | G19: 0 | K19: 0 | N19: 南部 | O19: 0 | R19: 咲 | S19: 0 | V19: 室 | W19: 0 | AA19: 0 | AB19: 0 | AC19: 0 | AD19: 0 | AE19: 0 | AF19: 0
A20: 12 | B20: 船橋三咲 | C20: 1550 | E20: 13 | F20: Ａ西船橋 | G20: 150 | I20: 9 | J20: 薬円台 | K20: 4400 | M20: 16 | N20: Ａ船橋 | O20: 100 | Q20: 11 | R20: Ａ津田沼 | S20: 200 | U20: 15 | V20: Ｍ高根台 | W20: 100 | AA20: 4031012 | AB20: 4032013 | AC20: 4033009 | AD20: 4034016 | AE20: 4035011 | AF20: 4036015
C21: 0 | F21: 南部 | G21: 0 | K21: 0 | O21: 0 | S21: 0 | W21: 0 | AA21: 0 | AB21: 0 | AC21: 0 | AD21: 0 | AE21: 0 | AF21: 0
A22: 13 | B22: 津田沼 | C22: 2400 | E22: 14 | F22: Ａ船橋東 | G22: 200 | I22: 10 | J22: 習志野台 | K22: 4700 | M22: 18 | N22: Ａ船橋馬 | O22: 200 | Q22: 12 | R22: Ａ船橋東 | S22: 200 | U22: 16 | V22: Ｍ新高根 | W22: 150 | AA22: 4031013 | AB22: 4032014 | AC22: 4033010 | AD22: 4034018 | AE22: 4035012 | AF22: 4036016
C23: 0 | F23: 部 | G23: 0 | K23: 0 | N23: 込沢 | O23: 0 | R23: 部 | S23: 0 | V23: ・飯山満 | W23: 0 | AA23: 0 | AB23: 0 | AC23: 0 | AD23: 0 | AE23: 0 | AF23: 0
A24: 14 | B24: 船橋小室 | C24: 300 | E24: 17 | F24: Ａ船橋馬 | G24: 50 | I24: 12 | J24: 東船橋 | K24: 1550 | M24: 19 | N24: Ｙ船橋金 | O24: 50 | Q24: 13 | R24: Ａ船橋小 | S24: 50 | U24: 19 | V24: Ｙ船橋南 | W24: 750 | AA24: 4031014 | AB24: 4032017 | AC24: 4033012 | AD24: 4034019 | AE24: 4035013 | AF24: 4036019
C25: 0 | F25: 込沢 | G25: 0 | K25: 0 | N25: 杉 | O25: 0 | R25: 室 | S25: 0 | V25: 部 | W25: 0 | AA25: 0 | AB25: 0 | AC25: 0 | AD25: 0 | AE25: 0 | AF25: 0
A26: 15 | B26: 船橋馬込 | C26: 2100 | E26: 18 | F26: Ｙ船橋金 | G26: 100 | I26: 13 | J26: 新船橋・ | K26: 2250 | M26: 21 | N26: Ａ薬円台 | O26: 250 | Q26: 14 | R26: Ａ船橋馬 | S26: 150 | U26: 20 | V26: Ｙ東船橋 | W26: 350 | AA26: 4031015 | AB26: 4032018 | AC26: 4033013 | AD26: 4034021 | AE26: 4035014 | AF26: 4036020
B27: 沢 | C27: 0 | F27: 杉 | G27: 0 | J27: 塚田 | K27: 0 | O27: 0 | R27: 込沢 | S27: 0 | W27: 0 | AA27: 0 | AB27: 0 | AC27: 0 | AD27: 0 | AE27: 0 | AF27: 0
A28: 0 | C28: 0 | E28: 0 | G28: 0 | I28: 14 | J28: 津田沼北 | K28: 2500 | M28: 0 | O28: 0 | Q28: 20 | R28: Ｍ新高根 | S28: 100 | U28: 21 | V28: Ｙ船橋馬 | W28: 200 | AA28: 0 | AB28: 0 | AC28: 4033014 | AD28: 0 | AE28: 4035020 | AF28: 4036021
C29: 0 | G29: 0 | J29: 部 | K29: 0 | O29: 0 | R29: ・飯山満 | S29: 0 | V29: 込沢西部 | W29: 0 | AA29: 0 | AB29: 0 | AC29: 0 | AD29: 0 | AE29: 0 | AF29: 0
A30: 0 | C30: 0 | E30: 0 | G30: 0 | I30: 15 | J30: 船橋馬込 | K30: 1450 | M30: 0 | O30: 0 | Q30: 21 | R30: Ｙ船橋馬 | S30: 50 | U30: 22 | V30: Ｙ船橋馬 | W30: 150 | AA30: 0 | AB30: 0 | AC30: 4033015 | AD30: 0 | AE30: 4035021 | AF30: 4036022
C31: 0 | G31: 0 | J31: 沢西部 | K31: 0 | O31: 0 | R31: 込沢西部 | S31: 0 | V31: 込沢 | W31: 0 | AA31: 0 | AB31: 0 | AC31: 0 | AD31: 0 | AE31: 0 | AF31: 0
A32: 0 | C32: 0 | E32: 0 | G32: 0 | I32: 16 | J32: 船橋馬込 | K32: 1150 | M32: 0 | O32: 0 | Q32: 22 | R32: Ｙ船橋馬 | S32: 50 | U32: 24 | V32: Ａ船橋 | W32: 1500 | AA32: 0 | AB32: 0 | AC32: 4033016 | AD32: 0 | AE32: 4035022 | AF32: 4036024
C33: 0 | G33: 0 | J33: 沢 | K33: 0 | O33: 0 | R33: 込沢 | S33: 0 | W33: 0 | AA33: 0 | AB33: 0 | AC33: 0 | AD33: 0 | AE33: 0 | AF33: 0
A34: 0 | C34: 0 | E34: 0 | G34: 0 | I34: 0 | K34: 0 | M34: 0 | O34: 0 | Q34: 0 | S34: 0 | U34: 25 | V34: Ｙ薬円台 | W34: 100 | AA34: 0 | AB34: 0 | AC34: 0 | AD34: 0 | AE34: 0 | AF34: 4036025
C35: 0 | G35: 0 | K35: 0 | O35: 0 | S35: 0 | W35: 0 | AA35: 0 | AB35: 0 | AC35: 0 | AD35: 0 | AE35: 0 | AF35: 0
A36: 0 | C36: 0 | E36: 0 | G36: 0 | I36: 0 | K36: 0 | M36: 0 | O36: 0 | Q36: 0 | S36: 0 | U36: 26 | V36: Ｙ船橋北 | W36: 150 | AA36: 0 | AB36: 0 | AC36: 0 | AD36: 0 | AE36: 0 | AF36: 4036026
C37: 0 | G37: 0 | K37: 0 | O37: 0 | S37: 0 | V37: 部 | W37: 0 | AA37: 0 | AB37: 0 | AC37: 0 | AD37: 0 | AE37: 0 | AF37: 0
A38: 0 | C38: 0 | E38: 0 | G38: 0 | I38: 0 | K38: 0 | M38: 0 | O38: 0 | Q38: 0 | S38: 0 | U38: 27 | V38: Ｙ新船橋 | W38: 100 | AA38: 0 | AB38: 0 | AC38: 0 | AD38: 0 | AE38: 0 | AF38: 4036027
C39: 0 | G39: 0 | K39: 0 | O39: 0 | S39: 0 | V39: ・塚田 | W39: 0 | AA39: 0 | AB39: 0 | AC39: 0 | AD39: 0 | AE39: 0 | AF39: 0
A40: 0 | C40: 0 | E40: 0 | G40: 0 | I40: 0 | K40: 0 | M40: 0 | O40: 0 | Q40: 0 | S40: 0 | U40: 28 | V40: Ａ船橋東 | W40: 450 | AA40: 0 | AB40: 0 | AC40: 0 | AD40: 0 | AE40: 0 | AF40: 4036028
C41: 0 | G41: 0 | K41: 0 | O41: 0 | S41: 0 | V41: 部 | W41: 0 | AA41: 0 | AB41: 0 | AC41: 0 | AD41: 0 | AE41: 0 | AF41: 0
B42: 小計 | C42: =C6+C8+C10+C12+C14+C16+C18+C20+C22+C24+C26+C28+C30+C32+C34+C36+C38+C40 -> 24750 | D42: =D6+D8+D10+D12+D14+D16+D18+D20+D22+D24+D26+D28+D30+D32+D34+D36+D38+D40 -> 0 | F42: 小計 | G42: =G6+G8+G10+G12+G14+G16+G18+G20+G22+G24+G26+G28+G30+G32+G34+G36+G38+G40 -> 2150 | H42: =H6+H8+H10+H12+H14+H16+H18+H20+H22+H24+H26+H28+H30+H32+H34+H36+H38+H40 -> 0 | J42: 小計 | K42: =K6+K8+K10+K12+K14+K16+K18+K20+K22+K24+K26+K28+K30+K32+K34+K36+K38+K40 -> 37400 | L42: =L6+L8+L10+L12+L14+L16+L18+L20+L22+L24+L26+L28+L30+L32+L34+L36+L38+L40 -> 0 | N42: 小計 | O42: =O6+O8+O10+O12+O14+O16+O18+O20+O22+O24+O26+O28+O30+O32+O34+O36+O38+O40 -> 2500 | P42: =P6+P8+P10+P12+P14+P16+P18+P20+P22+P24+P26+P28+P30+P32+P34+P36+P38+P40 -> 0 | R42: 小計 | S42: =S6+S8+S10+S12+S14+S16+S18+S20+S22+S24+S26+S28+S30+S32+S34+S36+S38+S40 -> 2950 | T42: =T6+T8+T10+T12+T14+T16+T18+T20+T22+T24+T26+T28+T30+T32+T34+T36+T38+T40 -> 0 | V42: 小計 | W42: =W6+W8+W10+W12+W14+W16+W18+W20+W22+W24+W26+W28+W30+W32+W34+W36+W38+W40 -> 7600 | X42: =X6+X8+X10+X12+X14+X16+X18+X20+X22+X24+X26+X28+X30+X32+X34+X36+X38+X40 -> 0
C43: =C7+C9+C11+C13+C15+C17+C19+C21+C23+C25+C27+C29+C31+C33+C35+C37+C39+C41 -> 0 | D43: =D7+D9+D11+D13+D15+D17+D19+D21+D23+D25+D27+D29+D31+D33+D35+D37+D39+D41 -> 0 | G43: =G7+G9+G11+G13+G15+G17+G19+G21+G23+G25+G27+G29+G31+G33+G35+G37+G39+G41 -> 0 | H43: =H7+H9+H11+H13+H15+H17+H19+H21+H23+H25+H27+H29+H31+H33+H35+H37+H39+H41 -> 0 | K43: =K7+K9+K11+K13+K15+K17+K19+K21+K23+K25+K27+K29+K31+K33+K35+K37+K39+K41 -> 0 | L43: =L7+L9+L11+L13+L15+L17+L19+L21+L23+L25+L27+L29+L31+L33+L35+L37+L39+L41 -> 0 | O43: =O7+O9+O11+O13+O15+O17+O19+O21+O23+O25+O27+O29+O31+O33+O35+O37+O39+O41 -> 0 | P43: =P7+P9+P11+P13+P15+P17+P19+P21+P23+P25+P27+P29+P31+P33+P35+P37+P39+P41 -> 0 | S43: =S7+S9+S11+S13+S15+S17+S19+S21+S23+S25+S27+S29+S31+S33+S35+S37+S39+S41 -> 0 | T43: =T7+T9+T11+T13+T15+T17+T19+T21+T23+T25+T27+T29+T31+T33+T35+T37+T39+T41 -> 0 | W43: =W7+W9+W11+W13+W15+W17+W19+W21+W23+W25+W27+W29+W31+W33+W35+W37+W39+W41 -> 0 | X43: =X7+X9+X11+X13+X15+X17+X19+X21+X23+X25+X27+X29+X31+X33+X35+X37+X39+X41 -> 0
F44: 合 計 | N44: （ | Q44: ）

Sheet 船  橋  市(2)
A2: スポンサー | H2: 品 名 | O2: 代理店 | V2: 担 当
A3: 折 込 日 | C3: 年 月 日 曜日 | H3: サイズ | L3: 総枚数 | R3: 備 考
B4: 0403 | C4: 船 橋 市 | AA4: 0403
B5: 朝日 | C5: 部数 | D5: 配布数 | F5: 毎日 | G5: 部数 | H5: 配布数 | J5: 読売 | K5: 部数 | L5: 配布数 | N5: 産経 | O5: 部数 | P5: 配布数 | R5: 東京 | S5: 部数 | T5: 配布数 | V5: 日経 | W5: 部数 | X5: 配布数
A6: 0 | C6: 0 | E6: 0 | G6: 0 | I6: 0 | K6: 0 | M6: 0 | O6: 0 | Q6: 0 | S6: 0 | U6: 30 | V6: Ａ船橋馬 | W6: 100 | AA6: 0 | AB6: 0 | AC6: 0 | AD6: 0 | AE6: 0 | AF6: 4036030
C7: 0 | G7: 0 | K7: 0 | O7: 0 | S7: 0 | V7: 込沢 | W7: 0 | AA7: 0 | AB7: 0 | AC7: 0 | AD7: 0 | AE7: 0 | AF7: 0
A8: 0 | C8: 0 | E8: 0 | G8: 0 | I8: 0 | K8: 0 | M8: 0 | O8: 0 | Q8: 0 | S8: 0 | U8: 31 | V8: Ｙ船橋金 | W8: 50 | AA8: 0 | AB8: 0 | AC8: 0 | AD8: 0 | AE8: 0 | AF8: 4036031
C9: 0 | G9: 0 | K9: 0 | O9: 0 | S9: 0 | V9: 杉 | W9: 0 | AA9: 0 | AB9: 0 | AC9: 0 | AD9: 0 | AE9: 0 | AF9: 0
B42: 小計 | C42: =C6+C8+C10+C12+C14+C16+C18+C20+C22+C24+C26+C28+C30+C32+C34+C36+C38+C40 -> 0 | D42: =D6+D8+D10+D12+D14+D16+D18+D20+D22+D24+D26+D28+D30+D32+D34+D36+D38+D40 -> 0 | F42: 小計 | G42: =G6+G8+G10+G12+G14+G16+G18+G20+G22+G24+G26+G28+G30+G32+G34+G36+G38+G40 -> 0 | H42: =H6+H8+H10+H12+H14+H16+H18+H20+H22+H24+H26+H28+H30+H32+H34+H36+H38+H40 -> 0 | J42: 小計 | K42: =K6+K8+K10+K12+K14+K16+K18+K20+K22+K24+K26+K28+K30+K32+K34+K36+K38+K40 -> 0 | L42: =L6+L8+L10+L12+L14+L16+L18+L20+L22+L24+L26+L28+L30+L32+L34+L36+L38+L40 -> 0 | N42: 小計 | O42: =O6+O8+O10+O12+O14+O16+O18+O20+O22+O24+O26+O28+O30+O32+O34+O36+O38+O40 -> 0 | P42: =P6+P8+P10+P12+P14+P16+P18+P20+P22+P24+P26+P28+P30+P32+P34+P36+P38+P40 -> 0 | R42: 小計 | S42: =S6+S8+S10+S12+S14+S16+S18+S20+S22+S24+S26+S28+S30+S32+S34+S36+S38+S40 -> 0 | T42: =T6+T8+T10+T12+T14+T16+T18+T20+T22+T24+T26+T28+T30+T32+T34+T36+T38+T40 -> 0 | V42: 小計 | W42: =W6+W8+W10+W12+W14+W16+W18+W20+W22+W24+W26+W28+W30+W32+W34+W36+W38+W40 -> 150 | X42: =X6+X8+X10+X12+X14+X16+X18+X20+X22+X24+X26+X28+X30+X32+X34+X36+X38+X40 -> 0
C43: =C7+C9+C11+C13+C15+C17+C19+C21+C23+C25+C27+C29+C31+C33+C35+C37+C39+C41 -> 0 | D43: =D7+D9+D11+D13+D15+D17+D19+D21+D23+D25+D27+D29+D31+D33+D35+D37+D39+D41 -> 0 | G43: =G7+G9+G11+G13+G15+G17+G19+G21+G23+G25+G27+G29+G31+G33+G35+G37+G39+G41 -> 0 | H43: =H7+H9+H11+H13+H15+H17+H19+H21+H23+H25+H27+H29+H31+H33+H35+H37+H39+H41 -> 0 | K43: =K7+K9+K11+K13+K15+K17+K19+K21+K23+K25+K27+K29+K31+K33+K35+K37+K39+K41 -> 0 | L43: =L7+L9+L11+L13+L15+L17+L19+L21+L23+L25+L27+L29+L31+L33+L35+L37+L39+L41 -> 0 | O43: =O7+O9+O11+O13+O15+O17+O19+O21+O23+O25+O27+O29+O31+O33+O35+O37+O39+O41 -> 0 | P43: =P7+P9+P11+P13+P15+P17+P19+P21+P23+P25+P27+P29+P31+P33+P35+P37+P39+P41 -> 0 | S43: =S7+S9+S11+S13+S15+S17+S19+S21+S23+S25+S27+S29+S31+S33+S35+S37+S39+S41 -> 0 | T43: =T7+T9+T11+T13+T15+T17+T19+T21+T23+T25+T27+T29+T31+T33+T35+T37+T39+T41 -> 0 | W43: =W7+W9+W11+W13+W15+W17+W19+W21+W23+W25+W27+W29+W31+W33+W35+W37+W39+W41 -> 0 | X43: =X7+X9+X11+X13+X15+X17+X19+X21+X23+X25+X27+X29+X31+X33+X35+X37+X39+X41 -> 0
B44: 合計 | C44: ='船 橋 市'!C42 + '船 橋 市(2)'!C42 -> 24750 | D44: ='船 橋 市'!D42 + '船 橋 市(2)'!D42 -> 0 | F44: 合計 | G44: ='船 橋 市'!G42 + '船 橋 市(2)'!G42 -> 2150 | H44: ='船 橋 市'!H42 + '船 橋 市(2)'!H42 -> 0 | J44: 合計 | K44: ='船 橋 市'!K42 + '船 橋 市(2)'!K42 -> 37400 | L44: ='船 橋 市'!L42 + '船 橋 市(2)'!L42 -> 0 | N44: 合計 | O44: ='船 橋 市'!O42 + '船 橋 市(2)'!O42 -> 2500 | P44: ='船 橋 市'!P42 + '船 橋 市(2)'!P42 -> 0 | R44: 合計 | S44: ='船 橋 市'!S42 + '船 橋 市(2)'!S42 -> 2950 | T44: ='船 橋 市'!T42 + '船 橋 市(2)'!T42 -> 0 | V44: 合計 | W44: ='船 橋 市'!W42 + '船 橋 市(2)'!W42 -> 7750 | X44: ='船 橋 市'!X42 + '船 橋 市(2)'!X42 -> 0
C45: ='船 橋 市'!C43 + '船 橋 市(2)'!C43 -> 0 | D45: ='船 橋 市'!D43 + '船 橋 市(2)'!D43 -> 0 | G45: ='船 橋 市'!G43 + '船 橋 市(2)'!G43 -> 0 | H45: ='船 橋 市'!H43 + '船 橋 市(2)'!H43 -> 0 | K45: ='船 橋 市'!K43 + '船 橋 市(2)'!K43 -> 0 | L45: ='船 橋 市'!L43 + '船 橋 市(2)'!L43 -> 0 | O45: ='船 橋 市'!O43 + '船 橋 市(2)'!O43 -> 0 | P45: ='船 橋 市'!P43 + '船 橋 市(2)'!P43 -> 0 | S45: ='船 橋 市'!S43 + '船 橋 市(2)'!S43 -> 0 | T45: ='船 橋 市'!T43 + '船 橋 市(2)'!T43 -> 0 | W45: ='船 橋 市'!W43 + '船 橋 市(2)'!W43 -> 0 | X45: ='船 橋 市'!X43 + '船 橋 市(2)'!X43 -> 0
F46: 合 計 | K46: =C44+C45+G44+G45+K44+K45+O44+O45+S44+S45+W44+W45 -> 77500 | N46: （ | O46: =D44+D45+H44+H45+L44+L45+P44+P45+T44+T45+X44+X45 -> 0 | Q46: ）

Sheet 八千代市
A2: スポンサー | H2: 品 名 | O2: 代理店 | V2: 担 当
A3: 折 込 日 | C3: 年 月 日 曜日 | H3: サイズ | L3: 総枚数 | R3: 備 考
B4: 0404 | C4: 八千代市 | AA4: 0404
B5: 朝日 | C5: 部数 | D5: 配布数 | F5: 毎日 | G5: 部数 | H5: 配布数 | J5: 読売 | K5: 部数 | L5: 配布数 | N5: 産経 | O5: 部数 | P5: 配布数 | R5: 東京 | S5: 部数 | T5: 配布数 | V5: 日経 | W5: 部数 | X5: 配布数
A6: 2 | B6: 八千代台 | C6: 3200 | E6: 1 | F6: 大和田 | G6: 1300 | I6: 1 | J6: 八千代大 | K6: 1700 | M6: 1 | N6: Ｍ大和田 | O6: 400 | Q6: 1 | R6: Ａ八千代 | S6: 450 | U6: 1 | V6: Ｍ大和田 | W6: 1000 | AA6: 4041002 | AB6: 4042001 | AC6: 4043001 | AD6: 4044001 | AE6: 4045001 | AF6: 4046001
B7: ・花見川 | C7: 0 | G7: 0 | J7: 和田 | K7: 0 | O7: 0 | R7: 台花見川 | S7: 0 | W7: 0 | AA7: 0 | AB7: 0 | AC7: 0 | AD7: 0 | AE7: 0 | AF7: 0
A8: 3 | B8: 勝田台村 | C8: 3700 | E8: 2 | F8: 八千代台 | G8: 300 | I8: 2 | J8: 八千代緑 | K8: 1950 | M8: 2 | N8: Ｍ八千代 | O8: 250 | Q8: 3 | R8: Ａ八千代 | S8: 150 | U8: 3 | V8: Ｍ八千代 | W8: 650 | AA8: 4041003 | AB8: 4042002 | AC8: 4043002 | AD8: 4044002 | AE8: 4045003 | AF8: 4046003
B9: 上 | C9: 0 | G9: 0 | J9: ヶ丘 | K9: 0 | N9: 台 | O9: 0 | R9: 緑が丘 | S9: 0 | V9: 緑ヶ丘 | W9: 0 | AA9: 0 | AB9: 0 | AC9: 0 | AD9: 0 | AE9: 0 | AF9: 0
A10: 4 | B10: 八千代緑 | C10: 1700 | E10: 4 | F10: 八千代緑 | G10: 350 | I10: 3 | J10: 八千代台 | K10: 1450 | M10: 4 | N10: Ｍ八千代 | O10: 250 | Q10: 4 | R10: Ａ勝田台 | S10: 400 | U10: 4 | V10: Ｍ勝田台 | W10: 600 | AA10: 4041004 | AB10: 4042004 | AC10: 4043003 | AD10: 4044004 | AE10: 4045004 | AF10: 4046004
B11: が丘 | C11: 0 | F11: ヶ丘 | G11: 0 | K11: 0 | N11: 緑ヶ丘 | O11: 0 | R11: 村上 | S11: 0 | V11: 村上 | W11: 0 | AA11: 0 | AB11: 0 | AC11: 0 | AD11: 0 | AE11: 0 | AF11: 0
A12: 6 | B12: ゆりのき | C12: 1500 | E12: 5 | F12: 勝田台村 | G12: 500 | I12: 4 | J12: 勝田台 | K12: 1500 | M12: 5 | N12: Ｍ勝田台 | O12: 350 | Q12: 6 | R12: Ａゆりの | S12: 150 | U12: 5 | V12: Ｙ八千代 | W12: 250 | AA12: 4041006 | AB12: 4042005 | AC12: 4043004 | AD12: 4044005 | AE12: 4045006 | AF12: 4046005
B13: 台 | C13: 0 | F13: 上 | G13: 0 | K13: 0 | N13: 村上 | O13: 0 | R13: き台 | S13: 0 | V13: 台 | W13: 0 | AA13: 0 | AB13: 0 | AC13: 0 | AD13: 0 | AE13: 0 | AF13: 0
A14: 0 | C14: 0 | E14: 7 | F14: Ａ八千代 | G14: 100 | I14: 6 | J14: 八千代村 | K14: 1700 | M14: 7 | N14: Ａ八千代 | O14: 50 | Q14: 8 | R14: Ｙ八千代 | S14: 50 | U14: 7 | V14: Ａ八千代 | W14: 250 | AA14: 0 | AB14: 4042007 | AC14: 4043006 | AD14: 4044007 | AE14: 4045008 | AF14: 4046007
C15: 0 | F15: 台花見川 | G15: 0 | J15: 上 | K15: 0 | N15: 台花見川 | O15: 0 | R15: 村上 | S15: 0 | V15: 緑が丘 | W15: 0 | AA15: 0 | AB15: 0 | AC15: 0 | AD15: 0 | AE15: 0 | AF15: 0
A16: 0 | C16: 0 | E16: 8 | F16: Ｙ八千代 | G16: 50 | I16: 7 | J16: ゆりのき | K16: 3500 | M16: 8 | N16: Ｙ八千代 | O16: 50 | Q16: 0 | S16: 0 | U16: 8 | V16: Ｙ八千代 | W16: 100 | AA16: 0 | AB16: 4042008 | AC16: 4043007 | AD16: 4044008 | AE16: 0 | AF16: 4046008
C17: 0 | F17: 村上 | G17: 0 | J17: 高津 | K17: 0 | N17: 村上 | O17: 0 | S17: 0 | V17: 村上 | W17: 0 | AA17: 0 | AB17: 0 | AC17: 0 | AD17: 0 | AE17: 0 | AF17: 0
B42: 小計 | C42: =C6+C8+C10+C12+C14+C16+C18+C20+C22+C24+C26+C28+C30+C32+C34+C36+C38+C40 -> 10100 | D42: =D6+D8+D10+D12+D14+D16+D18+D20+D22+D24+D26+D28+D30+D32+D34+D36+D38+D40 -> 0 | F42: 小計 | G42: =G6+G8+G10+G12+G14+G16+G18+G20+G22+G24+G26+G28+G30+G32+G34+G36+G38+G40 -> 2600 | H42: =H6+H8+H10+H12+H14+H16+H18+H20+H22+H24+H26+H28+H30+H32+H34+H36+H38+H40 -> 0 | J42: 小計 | K42: =K6+K8+K10+K12+K14+K16+K18+K20+K22+K24+K26+K28+K30+K32+K34+K36+K38+K40 -> 11800 | L42: =L6+L8+L10+L12+L14+L16+L18+L20+L22+L24+L26+L28+L30+L32+L34+L36+L38+L40 -> 0 | N42: 小計 | O42: =O6+O8+O10+O12+O14+O16+O18+O20+O22+O24+O26+O28+O30+O32+O34+O36+O38+O40 -> 1350 | P42: =P6+P8+P10+P12+P14+P16+P18+P20+P22+P24+P26+P28+P30+P32+P34+P36+P38+P40 -> 0 | R42: 小計 | S42: =S6+S8+S10+S12+S14+S16+S18+S20+S22+S24+S26+S28+S30+S32+S34+S36+S38+S40 -> 1200 | T42: =T6+T8+T10+T12+T14+T16+T18+T20+T22+T24+T26+T28+T30+T32+T34+T36+T38+T40 -> 0 | V42: 小計 | W42: =W6+W8+W10+W12+W14+W16+W18+W20+W22+W24+W26+W28+W30+W32+W34+W36+W38+W40 -> 2850 | X42: =X6+X8+X10+X12+X14+X16+X18+X20+X22+X24+X26+X28+X30+X32+X34+X36+X38+X40 -> 0
C43: =C7+C9+C11+C13+C15+C17+C19+C21+C23+C25+C27+C29+C31+C33+C35+C37+C39+C41 -> 0 | D43: =D7+D9+D11+D13+D15+D17+D19+D21+D23+D25+D27+D29+D31+D33+D35+D37+D39+D41 -> 0 | G43: =G7+G9+G11+G13+G15+G17+G19+G21+G23+G25+G27+G29+G31+G33+G35+G37+G39+G41 -> 0 | H43: =H7+H9+H11+H13+H15+H17+H19+H21+H23+H25+H27+H29+H31+H33+H35+H37+H39+H41 -> 0 | K43: =K7+K9+K11+K13+K15+K17+K19+K21+K23+K25+K27+K29+K31+K33+K35+K37+K39+K41 -> 0 | L43: =L7+L9+L11+L13+L15+L17+L19+L21+L23+L25+L27+L29+L31+L33+L35+L37+L39+L41 -> 0 | O43: =O7+O9+O11+O13+O15+O17+O19+O21+O23+O25+O27+O29+O31+O33+O35+O37+O39+O41 -> 0 | P43: =P7+P9+P11+P13+P15+P17+P19+P21+P23+P25+P27+P29+P31+P33+P35+P37+P39+P41 -> 0 | S43: =S7+S9+S11+S13+S15+S17+S19+S21+S23+S25+S27+S29+S31+S33+S35+S37+S39+S41 -> 0 | T43: =T7+T9+T11+T13+T15+T17+T19+T21+T23+T25+T27+T29+T31+T33+T35+T37+T39+T41 -> 0 | W43: =W7+W9+W11+W13+W15+W17+W19+W21+W23+W25+W27+W29+W31+W33+W35+W37+W39+W41 -> 0 | X43: =X7+X9+X11+X13+X15+X17+X19+X21+X23+X25+X27+X29+X31+X33+X35+X37+X39+X41 -> 0
F44: 合 計 | K44: =C42+C43+G42+G43+K42+K43+O42+O43+S42+S43+W42+W43 -> 29900 | N44: （ | O44: =D42+D43+H42+H43+L42+L43+P42+P43+T42+T43+X42+X43 -> 0 | Q44: ）

Sheet 習志野市
A2: スポンサー | H2: 品 名 | O2: 代理店 | V2: 担 当
A3: 折 込 日 | C3: 年 月 日 曜日 | H3: サイズ | L3: 総枚数 | R3: 備 考
B4: 0405 | C4: 習志野市 | AA4: 0405
B5: 朝日 | C5: 部数 | D5: 配布数 | F5: 毎日 | G5: 部数 | H5: 配布数 | J5: 読売 | K5: 部数 | L5: 配布数 | N5: 産経 | O5: 部数 | P5: 配布数 | R5: 東京 | S5: 部数 | T5: 配布数 | V5: 日経 | W5: 部数 | X5: 配布数
A6: 1 | B6: 習志野 | C6: 2300 | E6: 1 | F6: 津田沼 | G6: 550 | I6: 1 | J6: 津田沼南 | K6: 3550 | M6: 1 | N6: Ａ習志野 | O6: 250 | Q6: 1 | R6: Ａ習志野 | S6: 200 | U6: 1 | V6: Ａ習志野 | W6: 500 | AA6: 4051001 | AB6: 4052001 | AC6: 4053001 | AD6: 4054001 | AE6: 4055001 | AF6: 4056001
C7: 0 | G7: 0 | J7: 部 | K7: 0 | O7: 0 | S7: 0 | W7: 0 | AA7: 0 | AB7: 0 | AC7: 0 | AD7: 0 | AE7: 0 | AF7: 0
A8: 4 | B8: 津田沼南 | C8: 2750 | E8: 3 | F8: 大久保東 | G8: 450 | I8: 3 | J8: 実籾 | K8: 3250 | M8: 4 | N8: Ｍ津田沼 | O8: 300 | Q8: 2 | R8: Ａ津田沼 | S8: 300 | U8: 3 | V8: Ａ津田沼 | W8: 1050 | AA8: 4051004 | AB8: 4052003 | AC8: 4053003 | AD8: 4054004 | AE8: 4055002 | AF8: 4056003
B9: 部 | C9: 0 | F9: 部 | G9: 0 | K9: 0 | O9: 0 | R9: 東部 | S9: 0 | V9: 南部 | W9: 0 | AA9: 0 | AB9: 0 | AC9: 0 | AD9: 0 | AE9: 0 | AF9: 0
A10: 5 | B10: 津田沼東 | C10: 2900 | E10: 4 | F10: 大久保西 | G10: 500 | I10: 4 | J10: 新習志野 | K10: 1800 | M10: 5 | N10: Ａ津田沼 | O10: 200 | Q10: 5 | R10: Ａ津田沼 | S10: 250 | U10: 5 | V10: Ａ津田沼 | W10: 950 | AA10: 4051005 | AB10: 4052004 | AC10: 4053004 | AD10: 4054005 | AE10: 4055005 | AF10: 4056005
B11: 部 | C11: 0 | F11: 部 | G11: 0 | J11: （袖ケ浦 | K11: 0 | N11: 南部 | O11: 0 | R11: 南部 | S11: 0 | V11: 東部 | W11: 0 | AA11: 0 | AB11: 0 | AC11: 0 | AD11: 0 | AE11: 0 | AF11: 0
A12: 0 | C12: 0 | E12: 5 | F12: Ａ習志野 | G12: 250 | I12: 0 | K12: 0 | M12: 6 | N12: Ｍ大久保 | O12: 150 | Q12: 0 | S12: 0 | U12: 6 | V12: Ｙ津田沼 | W12: 0 | AA12: 0 | AB12: 4052005 | AC12: 0 | AD12: 4054006 | AE12: 0 | AF12: 4056006
C13: 0 | G13: 0 | K13: 0 | N13: 東部 | O13: 0 | S13: 0 | V13: 南部 | W13: 0 | AA13: 0 | AB13: 0 | AC13: 0 | AD13: 0 | AE13: 0 | AF13: 0
A14: 0 | C14: 0 | E14: 0 | G14: 0 | I14: 0 | K14: 0 | M14: 7 | N14: Ｍ大久保 | O14: 200 | Q14: 0 | S14: 0 | U14: 0 | W14: 0 | AA14: 0 | AB14: 0 | AC14: 0 | AD14: 4054007 | AE14: 0 | AF14: 0
C15: 0 | G15: 0 | K15: 0 | N15: 西部 | O15: 0 | S15: 0 | W15: 0 | AA15: 0 | AB15: 0 | AC15: 0 | AD15: 0 | AE15: 0 | AF15: 0
A16: 0 | C16: 0 | E16: 0 | G16: 0 | I16: 0 | K16: 0 | M16: 9 | N16: Ａ津田沼 | O16: 50 | Q16: 0 | S16: 0 | U16: 0 | W16: 0 | AA16: 0 | AB16: 0 | AC16: 0 | AD16: 4054009 | AE16: 0 | AF16: 0
C17: 0 | G17: 0 | K17: 0 | N17: 東部 | O17: 0 | S17: 0 | W17: 0 | AA17: 0 | AB17: 0 | AC17: 0 | AD17: 0 | AE17: 0 | AF17: 0
B42: 小計 | C42: =C6+C8+C10+C12+C14+C16+C18+C20+C22+C24+C26+C28+C30+C32+C34+C36+C38+C40 -> 7950 | D42: =D6+D8+D10+D12+D14+D16+D18+D20+D22+D24+D26+D28+D30+D32+D34+D36+D38+D40 -> 0 | F42: 小計 | G42: =G6+G8+G10+G12+G14+G16+G18+G20+G22+G24+G26+G28+G30+G32+G34+G36+G38+G40 -> 1750 | H42: =H6+H8+H10+H12+H14+H16+H18+H20+H22+H24+H26+H28+H30+H32+H34+H36+H38+H40 -> 0 | J42: 小計 | K42: =K6+K8+K10+K12+K14+K16+K18+K20+K22+K24+K26+K28+K30+K32+K34+K36+K38+K40 -> 8600 | L42: =L6+L8+L10+L12+L14+L16+L18+L20+L22+L24+L26+L28+L30+L32+L34+L36+L38+L40 -> 0 | N42: 小計 | O42: =O6+O8+O10+O12+O14+O16+O18+O20+O22+O24+O26+O28+O30+O32+O34+O36+O38+O40 -> 1150 | P42: =P6+P8+P10+P12+P14+P16+P18+P20+P22+P24+P26+P28+P30+P32+P34+P36+P38+P40 -> 0 | R42: 小計 | S42: =S6+S8+S10+S12+S14+S16+S18+S20+S22+S24+S26+S28+S30+S32+S34+S36+S38+S40 -> 750 | T42: =T6+T8+T10+T12+T14+T16+T18+T20+T22+T24+T26+T28+T30+T32+T34+T36+T38+T40 -> 0 | V42: 小計 | W42: =W6+W8+W10+W12+W14+W16+W18+W20+W22+W24+W26+W28+W30+W32+W34+W36+W38+W40 -> 2500 | X42: =X6+X8+X10+X12+X14+X16+X18+X20+X22+X24+X26+X28+X30+X32+X34+X36+X38+X40 -> 0
C43: =C7+C9+C11+C13+C15+C17+C19+C21+C23+C25+C27+C29+C31+C33+C35+C37+C39+C41 -> 0 | D43: =D7+D9+D11+D13+D15+D17+D19+D21+D23+D25+D27+D29+D31+D33+D35+D37+D39+D41 -> 0 | G43: =G7+G9+G11+G13+G15+G17+G19+G21+G23+G25+G27+G29+G31+G33+G35+G37+G39+G41 -> 0 | H43: =H7+H9+H11+H13+H15+H17+H19+H21+H23+H25+H27+H29+H31+H33+H35+H37+H39+H41 -> 0 | K43: =K7+K9+K11+K13+K15+K17+K19+K21+K23+K25+K27+K29+K31+K33+K35+K37+K39+K41 -> 0 | L43: =L7+L9+L11+L13+L15+L17+L19+L21+L23+L25+L27+L29+L31+L33+L35+L37+L39+L41 -> 0 | O43: =O7+O9+O11+O13+O15+O17+O19+O21+O23+O25+O27+O29+O31+O33+O35+O37+O39+O41 -> 0 | P43: =P7+P9+P11+P13+P15+P17+P19+P21+P23+P25+P27+P29+P31+P33+P35+P37+P39+P41 -> 0 | S43: =S7+S9+S11+S13+S15+S17+S19+S21+S23+S25+S27+S29+S31+S33+S35+S37+S39+S41 -> 0 | T43: =T7+T9+T11+T13+T15+T17+T19+T21+T23+T25+T27+T29+T31+T33+T35+T37+T39+T41 -> 0 | W43: =W7+W9+W11+W13+W15+W17+W19+W21+W23+W25+W27+W29+W31+W33+W35+W37+W39+W41 -> 0 | X43: =X7+X9+X11+X13+X15+X17+X19+X21+X23+X25+X27+X29+X31+X33+X35+X37+X39+X41 -> 0
F44: 合 計 | K44: =C42+C43+G42+G43+K42+K43+O42+O43+S42+S43+W42+W43 -> 22700 | N44: （ | O44: =D42+D43+H42+H43+L42+L43+P42+P43+T42+T43+X42+X43 -> 0 | Q44: ）
A45: Ｍ南津田沼⇒習志野南部に名変

Sheet 千葉市・花見川区
A2: スポンサー | H2: 品 名 | O2: 代理店 | V2: 担 当
A3: 折 込 日 | C3: 年 月 日 曜日 | H3: サイズ | L3: 総枚数 | R3: 備 考
B4: 0406 | C4: 千葉市・花見川区 | AA4: 0406
B5: 朝日 | C5: 部数 | D5: 配布数 | F5: 毎日 | G5: 部数 | H5: 配布数 | J5: 読売 | K5: 部数 | L5: 配布数 | N5: 産経 | O5: 部数 | P5: 配布数 | R5: 東京 | S5: 部数 | T5: 配布数 | V5: 日経 | W5: 部数 | X5: 配布数
A6: 3 | B6: 検見川北 | C6: 1750 | E6: 1 | F6: 幕張新都 | G6: 150 | I6: 1 | J6: 幕張 | K6: 3900 | M6: 1 | N6: Ｍ幕張北 | O6: 50 | Q6: 3 | R6: Ａ検見川 | S6: 200 | U6: 3 | V6: Ａ検見川 | W6: 150 | AA6: 4061003 | AB6: 4062001 | AC6: 4063001 | AD6: 4064001 | AE6: 4065003 | AF6: 4066003
B7: 部 | C7: 0 | F7: 心 | G7: 0 | K7: 0 | N7: 部 | O7: 0 | R7: 東部 | S7: 0 | V7: 東部 | W7: 0 | AA7: 0 | AB7: 0 | AC7: 0 | AD7: 0 | AE7: 0 | AF7: 0
A8: 6 | B8: 検見川東 | C8: 1350 | E8: 2 | F8: 幕張北部 | G8: 250 | I8: 3 | J8: 検見川 | K8: 3900 | M8: 3 | N8: Ｙ幕張 | O8: 250 | Q8: 5 | R8: Ａ検見川 | S8: 150 | U8: 4 | V8: Ａ検見川 | W8: 250 | AA8: 4061006 | AB8: 4062002 | AC8: 4063003 | AD8: 4064003 | AE8: 4065005 | AF8: 4066004
B9: 部 | C9: 0 | G9: 0 | K9: 0 | O9: 0 | R9: 北部 | S9: 0 | V9: 北部 | W9: 0 | AA9: 0 | AB9: 0 | AC9: 0 | AD9: 0 | AE9: 0 | AF9: 0
A10: 0 | C10: 0 | E10: 5 | F10: Ａ検見川 | G10: 50 | I10: 6 | J10: 花見川 | K10: 5750 | M10: 5 | N10: Ｙ花見川 | O10: 150 | Q10: 0 | S10: 0 | U10: 7 | V10: Ｙ検見川 | W10: 450 | AA10: 0 | AB10: 4062005 | AC10: 4063006 | AD10: 4064005 | AE10: 0 | AF10: 4066007
C11: 0 | F11: 北部 | G11: 0 | K11: 0 | O11: 0 | S11: 0 | W11: 0 | AA11: 0 | AB11: 0 | AC11: 0 | AD11: 0 | AE11: 0 | AF11: 0
A12: 0 | C12: 0 | E12: 0 | G12: 0 | I12: 7 | J12: 幕張本郷 | K12: 2550 | M12: 6 | N12: Ｙ幕張第 | O12: 50 | Q12: 0 | S12: 0 | U12: 10 | V12: Ｙ花見川 | W12: 300 | AA12: 0 | AB12: 0 | AC12: 4063007 | AD12: 4064006 | AE12: 0 | AF12: 4066010
C13: 0 | G13: 0 | K13: 0 | N13: 二 | O13: 0 | S13: 0 | W13: 0 | AA13: 0 | AB13: 0 | AC13: 0 | AD13: 0 | AE13: 0 | AF13: 0
A14: 0 | C14: 0 | E14: 0 | G14: 0 | I14: 8 | J14: 幕張第二 | K14: 1400 | M14: 8 | N14: Ａ検見川 | O14: 50 | Q14: 0 | S14: 0 | U14: 0 | W14: 0 | AA14: 0 | AB14: 0 | AC14: 4063008 | AD14: 4064008 | AE14: 0 | AF14: 0
C15: 0 | G15: 0 | K15: 0 | N15: 北部 | O15: 0 | S15: 0 | W15: 0 | AA15: 0 | AB15: 0 | AC15: 0 | AD15: 0 | AE15: 0 | AF15: 0
A16: 0 | C16: 0 | E16: 0 | G16: 0 | I16: 0 | K16: 0 | M16: 10 | N16: Ｙ検見川 | O16: 0 | Q16: 0 | S16: 0 | U16: 0 | W16: 0 | AA16: 0 | AB16: 0 | AC16: 0 | AD16: 4064010 | AE16: 0 | AF16: 0
C17: 0 | G17: 0 | K17: 0 | O17: 0 | S17: 0 | W17: 0 | AA17: 0 | AB17: 0 | AC17: 0 | AD17: 0 | AE17: 0 | AF17: 0
B42: 小計 | C42: =C6+C8+C10+C12+C14+C16+C18+C20+C22+C24+C26+C28+C30+C32+C34+C36+C38+C40 -> 3100 | D42: =D6+D8+D10+D12+D14+D16+D18+D20+D22+D24+D26+D28+D30+D32+D34+D36+D38+D40 -> 0 | F42: 小計 | G42: =G6+G8+G10+G12+G14+G16+G18+G20+G22+G24+G26+G28+G30+G32+G34+G36+G38+G40 -> 450 | H42: =H6+H8+H10+H12+H14+H16+H18+H20+H22+H24+H26+H28+H30+H32+H34+H36+H38+H40 -> 0 | J42: 小計 | K42: =K6+K8+K10+K12+K14+K16+K18+K20+K22+K24+K26+K28+K30+K32+K34+K36+K38+K40 -> 17500 | L42: =L6+L8+L10+L12+L14+L16+L18+L20+L22+L24+L26+L28+L30+L32+L34+L36+L38+L40 -> 0 | N42: 小計 | O42: =O6+O8+O10+O12+O14+O16+O18+O20+O22+O24+O26+O28+O30+O32+O34+O36+O38+O40 -> 550 | P42: =P6+P8+P10+P12+P14+P16+P18+P20+P22+P24+P26+P28+P30+P32+P34+P36+P38+P40 -> 0 | R42: 小計 | S42: =S6+S8+S10+S12+S14+S16+S18+S20+S22+S24+S26+S28+S30+S32+S34+S36+S38+S40 -> 350 | T42: =T6+T8+T10+T12+T14+T16+T18+T20+T22+T24+T26+T28+T30+T32+T34+T36+T38+T40 -> 0 | V42: 小計 | W42: =W6+W8+W10+W12+W14+W16+W18+W20+W22+W24+W26+W28+W30+W32+W34+W36+W38+W40 -> 1150 | X42: =X6+X8+X10+X12+X14+X16+X18+X20+X22+X24+X26+X28+X30+X32+X34+X36+X38+X40 -> 0
C43: =C7+C9+C11+C13+C15+C17+C19+C21+C23+C25+C27+C29+C31+C33+C35+C37+C39+C41 -> 0 | D43: =D7+D9+D11+D13+D15+D17+D19+D21+D23+D25+D27+D29+D31+D33+D35+D37+D39+D41 -> 0 | G43: =G7+G9+G11+G13+G15+G17+G19+G21+G23+G25+G27+G29+G31+G33+G35+G37+G39+G41 -> 0 | H43: =H7+H9+H11+H13+H15+H17+H19+H21+H23+H25+H27+H29+H31+H33+H35+H37+H39+H41 -> 0 | K43: =K7+K9+K11+K13+K15+K17+K19+K21+K23+K25+K27+K29+K31+K33+K35+K37+K39+K41 -> 0 | L43: =L7+L9+L11+L13+L15+L17+L19+L21+L23+L25+L27+L29+L31+L33+L35+L37+L39+L41 -> 0 | O43: =O7+O9+O11+O13+O15+O17+O19+O21+O23+O25+O27+O29+O31+O33+O35+O37+O39+O41 -> 0 | P43: =P7+P9+P11+P13+P15+P17+P19+P21+P23+P25+P27+P29+P31+P33+P35+P37+P39+P41 -> 0 | S43: =S7+S9+S11+S13+S15+S17+S19+S21+S23+S25+S27+S29+S31+S33+S35+S37+S39+S41 -> 0 | T43: =T7+T9+T11+T13+T15+T17+T19+T21+T23+T25+T27+T29+T31+T33+T35+T37+T39+T41 -> 0 | W43: =W7+W9+W11+W13+W15+W17+W19+W21+W23+W25+W27+W29+W31+W33+W35+W37+W39+W41 -> 0 | X43: =X7+X9+X11+X13+X15+X17+X19+X21+X23+X25+X27+X29+X31+X33+X35+X37+X39+X41 -> 0
F44: 合 計 | K44: =C42+C43+G42+G43+K42+K43+O42+O43+S42+S43+W42+W43 -> 23100 | N44: （ | O44: =D42+D43+H42+H43+L42+L43+P42+P43+T42+T43+X42+X43 -> 0 | Q44: ）
A45: Ａこてはし台廃店⇒花見川引継

Sheet 千葉市・美浜区
A2: スポンサー | H2: 品 名 | O2: 代理店 | V2: 担 当
A3: 折 込 日 | C3: 年 月 日 曜日 | H3: サイズ | L3: 総枚数 | R3: 備 考
B4: 0407 | C4: 千葉市・美浜区 | AA4: 0407
B5: 朝日 | C5: 部数 | D5: 配布数 | F5: 毎日 | G5: 部数 | H5: 配布数 | J5: 読売 | K5: 部数 | L5: 配布数 | N5: 産経 | O5: 部数 | P5: 配布数 | R5: 東京 | S5: 部数 | T5: 配布数 | V5: 日経 | W5: 部数 | X5: 配布数
A6: 1 | B6: 検見川Ｎ | C6: 2300 | E6: 1 | F6: 海浜ＮＴ | G6: 950 | I6: 1 | J6: 検見川Ｎ | K6: 2750 | M6: 1 | N6: Ｍ海浜Ｎ | O6: 600 | Q6: 1 | R6: Ａ検見川 | S6: 250 | U6: 3 | V6: Ａ幕張 | W6: 1000 | AA6: 4071001 | AB6: 4072001 | AC6: 4073001 | AD6: 4074001 | AE6: 4075001 | AF6: 4076003
B7: Ｔ | C7: 0 | G7: 0 | J7: Ｔ | K7: 0 | N7: Ｔ | O7: 0 | R7: ＮＴ | S7: 0 | W7: 0 | AA7: 0 | AB7: 0 | AC7: 0 | AD7: 0 | AE7: 0 | AF7: 0
A8: 4 | B8: 幕張 | C8: 3500 | E8: 2 | F8: 海浜高洲 | G8: 200 | I8: 2 | J8: 稲毛ベイ | K8: 5200 | M8: 2 | N8: Ｍ海浜高 | O8: 200 | Q8: 4 | R8: Ａ幕張 | S8: 200 | U8: 4 | V8: Ａ幕張新 | W8: 1050 | AA8: 4071004 | AB8: 4072002 | AC8: 4073002 | AD8: 4074002 | AE8: 4075004 | AF8: 4076004
C9: 0 | G9: 0 | J9: タウン | K9: 0 | N9: 洲 | O9: 0 | S9: 0 | V9: 都心 | W9: 0 | AA9: 0 | AB9: 0 | AC9: 0 | AD9: 0 | AE9: 0 | AF9: 0
A10: 5 | B10: 幕張新都 | C10: 1150 | E10: 3 | F10: 幸町団地 | G10: 100 | I10: 3 | J10: 幸町 | K10: 1350 | M10: 3 | N10: Ｙ幸町 | O10: 100 | Q10: 5 | R10: Ａ幕張新 | S10: 100 | U10: 5 | V10: Ａ検見川 | W10: 350 | AA10: 4071005 | AB10: 4072003 | AC10: 4073003 | AD10: 4074003 | AE10: 4075005 | AF10: 4076005
B11: 心 | C11: 0 | G11: 0 | K11: 0 | O11: 0 | R11: 都心 | S11: 0 | V11: ＮＴ | W11: 0 | AA11: 0 | AB11: 0 | AC11: 0 | AD11: 0 | AE11: 0 | AF11: 0
A12: 6 | B12: 稲毛西部 | C12: 2100 | E12: 4 | F12: Ａ幕張 | G12: 250 | I12: 0 | K12: 0 | M12: 4 | N12: Ｙ稲毛ベ | O12: 0 | Q12: 6 | R12: Ａ稲毛西 | S12: 450 | U12: 6 | V12: Ｙ検見川 | W12: 400 | AA12: 4071006 | AB12: 4072004 | AC12: 0 | AD12: 4074004 | AE12: 4075006 | AF12: 4076006
C13: 0 | G13: 0 | K13: 0 | N13: イタウン | O13: 0 | R13: 部 | S13: 0 | V13: ＮＴ | W13: 0 | AA13: 0 | AB13: 0 | AC13: 0 | AD13: 0 | AE13: 0 | AF13: 0
A14: 7 | B14: 千葉西 | C14: 600 | E14: 0 | G14: 0 | I14: 0 | K14: 0 | M14: 0 | O14: 0 | Q14: 7 | R14: Ａ千葉西 | S14: 200 | U14: 7 | V14: Ｙ稲毛ベ | W14: 350 | AA14: 4071007 | AB14: 0 | AC14: 0 | AD14: 0 | AE14: 4075007 | AF14: 4076007
C15: 0 | G15: 0 | K15: 0 | O15: 0 | S15: 0 | V15: イタウン | W15: 0 | AA15: 0 | AB15: 0 | AC15: 0 | AD15: 0 | AE15: 0 | AF15: 0
A16: 0 | C16: 0 | E16: 0 | G16: 0 | I16: 0 | K16: 0 | M16: 0 | O16: 0 | Q16: 0 | S16: 0 | U16: 8 | V16: Ａ稲毛西 | W16: 500 | AA16: 0 | AB16: 0 | AC16: 0 | AD16: 0 | AE16: 0 | AF16: 4076008
C17: 0 | G17: 0 | K17: 0 | O17: 0 | S17: 0 | V17: 部 | W17: 0 | AA17: 0 | AB17: 0 | AC17: 0 | AD17: 0 | AE17: 0 | AF17: 0
A18: 0 | C18: 0 | E18: 0 | G18: 0 | I18: 0 | K18: 0 | M18: 0 | O18: 0 | Q18: 0 | S18: 0 | U18: 9 | V18: Ａ千葉西 | W18: 250 | AA18: 0 | AB18: 0 | AC18: 0 | AD18: 0 | AE18: 0 | AF18: 4076009
C19: 0 | G19: 0 | K19: 0 | O19: 0 | S19: 0 | W19: 0 | AA19: 0 | AB19: 0 | AC19: 0 | AD19: 0 | AE19: 0 | AF19: 0
B42: 小計 | C42: =C6+C8+C10+C12+C14+C16+C18+C20+C22+C24+C26+C28+C30+C32+C34+C36+C38+C40 -> 9650 | D42: =D6+D8+D10+D12+D14+D16+D18+D20+D22+D24+D26+D28+D30+D32+D34+D36+D38+D40 -> 0 | F42: 小計 | G42: =G6+G8+G10+G12+G14+G16+G18+G20+G22+G24+G26+G28+G30+G32+G34+G36+G38+G40 -> 1500 | H42: =H6+H8+H10+H12+H14+H16+H18+H20+H22+H24+H26+H28+H30+H32+H34+H36+H38+H40 -> 0 | J42: 小計 | K42: =K6+K8+K10+K12+K14+K16+K18+K20+K22+K24+K26+K28+K30+K32+K34+K36+K38+K40 -> 9300 | L42: =L6+L8+L10+L12+L14+L16+L18+L20+L22+L24+L26+L28+L30+L32+L34+L36+L38+L40 -> 0 | N42: 小計 | O42: =O6+O8+O10+O12+O14+O16+O18+O20+O22+O24+O26+O28+O30+O32+O34+O36+O38+O40 -> 900 | P42: =P6+P8+P10+P12+P14+P16+P18+P20+P22+P24+P26+P28+P30+P32+P34+P36+P38+P40 -> 0 | R42: 小計 | S42: =S6+S8+S10+S12+S14+S16+S18+S20+S22+S24+S26+S28+S30+S32+S34+S36+S38+S40 -> 1200 | T42: =T6+T8+T10+T12+T14+T16+T18+T20+T22+T24+T26+T28+T30+T32+T34+T36+T38+T40 -> 0 | V42: 小計 | W42: =W6+W8+W10+W12+W14+W16+W18+W20+W22+W24+W26+W28+W30+W32+W34+W36+W38+W40 -> 3900 | X42: =X6+X8+X10+X12+X14+X16+X18+X20+X22+X24+X26+X28+X30+X32+X34+X36+X38+X40 -> 0
C43: =C7+C9+C11+C13+C15+C17+C19+C21+C23+C25+C27+C29+C31+C33+C35+C37+C39+C41 -> 0 | D43: =D7+D9+D11+D13+D15+D17+D19+D21+D23+D25+D27+D29+D31+D33+D35+D37+D39+D41 -> 0 | G43: =G7+G9+G11+G13+G15+G17+G19+G21+G23+G25+G27+G29+G31+G33+G35+G37+G39+G41 -> 0 | H43: =H7+H9+H11+H13+H15+H17+H19+H21+H23+H25+H27+H29+H31+H33+H35+H37+H39+H41 -> 0 | K43: =K7+K9+K11+K13+K15+K17+K19+K21+K23+K25+K27+K29+K31+K33+K35+K37+K39+K41 -> 0 | L43: =L7+L9+L11+L13+L15+L17+L19+L21+L23+L25+L27+L29+L31+L33+L35+L37+L39+L41 -> 0 | O43: =O7+O9+O11+O13+O15+O17+O19+O21+O23+O25+O27+O29+O31+O33+O35+O37+O39+O41 -> 0 | P43: =P7+P9+P11+P13+P15+P17+P19+P21+P23+P25+P27+P29+P31+P33+P35+P37+P39+P41 -> 0 | S43: =S7+S9+S11+S13+S15+S17+S19+S21+S23+S25+S27+S29+S31+S33+S35+S37+S39+S41 -> 0 | T43: =T7+T9+T11+T13+T15+T17+T19+T21+T23+T25+T27+T29+T31+T33+T35+T37+T39+T41 -> 0 | W43: =W7+W9+W11+W13+W15+W17+W19+W21+W23+W25+W27+W29+W31+W33+W35+W37+W39+W41 -> 0 | X43: =X7+X9+X11+X13+X15+X17+X19+X21+X23+X25+X27+X29+X31+X33+X35+X37+X39+X41 -> 0
F44: 合 計 | K44: =C42+C43+G42+G43+K42+K43+O42+O43+S42+S43+W42+W43 -> 26450 | N44: （ | O44: =D42+D43+H42+H43+L42+L43+P42+P43+T42+T43+X42+X43 -> 0 | Q44: ）

Sheet 千葉市・稲毛区
A2: スポンサー | H2: 品 名 | O2: 代理店 | V2: 担 当
A3: 折 込 日 | C3: 年 月 日 曜日 | H3: サイズ | L3: 総枚数 | R3: 備 考
B4: 0408 | C4: 千葉市・稲毛区 | AA4: 0408
B5: 朝日 | C5: 部数 | D5: 配布数 | F5: 毎日 | G5: 部数 | H5: 配布数 | J5: 読売 | K5: 部数 | L5: 配布数 | N5: 産経 | O5: 部数 | P5: 配布数 | R5: 東京 | S5: 部数 | T5: 配布数 | V5: 日経 | W5: 部数 | X5: 配布数
A6: 1 | B6: 稲毛 | C6: 2100 | E6: 1 | F6: 稲毛 | G6: 550 | I6: 2 | J6: 稲毛東部 | K6: 1650 | M6: 1 | N6: Ｍ稲毛 | O6: 300 | Q6: 1 | R6: Ａ園生 | S6: 150 | U6: 1 | V6: Ａ稲毛 | W6: 850 | AA6: 4081001 | AB6: 4082001 | AC6: 4083002 | AD6: 4084001 | AE6: 4085001 | AF6: 4086001
C7: 0 | G7: 0 | K7: 0 | O7: 0 | S7: 0 | W7: 0 | AA7: 0 | AB7: 0 | AC7: 0 | AD7: 0 | AE7: 0 | AF7: 0
A8: 2 | B8: 園生 | C8: 1850 | E8: 4 | F8: Ａ園生 | G8: 200 | I8: 3 | J8: 西千葉 | K8: 1350 | M8: 2 | N8: Ａ園生 | O8: 200 | Q8: 3 | R8: Ａ作草部 | S8: 250 | U8: 2 | V8: Ａ園生 | W8: 450 | AA8: 4081002 | AB8: 4082004 | AC8: 4083003 | AD8: 4084002 | AE8: 4085003 | AF8: 4086002
C9: 0 | G9: 0 | K9: 0 | O9: 0 | S9: 0 | W9: 0 | AA9: 0 | AB9: 0 | AC9: 0 | AD9: 0 | AE9: 0 | AF9: 0
A10: 4 | B10: 作草部 | C10: 2400 | E10: 5 | F10: Ａ作草部 | G10: 350 | I10: 5 | J10: 千草台 | K10: 2600 | M10: 3 | N10: Ａ千葉北 | O10: 150 | Q10: 4 | R10: Ａ千葉北 | S10: 100 | U10: 4 | V10: Ａ作草部 | W10: 1050 | AA10: 4081004 | AB10: 4082005 | AC10: 4083005 | AD10: 4084003 | AE10: 4085004 | AF10: 4086004
C11: 0 | G11: 0 | K11: 0 | O11: 0 | S11: 0 | W11: 0 | AA11: 0 | AB11: 0 | AC11: 0 | AD11: 0 | AE11: 0 | AF11: 0
A12: 5 | B12: 千葉北 | C12: 1100 | E12: 6 | F12: Ａ千葉北 | G12: 200 | I12: 6 | J12: 園生宮野 | K12: 3150 | M12: 0 | O12: 0 | Q12: 5 | R12: Ａ稲毛 | S12: 150 | U12: 5 | V12: Ａ千葉北 | W12: 150 | AA12: 4081005 | AB12: 4082006 | AC12: 4083006 | AD12: 0 | AE12: 4085005 | AF12: 4086005
C13: 0 | G13: 0 | J13: 木 | K13: 0 | O13: 0 | S13: 0 | W13: 0 | AA13: 0 | AB13: 0 | AC13: 0 | AD13: 0 | AE13: 0 | AF13: 0
A14: 0 | C14: 0 | E14: 0 | G14: 0 | I14: 9 | J14: 山王 | K14: 2350 | M14: 0 | O14: 0 | Q14: 6 | R14: Ｍ稲毛 | S14: 50 | U14: 6 | V14: Ｙ千草台 | W14: 150 | AA14: 0 | AB14: 0 | AC14: 4083009 | AD14: 0 | AE14: 4085006 | AF14: 4086006
C15: 0 | G15: 0 | K15: 0 | O15: 0 | S15: 0 | W15: 0 | AA15: 0 | AB15: 0 | AC15: 0 | AD15: 0 | AE15: 0 | AF15: 0
A16: 0 | C16: 0 | E16: 0 | G16: 0 | I16: 0 | K16: 0 | M16: 0 | O16: 0 | Q16: 0 | S16: 0 | U16: 8 | V16: Ｙ山王 | W16: 250 | AA16: 0 | AB16: 0 | AC16: 0 | AD16: 0 | AE16: 0 | AF16: 4086008
C17: 0 | G17: 0 | K17: 0 | O17: 0 | S17: 0 | W17: 0 | AA17: 0 | AB17: 0 | AC17: 0 | AD17: 0 | AE17: 0 | AF17: 0
A18: 0 | C18: 0 | E18: 0 | G18: 0 | I18: 0 | K18: 0 | M18: 0 | O18: 0 | Q18: 0 | S18: 0 | U18: 9 | V18: Ｙ園生宮 | W18: 50 | AA18: 0 | AB18: 0 | AC18: 0 | AD18: 0 | AE18: 0 | AF18: 4086009
C19: 0 | G19: 0 | K19: 0 | O19: 0 | S19: 0 | V19: 野木 | W19: 0 | AA19: 0 | AB19: 0 | AC19: 0 | AD19: 0 | AE19: 0 | AF19: 0
B42: 小計 | C42: =C6+C8+C10+C12+C14+C16+C18+C20+C22+C24+C26+C28+C30+C32+C34+C36+C38+C40 -> 7450 | D42: =D6+D8+D10+D12+D14+D16+D18+D20+D22+D24+D26+D28+D30+D32+D34+D36+D38+D40 -> 0 | F42: 小計 | G42: =G6+G8+G10+G12+G14+G16+G18+G20+G22+G24+G26+G28+G30+G32+G34+G36+G38+G40 -> 1300 | H42: =H6+H8+H10+H12+H14+H16+H18+H20+H22+H24+H26+H28+H30+H32+H34+H36+H38+H40 -> 0 | J42: 小計 | K42: =K6+K8+K10+K12+K14+K16+K18+K20+K22+K24+K26+K28+K30+K32+K34+K36+K38+K40 -> 11100 | L42: =L6+L8+L10+L12+L14+L16+L18+L20+L22+L24+L26+L28+L30+L32+L34+L36+L38+L40 -> 0 | N42: 小計 | O42: =O6+O8+O10+O12+O14+O16+O18+O20+O22+O24+O26+O28+O30+O32+O34+O36+O38+O40 -> 650 | P42: =P6+P8+P10+P12+P14+P16+P18+P20+P22+P24+P26+P28+P30+P32+P34+P36+P38+P40 -> 0 | R42: 小計 | S42: =S6+S8+S10+S12+S14+S16+S18+S20+S22+S24+S26+S28+S30+S32+S34+S36+S38+S40 -> 700 | T42: =T6+T8+T10+T12+T14+T16+T18+T20+T22+T24+T26+T28+T30+T32+T34+T36+T38+T40 -> 0 | V42: 小計 | W42: =W6+W8+W10+W12+W14+W16+W18+W20+W22+W24+W26+W28+W30+W32+W34+W36+W38+W40 -> 2950 | X42: =X6+X8+X10+X12+X14+X16+X18+X20+X22+X24+X26+X28+X30+X32+X34+X36+X38+X40 -> 0
C43: =C7+C9+C11+C13+C15+C17+C19+C21+C23+C25+C27+C29+C31+C33+C35+C37+C39+C41 -> 0 | D43: =D7+D9+D11+D13+D15+D17+D19+D21+D23+D25+D27+D29+D31+D33+D35+D37+D39+D41 -> 0 | G43: =G7+G9+G11+G13+G15+G17+G19+G21+G23+G25+G27+G29+G31+G33+G35+G37+G39+G41 -> 0 | H43: =H7+H9+H11+H13+H15+H17+H19+H21+H23+H25+H27+H29+H31+H33+H35+H37+H39+H41 -> 0 | K43: =K7+K9+K11+K13+K15+K17+K19+K21+K23+K25+K27+K29+K31+K33+K35+K37+K39+K41 -> 0 | L43: =L7+L9+L11+L13+L15+L17+L19+L21+L23+L25+L27+L29+L31+L33+L35+L37+L39+L41 -> 0 | O43: =O7+O9+O11+O13+O15+O17+O19+O21+O23+O25+O27+O29+O31+O33+O35+O37+O39+O41 -> 0 | P43: =P7+P9+P11+P13+P15+P17+P19+P21+P23+P25+P27+P29+P31+P33+P35+P37+P39+P41 -> 0 | S43: =S7+S9+S11+S13+S15+S17+S19+S21+S23+S25+S27+S29+S31+S33+S35+S37+S39+S41 -> 0 | T43: =T7+T9+T11+T13+T15+T17+T19+T21+T23+T25+T27+T29+T31+T33+T35+T37+T39+T41 -> 0 | W43: =W7+W9+W11+W13+W15+W17+W19+W21+W23+W25+W27+W29+W31+W33+W35+W37+W39+W41 -> 0 | X43: =X7+X9+X11+X13+X15+X17+X19+X21+X23+X25+X27+X29+X31+X33+X35+X37+X39+X41 -> 0
F44: 合 計 | K44: =C42+C43+G42+G43+K42+K43+O42+O43+S42+S43+W42+W43 -> 24150 | N44: （ | O44: =D42+D43+H42+H43+L42+L43+P42+P43+T42+T43+X42+X43 -> 0 | Q44: ）

Sheet 千葉市・中央区
A2: スポンサー | H2: 品 名 | O2: 代理店 | V2: 担 当
A3: 折 込 日 | C3: 年 月 日 曜日 | H3: サイズ | L3: 総枚数 | R3: 備 考
B4: 0409 | C4: 千葉市・中央区 | AA4: 0409
B5: 朝日 | C5: 部数 | D5: 配布数 | F5: 毎日 | G5: 部数 | H5: 配布数 | J5: 読売 | K5: 部数 | L5: 配布数 | N5: 産経 | O5: 部数 | P5: 配布数 | R5: 東京 | S5: 部数 | T5: 配布数 | V5: 日経 | W5: 部数 | X5: 配布数
A6: 1 | B6: 千葉中央 | C6: 1150 | E6: 6 | F6: Ａ千葉中 | G6: 200 | I6: 1 | J6: 千葉中央 | K6: 4200 | M6: 1 | N6: 千葉中央 | O6: 300 | Q6: 2 | R6: Ａ千葉中 | S6: 250 | U6: 4 | V6: Ａ千葉寺 | W6: 150 | AA6: 4091001 | AB6: 4092006 | AC6: 4093001 | AD6: 4094001 | AE6: 4095002 | AF6: 4096004
C7: 0 | F7: 央 | G7: 0 | K7: 0 | O7: 0 | R7: 央 | S7: 0 | W7: 0 | AA7: 0 | AB7: 0 | AC7: 0 | AD7: 0 | AE7: 0 | AF7: 0
A8: 3 | B8: 千葉寺 | C8: 1150 | E8: 7 | F8: Ａ千葉寺 | G8: 250 | I8: 3 | J8: 浜野 | K8: 2000 | M8: 2 | N8: 西千葉 | O8: 700 | Q8: 4 | R8: Ａ蘇我浜 | S8: 200 | U8: 5 | V8: Ａ蘇我浜 | W8: 200 | AA8: 4091003 | AB8: 4092007 | AC8: 4093003 | AD8: 4094002 | AE8: 4095004 | AF8: 4096005
C9: 0 | G9: 0 | K9: 0 | O9: 0 | R9: 野 | S9: 0 | V9: 野 | W9: 0 | AA9: 0 | AB9: 0 | AC9: 0 | AD9: 0 | AE9: 0 | AF9: 0
A10: 5 | B10: 蘇我浜野 | C10: 1500 | E10: 8 | F10: Ａ千葉み | G10: 150 | I10: 4 | J10: 蘇我 | K10: 2100 | M10: 3 | N10: 蘇我 | O10: 250 | Q10: 5 | R10: Ａ千葉松 | S10: 100 | U10: 6 | V10: Ａ千葉松 | W10: 100 | AA10: 4091005 | AB10: 4092008 | AC10: 4093004 | AD10: 4094003 | AE10: 4095005 | AF10: 4096006
C11: 0 | F11: なと | G11: 0 | K11: 0 | O11: 0 | R11: ヶ丘 | S11: 0 | V11: ヶ丘 | W11: 0 | AA11: 0 | AB11: 0 | AC11: 0 | AD11: 0 | AE11: 0 | AF11: 0
A12: 6 | B12: 千葉松ヶ | C12: 650 | E12: 9 | F12: Ａ蘇我浜 | G12: 300 | I12: 6 | J12: 千葉寺 | K12: 2800 | M12: 4 | N12: 白旗 | O12: 350 | Q12: 9 | R12: Ａ千葉寺 | S12: 250 | U12: 7 | V12: Ｙ千葉中 | W12: 100 | AA12: 4091006 | AB12: 4092009 | AC12: 4093006 | AD12: 4094004 | AE12: 4095009 | AF12: 4096007
B13: 丘 | C13: 0 | F13: 野 | G13: 0 | K13: 0 | O13: 0 | S13: 0 | V13: 央 | W13: 0 | AA13: 0 | AB13: 0 | AC13: 0 | AD13: 0 | AE13: 0 | AF13: 0
A14: 7 | B14: 千葉みな | C14: 400 | E14: 10 | F14: Ａ千葉松 | G14: 150 | I14: 0 | K14: 0 | M14: 5 | N14: 松ヶ丘 | O14: 500 | Q14: 10 | R14: Ａ千葉み | S14: 50 | U14: 8 | V14: Ｙ浜野 | W14: 200 | AA14: 4091007 | AB14: 4092010 | AC14: 0 | AD14: 4094005 | AE14: 4095010 | AF14: 4096008
B15: と | C15: 0 | F15: ヶ丘 | G15: 0 | K15: 0 | O15: 0 | R15: なと | S15: 0 | W15: 0 | AA15: 0 | AB15: 0 | AC15: 0 | AD15: 0 | AE15: 0 | AF15: 0
A16: 0 | C16: 0 | E16: 0 | G16: 0 | I16: 0 | K16: 0 | M16: 10 | N16: Ａ千葉中 | O16: 150 | Q16: 0 | S16: 0 | U16: 9 | V16: Ｙ蘇我 | W16: 200 | AA16: 0 | AB16: 0 | AC16: 0 | AD16: 4094010 | AE16: 0 | AF16: 4096009
C17: 0 | G17: 0 | K17: 0 | N17: 央 | O17: 0 | S17: 0 | W17: 0 | AA17: 0 | AB17: 0 | AC17: 0 | AD17: 0 | AE17: 0 | AF17: 0
A18: 0 | C18: 0 | E18: 0 | G18: 0 | I18: 0 | K18: 0 | M18: 12 | N18: Ａ千葉寺 | O18: 50 | Q18: 0 | S18: 0 | U18: 10 | V18: Ｙ千葉寺 | W18: 200 | AA18: 0 | AB18: 0 | AC18: 0 | AD18: 4094012 | AE18: 0 | AF18: 4096010
C19: 0 | G19: 0 | K19: 0 | O19: 0 | S19: 0 | W19: 0 | AA19: 0 | AB19: 0 | AC19: 0 | AD19: 0 | AE19: 0 | AF19: 0
A20: 0 | C20: 0 | E20: 0 | G20: 0 | I20: 0 | K20: 0 | M20: 13 | N20: Ａ千葉み | O20: 50 | Q20: 0 | S20: 0 | U20: 11 | V20: Ａ千葉中 | W20: 700 | AA20: 0 | AB20: 0 | AC20: 0 | AD20: 4094013 | AE20: 0 | AF20: 4096011
C21: 0 | G21: 0 | K21: 0 | N21: なと | O21: 0 | S21: 0 | V21: 央 | W21: 0 | AA21: 0 | AB21: 0 | AC21: 0 | AD21: 0 | AE21: 0 | AF21: 0
A22: 0 | C22: 0 | E22: 0 | G22: 0 | I22: 0 | K22: 0 | M22: 14 | N22: Ａ蘇我浜 | O22: 100 | Q22: 0 | S22: 0 | U22: 12 | V22: Ａ千葉み | W22: 250 | AA22: 0 | AB22: 0 | AC22: 0 | AD22: 4094014 | AE22: 0 | AF22: 4096012
C23: 0 | G23: 0 | K23: 0 | N23: 野 | O23: 0 | S23: 0 | V23: なと | W23: 0 | AA23: 0 | AB23: 0 | AC23: 0 | AD23: 0 | AE23: 0 | AF23: 0
A24: 0 | C24: 0 | E24: 0 | G24: 0 | I24: 0 | K24: 0 | M24: 15 | N24: Ａ千葉松 | O24: 50 | Q24: 0 | S24: 0 | U24: 0 | W24: 0 | AA24: 0 | AB24: 0 | AC24: 0 | AD24: 4094015 | AE24: 0 | AF24: 0
C25: 0 | G25: 0 | K25: 0 | N25: ヶ丘 | O25: 0 | S25: 0 | W25: 0 | AA25: 0 | AB25: 0 | AC25: 0 | AD25: 0 | AE25: 0 | AF25: 0
B42: 小計 | C42: =C6+C8+C10+C12+C14+C16+C18+C20+C22+C24+C26+C28+C30+C32+C34+C36+C38+C40 -> 4850 | D42: =D6+D8+D10+D12+D14+D16+D18+D20+D22+D24+D26+D28+D30+D32+D34+D36+D38+D40 -> 0 | F42: 小計 | G42: =G6+G8+G10+G12+G14+G16+G18+G20+G22+G24+G26+G28+G30+G32+G34+G36+G38+G40 -> 1050 | H42: =H6+H8+H10+H12+H14+H16+H18+H20+H22+H24+H26+H28+H30+H32+H34+H36+H38+H40 -> 0 | J42: 小計 | K42: =K6+K8+K10+K12+K14+K16+K18+K20+K22+K24+K26+K28+K30+K32+K34+K36+K38+K40 -> 11100 | L42: =L6+L8+L10+L12+L14+L16+L18+L20+L22+L24+L26+L28+L30+L32+L34+L36+L38+L40 -> 0 | N42: 小計 | O42: =O6+O8+O10+O12+O14+O16+O18+O20+O22+O24+O26+O28+O30+O32+O34+O36+O38+O40 -> 2500 | P42: =P6+P8+P10+P12+P14+P16+P18+P20+P22+P24+P26+P28+P30+P32+P34+P36+P38+P40 -> 0 | R42: 小計 | S42: =S6+S8+S10+S12+S14+S16+S18+S20+S22+S24+S26+S28+S30+S32+S34+S36+S38+S40 -> 850 | T42: =T6+T8+T10+T12+T14+T16+T18+T20+T22+T24+T26+T28+T30+T32+T34+T36+T38+T40 -> 0 | V42: 小計 | W42: =W6+W8+W10+W12+W14+W16+W18+W20+W22+W24+W26+W28+W30+W32+W34+W36+W38+W40 -> 2100 | X42: =X6+X8+X10+X12+X14+X16+X18+X20+X22+X24+X26+X28+X30+X32+X34+X36+X38+X40 -> 0
C43: =C7+C9+C11+C13+C15+C17+C19+C21+C23+C25+C27+C29+C31+C33+C35+C37+C39+C41 -> 0 | D43: =D7+D9+D11+D13+D15+D17+D19+D21+D23+D25+D27+D29+D31+D33+D35+D37+D39+D41 -> 0 | G43: =G7+G9+G11+G13+G15+G17+G19+G21+G23+G25+G27+G29+G31+G33+G35+G37+G39+G41 -> 0 | H43: =H7+H9+H11+H13+H15+H17+H19+H21+H23+H25+H27+H29+H31+H33+H35+H37+H39+H41 -> 0 | K43: =K7+K9+K11+K13+K15+K17+K19+K21+K23+K25+K27+K29+K31+K33+K35+K37+K39+K41 -> 0 | L43: =L7+L9+L11+L13+L15+L17+L19+L21+L23+L25+L27+L29+L31+L33+L35+L37+L39+L41 -> 0 | O43: =O7+O9+O11+O13+O15+O17+O19+O21+O23+O25+O27+O29+O31+O33+O35+O37+O39+O41 -> 0 | P43: =P7+P9+P11+P13+P15+P17+P19+P21+P23+P25+P27+P29+P31+P33+P35+P37+P39+P41 -> 0 | S43: =S7+S9+S11+S13+S15+S17+S19+S21+S23+S25+S27+S29+S31+S33+S35+S37+S39+S41 -> 0 | T43: =T7+T9+T11+T13+T15+T17+T19+T21+T23+T25+T27+T29+T31+T33+T35+T37+T39+T41 -> 0 | W43: =W7+W9+W11+W13+W15+W17+W19+W21+W23+W25+W27+W29+W31+W33+W35+W37+W39+W41 -> 0 | X43: =X7+X9+X11+X13+X15+X17+X19+X21+X23+X25+X27+X29+X31+X33+X35+X37+X39+X41 -> 0
F44: 合 計 | K44: =C42+C43+G42+G43+K42+K43+O42+O43+S42+S43+W42+W43 -> 22450 | N44: （ | O44: =D42+D43+H42+H43+L42+L43+P42+P43+T42+T43+X42+X43 -> 0 | Q44: ）
A45: Ａ本千葉新設 Ｍ千葉中央廃店 | H45: Ｙ緑町廃店⇒西千葉吸収 | O45: Ａ浜野廃店⇒蘇我引継・蘇我浜野に名変

Sheet 千葉市・若葉区
A2: スポンサー | H2: 品 名 | O2: 代理店 | V2: 担 当
A3: 折 込 日 | C3: 年 月 日 曜日 | H3: サイズ | L3: 総枚数 | R3: 備 考
B4: 0410 | C4: 千葉市・若葉区 | AA4: 0410
B5: 朝日 | C5: 部数 | D5: 配布数 | F5: 毎日 | G5: 部数 | H5: 配布数 | J5: 読売 | K5: 部数 | L5: 配布数 | N5: 産経 | O5: 部数 | P5: 配布数 | R5: 東京 | S5: 部数 | T5: 配布数 | V5: 日経 | W5: 部数 | X5: 配布数
A6: 1 | B6: みつわ台 | C6: 1500 | E6: 2 | F6: Ｓ千城台 | G6: 250 | I6: 2 | J6: 若葉中央 | K6: 2650 | M6: 2 | N6: 千城台 | O6: 600 | Q6: 1 | R6: Ａみつわ | S6: 150 | U6: 1 | V6: Ａみつわ | W6: 200 | AA6: 4101001 | AB6: 4102002 | AC6: 4103002 | AD6: 4104002 | AE6: 4105001 | AF6: 4106001
C7: 0 | G7: 0 | K7: 0 | O7: 0 | R7: 台 | S7: 0 | V7: 台 | W7: 0 | AA7: 0 | AB7: 0 | AC7: 0 | AD7: 0 | AE7: 0 | AF7: 0
A8: 2 | B8: 都賀 | C8: 2350 | E8: 4 | F8: Ｇ中野 | G8: 100 | I8: 3 | J8: 桜木 | K8: 2750 | M8: 3 | N8: 都賀・み | O8: 550 | Q8: 2 | R8: Ａ都賀 | S8: 200 | U8: 2 | V8: Ａ都賀 | W8: 350 | AA8: 4101002 | AB8: 4102004 | AC8: 4103003 | AD8: 4104003 | AE8: 4105002 | AF8: 4106002
C9: 0 | G9: 0 | K9: 0 | N9: つわ台 | O9: 0 | S9: 0 | W9: 0 | AA9: 0 | AB9: 0 | AC9: 0 | AD9: 0 | AE9: 0 | AF9: 0
A10: 3 | B10: 青葉の森 | C10: 1900 | E10: 5 | F10: Ａ青葉の | G10: 150 | I10: 4 | J10: 千葉東 | K10: 2700 | M10: 5 | N10: Ｇ中野 | O10: 150 | Q10: 3 | R10: Ａ青葉の | S10: 250 | U10: 3 | V10: Ａ青葉の | W10: 150 | AA10: 4101003 | AB10: 4102005 | AC10: 4103004 | AD10: 4104005 | AE10: 4105003 | AF10: 4106003
C11: 0 | F11: 森 | G11: 0 | K11: 0 | O11: 0 | R11: 森 | S11: 0 | V11: 森 | W11: 0 | AA11: 0 | AB11: 0 | AC11: 0 | AD11: 0 | AE11: 0 | AF11: 0
A12: 4 | B12: 小倉千城 | C12: 1400 | E12: 6 | F12: Ａ小倉千 | G12: 150 | I12: 6 | J12: 都賀みつ | K12: 2050 | M12: 6 | N12: Ａ青葉の | O12: 150 | Q12: 4 | R12: Ａ小倉千 | S12: 150 | U12: 4 | V12: Ａ小倉千 | W12: 250 | AA12: 4101004 | AB12: 4102006 | AC12: 4103006 | AD12: 4104006 | AE12: 4105004 | AF12: 4106004
B13: 台 | C13: 0 | F13: 城台 | G13: 0 | J13: わ台 | K13: 0 | N13: 森 | O13: 0 | R13: 城台 | S13: 0 | V13: 城台 | W13: 0 | AA13: 0 | AB13: 0 | AC13: 0 | AD13: 0 | AE13: 0 | AF13: 0
A14: 6 | B14: Ｇ中野 | C14: 150 | E14: 7 | F14: Ａ都賀 | G14: 150 | I14: 7 | J14: Ｇ中野 | K14: 800 | M14: 7 | N14: Ａ小倉千 | O14: 50 | Q14: 6 | R14: Ｇ中野 | S14: 100 | U14: 7 | V14: Ｙ若葉中 | W14: 100 | AA14: 4101006 | AB14: 4102007 | AC14: 4103007 | AD14: 4104007 | AE14: 4105006 | AF14: 4106007
C15: 0 | G15: 0 | K15: 0 | N15: 城台 | O15: 0 | S15: 0 | V15: 央 | W15: 0 | AA15: 0 | AB15: 0 | AC15: 0 | AD15: 0 | AE15: 0 | AF15: 0
A16: 0 | C16: 0 | E16: 8 | F16: Ａみつわ | G16: 150 | I16: 0 | K16: 0 | M16: 0 | O16: 0 | Q16: 0 | S16: 0 | U16: 8 | V16: Ｙ桜木 | W16: 150 | AA16: 0 | AB16: 4102008 | AC16: 0 | AD16: 0 | AE16: 0 | AF16: 4106008
C17: 0 | F17: 台 | G17: 0 | K17: 0 | O17: 0 | S17: 0 | W17: 0 | AA17: 0 | AB17: 0 | AC17: 0 | AD17: 0 | AE17: 0 | AF17: 0
A18: 0 | C18: 0 | E18: 0 | G18: 0 | I18: 0 | K18: 0 | M18: 0 | O18: 0 | Q18: 0 | S18: 0 | U18: 9 | V18: Ｙ千葉東 | W18: 100 | AA18: 0 | AB18: 0 | AC18: 0 | AD18: 0 | AE18: 0 | AF18: 4106009
C19: 0 | G19: 0 | K19: 0 | O19: 0 | S19: 0 | W19: 0 | AA19: 0 | AB19: 0 | AC19: 0 | AD19: 0 | AE19: 0 | AF19: 0
A20: 0 | C20: 0 | E20: 0 | G20: 0 | I20: 0 | K20: 0 | M20: 0 | O20: 0 | Q20: 0 | S20: 0 | U20: 10 | V20: Ｙ都賀み | W20: 200 | AA20: 0 | AB20: 0 | AC20: 0 | AD20: 0 | AE20: 0 | AF20: 4106010
C21: 0 | G21: 0 | K21: 0 | O21: 0 | S21: 0 | V21: つわ台 | W21: 0 | AA21: 0 | AB21: 0 | AC21: 0 | AD21: 0 | AE21: 0 | AF21: 0
A22: 0 | C22: 0 | E22: 0 | G22: 0 | I22: 0 | K22: 0 | M22: 0 | O22: 0 | Q22: 0 | S22: 0 | U22: 11 | V22: Ｇ中野 | W22: 100 | AA22: 0 | AB22: 0 | AC22: 0 | AD22: 0 | AE22: 0 | AF22: 4106011
C23: 0 | G23: 0 | K23: 0 | O23: 0 | S23: 0 | W23: 0 | AA23: 0 | AB23: 0 | AC23: 0 | AD23: 0 | AE23: 0 | AF23: 0
B42: 小計 | C42: =C6+C8+C10+C12+C14+C16+C18+C20+C22+C24+C26+C28+C30+C32+C34+C36+C38+C40 -> 7300 | D42: =D6+D8+D10+D12+D14+D16+D18+D20+D22+D24+D26+D28+D30+D32+D34+D36+D38+D40 -> 0 | F42: 小計 | G42: =G6+G8+G10+G12+G14+G16+G18+G20+G22+G24+G26+G28+G30+G32+G34+G36+G38+G40 -> 950 | H42: =H6+H8+H10+H12+H14+H16+H18+H20+H22+H24+H26+H28+H30+H32+H34+H36+H38+H40 -> 0 | J42: 小計 | K42: =K6+K8+K10+K12+K14+K16+K18+K20+K22+K24+K26+K28+K30+K32+K34+K36+K38+K40 -> 10950 | L42: =L6+L8+L10+L12+L14+L16+L18+L20+L22+L24+L26+L28+L30+L32+L34+L36+L38+L40 -> 0 | N42: 小計 | O42: =O6+O8+O10+O12+O14+O16+O18+O20+O22+O24+O26+O28+O30+O32+O34+O36+O38+O40 -> 1500 | P42: =P6+P8+P10+P12+P14+P16+P18+P20+P22+P24+P26+P28+P30+P32+P34+P36+P38+P40 -> 0 | R42: 小計 | S42: =S6+S8+S10+S12+S14+S16+S18+S20+S22+S24+S26+S28+S30+S32+S34+S36+S38+S40 -> 850 | T42: =T6+T8+T10+T12+T14+T16+T18+T20+T22+T24+T26+T28+T30+T32+T34+T36+T38+T40 -> 0 | V42: 小計 | W42: =W6+W8+W10+W12+W14+W16+W18+W20+W22+W24+W26+W28+W30+W32+W34+W36+W38+W40 -> 1600 | X42: =X6+X8+X10+X12+X14+X16+X18+X20+X22+X24+X26+X28+X30+X32+X34+X36+X38+X40 -> 0
C43: =C7+C9+C11+C13+C15+C17+C19+C21+C23+C25+C27+C29+C31+C33+C35+C37+C39+C41 -> 0 | D43: =D7+D9+D11+D13+D15+D17+D19+D21+D23+D25+D27+D29+D31+D33+D35+D37+D39+D41 -> 0 | G43: =G7+G9+G11+G13+G15+G17+G19+G21+G23+G25+G27+G29+G31+G33+G35+G37+G39+G41 -> 0 | H43: =H7+H9+H11+H13+H15+H17+H19+H21+H23+H25+H27+H29+H31+H33+H35+H37+H39+H41 -> 0 | K43: =K7+K9+K11+K13+K15+K17+K19+K21+K23+K25+K27+K29+K31+K33+K35+K37+K39+K41 -> 0 | L43: =L7+L9+L11+L13+L15+L17+L19+L21+L23+L25+L27+L29+L31+L33+L35+L37+L39+L41 -> 0 | O43: =O7+O9+O11+O13+O15+O17+O19+O21+O23+O25+O27+O29+O31+O33+O35+O37+O39+O41 -> 0 | P43: =P7+P9+P11+P13+P15+P17+P19+P21+P23+P25+P27+P29+P31+P33+P35+P37+P39+P41 -> 0 | S43: =S7+S9+S11+S13+S15+S17+S19+S21+S23+S25+S27+S29+S31+S33+S35+S37+S39+S41 -> 0 | T43: =T7+T9+T11+T13+T15+T17+T19+T21+T23+T25+T27+T29+T31+T33+T35+T37+T39+T41 -> 0 | W43: =W7+W9+W11+W13+W15+W17+W19+W21+W23+W25+W27+W29+W31+W33+W35+W37+W39+W41 -> 0 | X43: =X7+X9+X11+X13+X15+X17+X19+X21+X23+X25+X27+X29+X31+X33+X35+X37+X39+X41 -> 0
F44: 合 計 | K44: =C42+C43+G42+G43+K42+K43+O42+O43+S42+S43+W42+W43 -> 23150 | N44: （ | O44: =D42+D43+H42+H43+L42+L43+P42+P43+T42+T43+X42+X43 -> 0 | Q44: ）
A45: Ｙ千葉東部⇒千城台名変 | H45: Ｓ千城台南廃店⇒千城台へ

Sheet 千葉市・緑  区
A2: スポンサー | H2: 品 名 | O2: 代理店 | V2: 担 当
A3: 折 込 日 | C3: 年 月 日 曜日 | H3: サイズ | L3: 総枚数 | R3: 備 考
B4: 0411 | C4: 千葉市・緑 区 | AA4: 0411
B5: 朝日 | C5: 部数 | D5: 配布数 | F5: 毎日 | G5: 部数 | H5: 配布数 | J5: 読売 | K5: 部数 | L5: 配布数 | N5: 産経 | O5: 部数 | P5: 配布数 | R5: 東京 | S5: 部数 | T5: 配布数 | V5: 日経 | W5: 部数 | X5: 配布数
A6: 1 | B6: おゆみ野 | C6: 1700 | E6: 2 | F6: Ａ誉田 | G6: 100 | I6: 1 | J6: 誉田 | K6: 2100 | M6: 1 | N6: Ａおゆみ | O6: 200 | Q6: 1 | R6: Ａおゆみ | S6: 150 | U6: 1 | V6: Ａおゆみ | W6: 400 | AA6: 4111001 | AB6: 4112002 | AC6: 4113001 | AD6: 4114001 | AE6: 4115001 | AF6: 4116001
C7: 0 | G7: 0 | K7: 0 | N7: 野 | O7: 0 | R7: 野 | S7: 0 | V7: 野 | W7: 0 | AA7: 0 | AB7: 0 | AC7: 0 | AD7: 0 | AE7: 0 | AF7: 0
A8: 2 | B8: 誉田 | C8: 1250 | E8: 3 | F8: Ｙあすみ | G8: 150 | I8: 2 | J8: おゆみ野 | K8: 2650 | M8: 2 | N8: Ａ土気 | O8: 50 | Q8: 2 | R8: Ａ誉田 | S8: 100 | U8: 2 | V8: Ａ誉田 | W8: 200 | AA8: 4111002 | AB8: 4112003 | AC8: 4113002 | AD8: 4114002 | AE8: 4115002 | AF8: 4116002
C9: 0 | F9: が丘 | G9: 0 | K9: 0 | O9: 0 | S9: 0 | W9: 0 | AA9: 0 | AB9: 0 | AC9: 0 | AD9: 0 | AE9: 0 | AF9: 0
A10: 3 | B10: 土気 | C10: 100 | E10: 6 | F10: Ａおゆみ | G10: 150 | I10: 3 | J10: あすみが | K10: 3000 | M10: 4 | N10: Ｙ誉田 | O10: 100 | Q10: 4 | R10: Ｙあすみ | S10: 200 | U10: 3 | V10: Ａ土気 | W10: 100 | AA10: 4111003 | AB10: 4112006 | AC10: 4113003 | AD10: 4114004 | AE10: 4115004 | AF10: 4116003
C11: 0 | F11: 野 | G11: 0 | J11: 丘 | K11: 0 | O11: 0 | R11: が丘 | S11: 0 | W11: 0 | AA11: 0 | AB11: 0 | AC11: 0 | AD11: 0 | AE11: 0 | AF11: 0
A12: 4 | B12: あすみが | C12: 2000 | E12: 7 | F12: Ａ誉田東 | G12: 50 | I12: 0 | K12: 0 | M12: 5 | N12: Ｙあすみ | O12: 250 | Q12: 6 | R12: Ａ誉田東 | S12: 50 | U12: 4 | V12: Ａあすみ | W12: 550 | AA12: 4111004 | AB12: 4112007 | AC12: 0 | AD12: 4114005 | AE12: 4115006 | AF12: 4116004
B13: 丘 | C13: 0 | F13: 部 | G13: 0 | K13: 0 | N13: が丘 | O13: 0 | R13: 部 | S13: 0 | V13: が丘 | W13: 0 | AA13: 0 | AB13: 0 | AC13: 0 | AD13: 0 | AE13: 0 | AF13: 0
A14: 6 | B14: 誉田東部 | C14: 550 | E14: 0 | G14: 0 | I14: 0 | K14: 0 | M14: 6 | N14: Ａ誉田 | O14: 0 | Q14: 0 | S14: 0 | U14: 5 | V14: Ｙおゆみ | W14: 250 | AA14: 4111006 | AB14: 0 | AC14: 0 | AD14: 4114006 | AE14: 0 | AF14: 4116005
C15: 0 | G15: 0 | K15: 0 | O15: 0 | S15: 0 | V15: 野 | W15: 0 | AA15: 0 | AB15: 0 | AC15: 0 | AD15: 0 | AE15: 0 | AF15: 0
A16: 0 | C16: 0 | E16: 0 | G16: 0 | I16: 0 | K16: 0 | M16: 9 | N16: Ａ誉田東 | O16: 0 | Q16: 0 | S16: 0 | U16: 7 | V16: Ａ誉田東 | W16: 100 | AA16: 0 | AB16: 0 | AC16: 0 | AD16: 4114009 | AE16: 0 | AF16: 4116007
C17: 0 | G17: 0 | K17: 0 | N17: 部 | O17: 0 | S17: 0 | V17: 部 | W17: 0 | AA17: 0 | AB17: 0 | AC17: 0 | AD17: 0 | AE17: 0 | AF17: 0
B42: 小計 | C42: =C6+C8+C10+C12+C14+C16+C18+C20+C22+C24+C26+C28+C30+C32+C34+C36+C38+C40 -> 5600 | D42: =D6+D8+D10+D12+D14+D16+D18+D20+D22+D24+D26+D28+D30+D32+D34+D36+D38+D40 -> 0 | F42: 小計 | G42: =G6+G8+G10+G12+G14+G16+G18+G20+G22+G24+G26+G28+G30+G32+G34+G36+G38+G40 -> 450 | H42: =H6+H8+H10+H12+H14+H16+H18+H20+H22+H24+H26+H28+H30+H32+H34+H36+H38+H40 -> 0 | J42: 小計 | K42: =K6+K8+K10+K12+K14+K16+K18+K20+K22+K24+K26+K28+K30+K32+K34+K36+K38+K40 -> 7750 | L42: =L6+L8+L10+L12+L14+L16+L18+L20+L22+L24+L26+L28+L30+L32+L34+L36+L38+L40 -> 0 | N42: 小計 | O42: =O6+O8+O10+O12+O14+O16+O18+O20+O22+O24+O26+O28+O30+O32+O34+O36+O38+O40 -> 600 | P42: =P6+P8+P10+P12+P14+P16+P18+P20+P22+P24+P26+P28+P30+P32+P34+P36+P38+P40 -> 0 | R42: 小計 | S42: =S6+S8+S10+S12+S14+S16+S18+S20+S22+S24+S26+S28+S30+S32+S34+S36+S38+S40 -> 500 | T42: =T6+T8+T10+T12+T14+T16+T18+T20+T22+T24+T26+T28+T30+T32+T34+T36+T38+T40 -> 0 | V42: 小計 | W42: =W6+W8+W10+W12+W14+W16+W18+W20+W22+W24+W26+W28+W30+W32+W34+W36+W38+W40 -> 1600 | X42: =X6+X8+X10+X12+X14+X16+X18+X20+X22+X24+X26+X28+X30+X32+X34+X36+X38+X40 -> 0
C43: =C7+C9+C11+C13+C15+C17+C19+C21+C23+C25+C27+C29+C31+C33+C35+C37+C39+C41 -> 0 | D43: =D7+D9+D11+D13+D15+D17+D19+D21+D23+D25+D27+D29+D31+D33+D35+D37+D39+D41 -> 0 | G43: =G7+G9+G11+G13+G15+G17+G19+G21+G23+G25+G27+G29+G31+G33+G35+G37+G39+G41 -> 0 | H43: =H7+H9+H11+H13+H15+H17+H19+H21+H23+H25+H27+H29+H31+H33+H35+H37+H39+H41 -> 0 | K43: =K7+K9+K11+K13+K15+K17+K19+K21+K23+K25+K27+K29+K31+K33+K35+K37+K39+K41 -> 0 | L43: =L7+L9+L11+L13+L15+L17+L19+L21+L23+L25+L27+L29+L31+L33+L35+L37+L39+L41 -> 0 | O43: =O7+O9+O11+O13+O15+O17+O19+O21+O23+O25+O27+O29+O31+O33+O35+O37+O39+O41 -> 0 | P43: =P7+P9+P11+P13+P15+P17+P19+P21+P23+P25+P27+P29+P31+P33+P35+P37+P39+P41 -> 0 | S43: =S7+S9+S11+S13+S15+S17+S19+S21+S23+S25+S27+S29+S31+S33+S35+S37+S39+S41 -> 0 | T43: =T7+T9+T11+T13+T15+T17+T19+T21+T23+T25+T27+T29+T31+T33+T35+T37+T39+T41 -> 0 | W43: =W7+W9+W11+W13+W15+W17+W19+W21+W23+W25+W27+W29+W31+W33+W35+W37+W39+W41 -> 0 | X43: =X7+X9+X11+X13+X15+X17+X19+X21+X23+X25+X27+X29+X31+X33+X35+X37+X39+X41 -> 0
F44: 合 計 | K44: =C42+C43+G42+G43+K42+K43+O42+O43+S42+S43+W42+W43 -> 16500 | N44: （ | O44: =D42+D43+H42+H43+L42+L43+P42+P43+T42+T43+X42+X43 -> 0 | Q44: ）

Sheet 鎌ヶ谷市
A2: スポンサー | H2: 品 名 | O2: 代理店 | V2: 担 当
A3: 折 込 日 | C3: 年 月 日 曜日 | H3: サイズ | L3: 総枚数 | R3: 備 考
B4: 0412 | C4: 鎌ヶ谷市 | AA4: 0412
B5: 朝日 | C5: 部数 | D5: 配布数 | F5: 毎日 | G5: 部数 | H5: 配布数 | J5: 読売 | K5: 部数 | L5: 配布数 | N5: 産経 | O5: 部数 | P5: 配布数 | R5: 東京 | S5: 部数 | T5: 配布数 | V5: 日経 | W5: 部数 | X5: 配布数
A6: 1 | B6: 鎌ヶ谷初 | C6: 4950 | E6: 1 | F6: Ｙ三咲 | G6: 100 | I6: 1 | J6: 三咲 | K6: 3850 | M6: 1 | N6: Ｙ三咲 | O6: 100 | Q6: 2 | R6: Ａ鎌ヶ谷 | S6: 400 | U6: 1 | V6: Ｙ鎌ヶ谷 | W6: 400 | AA6: 4121001 | AB6: 4122001 | AC6: 4123001 | AD6: 4124001 | AE6: 4125002 | AF6: 4126001
B7: 富 | C7: 0 | G7: 0 | K7: 0 | O7: 0 | R7: 初富 | S7: 0 | W7: 0 | AA7: 0 | AB7: 0 | AC7: 0 | AD7: 0 | AE7: 0 | AF7: 0
A8: 0 | C8: 0 | E8: 3 | F8: Ｙ鎌ヶ谷 | G8: 100 | I8: 3 | J8: 鎌ヶ谷 | K8: 2250 | M8: 3 | N8: Ｙ富士栄 | O8: 100 | Q8: 3 | R8: Ｙ鎌ヶ谷 | S8: 50 | U8: 2 | V8: Ｙ新鎌ヶ | W8: 200 | AA8: 0 | AB8: 4122003 | AC8: 4123003 | AD8: 4124003 | AE8: 4125003 | AF8: 4126002
C9: 0 | G9: 0 | K9: 0 | O9: 0 | S9: 0 | V9: 谷 | W9: 0 | AA9: 0 | AB9: 0 | AC9: 0 | AD9: 0 | AE9: 0 | AF9: 0
A10: 0 | C10: 0 | E10: 4 | F10: Ｙ富士栄 | G10: 100 | I10: 4 | J10: 富士栄 | K10: 3150 | M10: 4 | N10: Ｙ新鎌ヶ | O10: 100 | Q10: 4 | R10: Ｙ三咲 | S10: 100 | U10: 4 | V10: Ｙ鎌ヶ谷 | W10: 150 | AA10: 0 | AB10: 4122004 | AC10: 4123004 | AD10: 4124004 | AE10: 4125004 | AF10: 4126004
C11: 0 | G11: 0 | K11: 0 | N11: 谷 | O11: 0 | S11: 0 | V11: 大仏 | W11: 0 | AA11: 0 | AB11: 0 | AC11: 0 | AD11: 0 | AE11: 0 | AF11: 0
A12: 0 | C12: 0 | E12: 5 | F12: Ｙ新鎌ヶ | G12: 100 | I12: 5 | J12: 新鎌ヶ谷 | K12: 1450 | M12: 6 | N12: Ｙ鎌ヶ谷 | O12: 100 | Q12: 6 | R12: Ｙ富士栄 | S12: 100 | U12: 5 | V12: Ｙ三咲 | W12: 250 | AA12: 0 | AB12: 4122005 | AC12: 4123005 | AD12: 4124006 | AE12: 4125006 | AF12: 4126005
C13: 0 | F13: 谷 | G13: 0 | J13: （初富） | K13: 0 | O13: 0 | S13: 0 | W13: 0 | AA13: 0 | AB13: 0 | AC13: 0 | AD13: 0 | AE13: 0 | AF13: 0
A14: 0 | C14: 0 | E14: 7 | F14: Ｙ鎌ヶ谷 | G14: 50 | I14: 7 | J14: 鎌ヶ谷大 | K14: 1550 | M14: 7 | N14: Ａ鎌ヶ谷 | O14: 150 | Q14: 7 | R14: Ｙ鎌ヶ谷 | S14: 50 | U14: 7 | V14: Ｙ富士栄 | W14: 250 | AA14: 0 | AB14: 4122007 | AC14: 4123007 | AD14: 4124007 | AE14: 4125007 | AF14: 4126007
C15: 0 | F15: 大仏 | G15: 0 | J15: 仏 | K15: 0 | N15: 初富 | O15: 0 | R15: 大仏 | S15: 0 | W15: 0 | AA15: 0 | AB15: 0 | AC15: 0 | AD15: 0 | AE15: 0 | AF15: 0
A16: 0 | C16: 0 | E16: 0 | G16: 0 | I16: 0 | K16: 0 | M16: 0 | O16: 0 | Q16: 8 | R16: Ｙ新鎌ヶ | S16: 50 | U16: 9 | V16: Ａ鎌ヶ谷 | W16: 50 | AA16: 0 | AB16: 0 | AC16: 0 | AD16: 0 | AE16: 4125008 | AF16: 4126009
C17: 0 | G17: 0 | K17: 0 | O17: 0 | R17: 谷 | S17: 0 | V17: 初富 | W17: 0 | AA17: 0 | AB17: 0 | AC17: 0 | AD17: 0 | AE17: 0 | AF17: 0
B42: 小計 | C42: =C6+C8+C10+C12+C14+C16+C18+C20+C22+C24+C26+C28+C30+C32+C34+C36+C38+C40 -> 4950 | D42: =D6+D8+D10+D12+D14+D16+D18+D20+D22+D24+D26+D28+D30+D32+D34+D36+D38+D40 -> 0 | F42: 小計 | G42: =G6+G8+G10+G12+G14+G16+G18+G20+G22+G24+G26+G28+G30+G32+G34+G36+G38+G40 -> 450 | H42: =H6+H8+H10+H12+H14+H16+H18+H20+H22+H24+H26+H28+H30+H32+H34+H36+H38+H40 -> 0 | J42: 小計 | K42: =K6+K8+K10+K12+K14+K16+K18+K20+K22+K24+K26+K28+K30+K32+K34+K36+K38+K40 -> 12250 | L42: =L6+L8+L10+L12+L14+L16+L18+L20+L22+L24+L26+L28+L30+L32+L34+L36+L38+L40 -> 0 | N42: 小計 | O42: =O6+O8+O10+O12+O14+O16+O18+O20+O22+O24+O26+O28+O30+O32+O34+O36+O38+O40 -> 550 | P42: =P6+P8+P10+P12+P14+P16+P18+P20+P22+P24+P26+P28+P30+P32+P34+P36+P38+P40 -> 0 | R42: 小計 | S42: =S6+S8+S10+S12+S14+S16+S18+S20+S22+S24+S26+S28+S30+S32+S34+S36+S38+S40 -> 750 | T42: =T6+T8+T10+T12+T14+T16+T18+T20+T22+T24+T26+T28+T30+T32+T34+T36+T38+T40 -> 0 | V42: 小計 | W42: =W6+W8+W10+W12+W14+W16+W18+W20+W22+W24+W26+W28+W30+W32+W34+W36+W38+W40 -> 1300 | X42: =X6+X8+X10+X12+X14+X16+X18+X20+X22+X24+X26+X28+X30+X32+X34+X36+X38+X40 -> 0
C43: =C7+C9+C11+C13+C15+C17+C19+C21+C23+C25+C27+C29+C31+C33+C35+C37+C39+C41 -> 0 | D43: =D7+D9+D11+D13+D15+D17+D19+D21+D23+D25+D27+D29+D31+D33+D35+D37+D39+D41 -> 0 | G43: =G7+G9+G11+G13+G15+G17+G19+G21+G23+G25+G27+G29+G31+G33+G35+G37+G39+G41 -> 0 | H43: =H7+H9+H11+H13+H15+H17+H19+H21+H23+H25+H27+H29+H31+H33+H35+H37+H39+H41 -> 0 | K43: =K7+K9+K11+K13+K15+K17+K19+K21+K23+K25+K27+K29+K31+K33+K35+K37+K39+K41 -> 0 | L43: =L7+L9+L11+L13+L15+L17+L19+L21+L23+L25+L27+L29+L31+L33+L35+L37+L39+L41 -> 0 | O43: =O7+O9+O11+O13+O15+O17+O19+O21+O23+O25+O27+O29+O31+O33+O35+O37+O39+O41 -> 0 | P43: =P7+P9+P11+P13+P15+P17+P19+P21+P23+P25+P27+P29+P31+P33+P35+P37+P39+P41 -> 0 | S43: =S7+S9+S11+S13+S15+S17+S19+S21+S23+S25+S27+S29+S31+S33+S35+S37+S39+S41 -> 0 | T43: =T7+T9+T11+T13+T15+T17+T19+T21+T23+T25+T27+T29+T31+T33+T35+T37+T39+T41 -> 0 | W43: =W7+W9+W11+W13+W15+W17+W19+W21+W23+W25+W27+W29+W31+W33+W35+W37+W39+W41 -> 0 | X43: =X7+X9+X11+X13+X15+X17+X19+X21+X23+X25+X27+X29+X31+X33+X35+X37+X39+X41 -> 0
F44: 合 計 | K44: =C42+C43+G42+G43+K42+K43+O42+O43+S42+S43+W42+W43 -> 20250 | N44: （ | O44: =D42+D43+H42+H43+L42+L43+P42+P43+T42+T43+X42+X43 -> 0 | Q44: ）

Sheet 白　井　市
A2: スポンサー | H2: 品 名 | O2: 代理店 | V2: 担 当
A3: 折 込 日 | C3: 年 月 日 曜日 | H3: サイズ | L3: 総枚数 | R3: 備 考
B4: 0413 | C4: 白 井 市 | AA4: 0413
B5: 朝日 | C5: 部数 | D5: 配布数 | F5: 毎日 | G5: 部数 | H5: 配布数 | J5: 読売 | K5: 部数 | L5: 配布数 | N5: 産経 | O5: 部数 | P5: 配布数 | R5: 東京 | S5: 部数 | T5: 配布数 | V5: 日経 | W5: 部数 | X5: 配布数
A6: 1 | B6: ＮＴ白井 | C6: 2800 | E6: 1 | F6: Ｙしろい | G6: 100 | I6: 1 | J6: しろい | K6: 1100 | M6: 1 | N6: Ｙしろい | O6: 100 | Q6: 1 | R6: ＡＮＴ白 | S6: 250 | U6: 1 | V6: Ｙしろい | W6: 350 | AA6: 4131001 | AB6: 4132001 | AC6: 4133001 | AD6: 4134001 | AE6: 4135001 | AF6: 4136001
C7: 0 | G7: 0 | K7: 0 | O7: 0 | R7: 井 | S7: 0 | V7: 西 | W7: 0 | AA7: 0 | AB7: 0 | AC7: 0 | AD7: 0 | AE7: 0 | AF7: 0
A8: 0 | C8: 0 | E8: 2 | F8: Ｙしろい | G8: 100 | I8: 2 | J8: しろい西 | K8: 1500 | M8: 2 | N8: Ｙしろい | O8: 100 | Q8: 2 | R8: Ｙしろい | S8: 50 | U8: 2 | V8: Ｙしろい | W8: 350 | AA8: 0 | AB8: 4132002 | AC8: 4133002 | AD8: 4134002 | AE8: 4135002 | AF8: 4136002
C9: 0 | F9: 西 | G9: 0 | K9: 0 | N9: 西 | O9: 0 | S9: 0 | W9: 0 | AA9: 0 | AB9: 0 | AC9: 0 | AD9: 0 | AE9: 0 | AF9: 0
A10: 0 | C10: 0 | E10: 0 | G10: 0 | I10: 0 | K10: 0 | M10: 0 | O10: 0 | Q10: 3 | R10: Ｙしろい | S10: 50 | U10: 0 | W10: 0 | AA10: 0 | AB10: 0 | AC10: 0 | AD10: 0 | AE10: 4135003 | AF10: 0
C11: 0 | G11: 0 | K11: 0 | O11: 0 | R11: 西 | S11: 0 | W11: 0 | AA11: 0 | AB11: 0 | AC11: 0 | AD11: 0 | AE11: 0 | AF11: 0
B42: 小計 | C42: =C6+C8+C10+C12+C14+C16+C18+C20+C22+C24+C26+C28+C30+C32+C34+C36+C38+C40 -> 2800 | D42: =D6+D8+D10+D12+D14+D16+D18+D20+D22+D24+D26+D28+D30+D32+D34+D36+D38+D40 -> 0 | F42: 小計 | G42: =G6+G8+G10+G12+G14+G16+G18+G20+G22+G24+G26+G28+G30+G32+G34+G36+G38+G40 -> 200 | H42: =H6+H8+H10+H12+H14+H16+H18+H20+H22+H24+H26+H28+H30+H32+H34+H36+H38+H40 -> 0 | J42: 小計 | K42: =K6+K8+K10+K12+K14+K16+K18+K20+K22+K24+K26+K28+K30+K32+K34+K36+K38+K40 -> 2600 | L42: =L6+L8+L10+L12+L14+L16+L18+L20+L22+L24+L26+L28+L30+L32+L34+L36+L38+L40 -> 0 | N42: 小計 | O42: =O6+O8+O10+O12+O14+O16+O18+O20+O22+O24+O26+O28+O30+O32+O34+O36+O38+O40 -> 200 | P42: =P6+P8+P10+P12+P14+P16+P18+P20+P22+P24+P26+P28+P30+P32+P34+P36+P38+P40 -> 0 | R42: 小計 | S42: =S6+S8+S10+S12+S14+S16+S18+S20+S22+S24+S26+S28+S30+S32+S34+S36+S38+S40 -> 350 | T42: =T6+T8+T10+T12+T14+T16+T18+T20+T22+T24+T26+T28+T30+T32+T34+T36+T38+T40 -> 0 | V42: 小計 | W42: =W6+W8+W10+W12+W14+W16+W18+W20+W22+W24+W26+W28+W30+W32+W34+W36+W38+W40 -> 700 | X42: =X6+X8+X10+X12+X14+X16+X18+X20+X22+X24+X26+X28+X30+X32+X34+X36+X38+X40 -> 0
C43: =C7+C9+C11+C13+C15+C17+C19+C21+C23+C25+C27+C29+C31+C33+C35+C37+C39+C41 -> 0 | D43: =D7+D9+D11+D13+D15+D17+D19+D21+D23+D25+D27+D29+D31+D33+D35+D37+D39+D41 -> 0 | G43: =G7+G9+G11+G13+G15+G17+G19+G21+G23+G25+G27+G29+G31+G33+G35+G37+G39+G41 -> 0 | H43: =H7+H9+H11+H13+H15+H17+H19+H21+H23+H25+H27+H29+H31+H33+H35+H37+H39+H41 -> 0 | K43: =K7+K9+K11+K13+K15+K17+K19+K21+K23+K25+K27+K29+K31+K33+K35+K37+K39+K41 -> 0 | L43: =L7+L9+L11+L13+L15+L17+L19+L21+L23+L25+L27+L29+L31+L33+L35+L37+L39+L41 -> 0 | O43: =O7+O9+O11+O13+O15+O17+O19+O21+O23+O25+O27+O29+O31+O33+O35+O37+O39+O41 -> 0 | P43: =P7+P9+P11+P13+P15+P17+P19+P21+P23+P25+P27+P29+P31+P33+P35+P37+P39+P41 -> 0 | S43: =S7+S9+S11+S13+S15+S17+S19+S21+S23+S25+S27+S29+S31+S33+S35+S37+S39+S41 -> 0 | T43: =T7+T9+T11+T13+T15+T17+T19+T21+T23+T25+T27+T29+T31+T33+T35+T37+T39+T41 -> 0 | W43: =W7+W9+W11+W13+W15+W17+W19+W21+W23+W25+W27+W29+W31+W33+W35+W37+W39+W41 -> 0 | X43: =X7+X9+X11+X13+X15+X17+X19+X21+X23+X25+X27+X29+X31+X33+X35+X37+X39+X41 -> 0
F44: 合 計 | K44: =C42+C43+G42+G43+K42+K43+O42+O43+S42+S43+W42+W43 -> 6850 | N44: （ | O44: =D42+D43+H42+H43+L42+L43+P42+P43+T42+T43+X42+X43 -> 0 | Q44: ）

Sheet 佐　倉　市
A2: スポンサー | H2: 品 名 | O2: 代理店 | V2: 担 当
A3: 折 込 日 | C3: 年 月 日 曜日 | H3: サイズ | L3: 総枚数 | R3: 備 考
B4: 0414 | C4: 佐 倉 市 | AA4: 0414
B5: 朝日 | C5: 部数 | D5: 配布数 | F5: 毎日 | G5: 部数 | H5: 配布数 | J5: 読売 | K5: 部数 | L5: 配布数 | N5: 産経 | O5: 部数 | P5: 配布数 | R5: 東京 | S5: 部数 | T5: 配布数 | V5: 日経 | W5: 部数 | X5: 配布数
A6: 1 | B6: 佐倉 | C6: 1550 | E6: 1 | F6: 佐倉 | G6: 250 | I6: 1 | J6: 佐倉 | K6: 2400 | M6: 1 | N6: Ａ佐倉 | O6: 250 | Q6: 1 | R6: Ａ佐倉 | S6: 150 | U6: 1 | V6: Ａ佐倉 | W6: 300 | AA6: 4141001 | AB6: 4142001 | AC6: 4143001 | AD6: 4144001 | AE6: 4145001 | AF6: 4146001
C7: 0 | G7: 0 | K7: 0 | O7: 0 | S7: 0 | W7: 0 | AA7: 0 | AB7: 0 | AC7: 0 | AD7: 0 | AE7: 0 | AF7: 0
A8: 3 | B8: 志津 | C8: 2150 | E8: 2 | F8: 臼井 | G8: 350 | I8: 2 | J8: うすい | K8: 1450 | M8: 2 | N8: Ａ佐倉南 | O8: 150 | Q8: 2 | R8: Ａ佐倉南 | S8: 100 | U8: 2 | V8: Ａ佐倉南 | W8: 350 | AA8: 4141003 | AB8: 4142002 | AC8: 4143002 | AD8: 4144002 | AE8: 4145002 | AF8: 4146002
C9: 0 | G9: 0 | K9: 0 | N9: 部 | O9: 0 | R9: 部 | S9: 0 | V9: 部 | W9: 0 | AA9: 0 | AB9: 0 | AC9: 0 | AD9: 0 | AE9: 0 | AF9: 0
A10: 4 | B10: 臼井 | C10: 3150 | E10: 3 | F10: 志津ユー | G10: 2000 | I10: 3 | J10: 志津 | K10: 2100 | M10: 3 | N10: Ｍ臼井 | O10: 350 | Q10: 3 | R10: Ａ臼井 | S10: 200 | U10: 3 | V10: Ｍ臼井 | W10: 300 | AA10: 4141004 | AB10: 4142003 | AC10: 4143003 | AD10: 4144003 | AE10: 4145003 | AF10: 4146003
C11: 0 | F11: カリが丘 | G11: 0 | K11: 0 | O11: 0 | S11: 0 | W11: 0 | AA11: 0 | AB11: 0 | AC11: 0 | AD11: 0 | AE11: 0 | AF11: 0
A12: 5 | B12: ユーカリ | C12: 1000 | E12: 4 | F12: Ａ佐倉南 | G12: 150 | I12: 4 | J12: 中志津 | K12: 1500 | M12: 4 | N12: Ｍ志津ユ | O12: 500 | Q12: 4 | R12: Ａ志津 | S12: 250 | U12: 4 | V12: Ｍ志津ユ | W12: 500 | AA12: 4141005 | AB12: 4142004 | AC12: 4143004 | AD12: 4144004 | AE12: 4145004 | AF12: 4146004
B13: が丘 | C13: 0 | F13: 部 | G13: 0 | K13: 0 | N13: ーカリ丘 | O13: 0 | S13: 0 | V13: ーカリ丘 | W13: 0 | AA13: 0 | AB13: 0 | AC13: 0 | AD13: 0 | AE13: 0 | AF13: 0
A14: 6 | B14: 佐倉南部 | C14: 1600 | E14: 0 | G14: 0 | I14: 5 | J14: ユーカリ | K14: 1800 | M14: 0 | O14: 0 | Q14: 6 | R14: Ａユーカ | S14: 100 | U14: 6 | V14: Ｙうすい | W14: 150 | AA14: 4141006 | AB14: 0 | AC14: 4143005 | AD14: 0 | AE14: 4145006 | AF14: 4146006
C15: 0 | G15: 0 | J15: が丘 | K15: 0 | O15: 0 | R15: リが丘 | S15: 0 | W15: 0 | AA15: 0 | AB15: 0 | AC15: 0 | AD15: 0 | AE15: 0 | AF15: 0
A16: 0 | C16: 0 | E16: 0 | G16: 0 | I16: 6 | J16: 佐倉南部 | K16: 2100 | M16: 0 | O16: 0 | Q16: 7 | R16: Ｍ臼井 | S16: 100 | U16: 7 | V16: Ｙ志津 | W16: 200 | AA16: 0 | AB16: 0 | AC16: 4143006 | AD16: 0 | AE16: 4145007 | AF16: 4146007
C17: 0 | G17: 0 | K17: 0 | O17: 0 | S17: 0 | W17: 0 | AA17: 0 | AB17: 0 | AC17: 0 | AD17: 0 | AE17: 0 | AF17: 0
A18: 0 | C18: 0 | E18: 0 | G18: 0 | I18: 7 | J18: うすいＮ | K18: 1850 | M18: 0 | O18: 0 | Q18: 8 | R18: Ｙユーカ | S18: 50 | U18: 8 | V18: Ｙ中志津 | W18: 100 | AA18: 0 | AB18: 0 | AC18: 4143007 | AD18: 0 | AE18: 4145008 | AF18: 4146008
C19: 0 | G19: 0 | J19: Ｔ | K19: 0 | O19: 0 | R19: リが丘 | S19: 0 | W19: 0 | AA19: 0 | AB19: 0 | AC19: 0 | AD19: 0 | AE19: 0 | AF19: 0
A20: 0 | C20: 0 | E20: 0 | G20: 0 | I20: 0 | K20: 0 | M20: 0 | O20: 0 | Q20: 0 | S20: 0 | U20: 9 | V20: Ｙユーカ | W20: 250 | AA20: 0 | AB20: 0 | AC20: 0 | AD20: 0 | AE20: 0 | AF20: 4146009
C21: 0 | G21: 0 | K21: 0 | O21: 0 | S21: 0 | V21: リが丘 | W21: 0 | AA21: 0 | AB21: 0 | AC21: 0 | AD21: 0 | AE21: 0 | AF21: 0
A22: 0 | C22: 0 | E22: 0 | G22: 0 | I22: 0 | K22: 0 | M22: 0 | O22: 0 | Q22: 0 | S22: 0 | U22: 10 | V22: Ｙうすい | W22: 200 | AA22: 0 | AB22: 0 | AC22: 0 | AD22: 0 | AE22: 0 | AF22: 4146010
C23: 0 | G23: 0 | K23: 0 | O23: 0 | S23: 0 | V23: ＮＴ | W23: 0 | AA23: 0 | AB23: 0 | AC23: 0 | AD23: 0 | AE23: 0 | AF23: 0
B42: 小計 | C42: =C6+C8+C10+C12+C14+C16+C18+C20+C22+C24+C26+C28+C30+C32+C34+C36+C38+C40 -> 9450 | D42: =D6+D8+D10+D12+D14+D16+D18+D20+D22+D24+D26+D28+D30+D32+D34+D36+D38+D40 -> 0 | F42: 小計 | G42: =G6+G8+G10+G12+G14+G16+G18+G20+G22+G24+G26+G28+G30+G32+G34+G36+G38+G40 -> 2750 | H42: =H6+H8+H10+H12+H14+H16+H18+H20+H22+H24+H26+H28+H30+H32+H34+H36+H38+H40 -> 0 | J42: 小計 | K42: =K6+K8+K10+K12+K14+K16+K18+K20+K22+K24+K26+K28+K30+K32+K34+K36+K38+K40 -> 13200 | L42: =L6+L8+L10+L12+L14+L16+L18+L20+L22+L24+L26+L28+L30+L32+L34+L36+L38+L40 -> 0 | N42: 小計 | O42: =O6+O8+O10+O12+O14+O16+O18+O20+O22+O24+O26+O28+O30+O32+O34+O36+O38+O40 -> 1250 | P42: =P6+P8+P10+P12+P14+P16+P18+P20+P22+P24+P26+P28+P30+P32+P34+P36+P38+P40 -> 0 | R42: 小計 | S42: =S6+S8+S10+S12+S14+S16+S18+S20+S22+S24+S26+S28+S30+S32+S34+S36+S38+S40 -> 950 | T42: =T6+T8+T10+T12+T14+T16+T18+T20+T22+T24+T26+T28+T30+T32+T34+T36+T38+T40 -> 0 | V42: 小計 | W42: =W6+W8+W10+W12+W14+W16+W18+W20+W22+W24+W26+W28+W30+W32+W34+W36+W38+W40 -> 2350 | X42: =X6+X8+X10+X12+X14+X16+X18+X20+X22+X24+X26+X28+X30+X32+X34+X36+X38+X40 -> 0
C43: =C7+C9+C11+C13+C15+C17+C19+C21+C23+C25+C27+C29+C31+C33+C35+C37+C39+C41 -> 0 | D43: =D7+D9+D11+D13+D15+D17+D19+D21+D23+D25+D27+D29+D31+D33+D35+D37+D39+D41 -> 0 | G43: =G7+G9+G11+G13+G15+G17+G19+G21+G23+G25+G27+G29+G31+G33+G35+G37+G39+G41 -> 0 | H43: =H7+H9+H11+H13+H15+H17+H19+H21+H23+H25+H27+H29+H31+H33+H35+H37+H39+H41 -> 0 | K43: =K7+K9+K11+K13+K15+K17+K19+K21+K23+K25+K27+K29+K31+K33+K35+K37+K39+K41 -> 0 | L43: =L7+L9+L11+L13+L15+L17+L19+L21+L23+L25+L27+L29+L31+L33+L35+L37+L39+L41 -> 0 | O43: =O7+O9+O11+O13+O15+O17+O19+O21+O23+O25+O27+O29+O31+O33+O35+O37+O39+O41 -> 0 | P43: =P7+P9+P11+P13+P15+P17+P19+P21+P23+P25+P27+P29+P31+P33+P35+P37+P39+P41 -> 0 | S43: =S7+S9+S11+S13+S15+S17+S19+S21+S23+S25+S27+S29+S31+S33+S35+S37+S39+S41 -> 0 | T43: =T7+T9+T11+T13+T15+T17+T19+T21+T23+T25+T27+T29+T31+T33+T35+T37+T39+T41 -> 0 | W43: =W7+W9+W11+W13+W15+W17+W19+W21+W23+W25+W27+W29+W31+W33+W35+W37+W39+W41 -> 0 | X43: =X7+X9+X11+X13+X15+X17+X19+X21+X23+X25+X27+X29+X31+X33+X35+X37+X39+X41 -> 0
F44: 合 計 | K44: =C42+C43+G42+G43+K42+K43+O42+O43+S42+S43+W42+W43 -> 29950 | N44: （ | O44: =D42+D43+H42+H43+L42+L43+P42+P43+T42+T43+X42+X43 -> 0 | Q44: ）
A45: Ａ中志津廃店⇒志津・ユ－カリヶ丘で調整

Sheet 四街道市
A2: スポンサー | H2: 品 名 | O2: 代理店 | V2: 担 当
A3: 折 込 日 | C3: 年 月 日 曜日 | H3: サイズ | L3: 総枚数 | R3: 備 考
B4: 0415 | C4: 四街道市 | AA4: 0415
B5: 朝日 | C5: 部数 | D5: 配布数 | F5: 毎日 | G5: 部数 | H5: 配布数 | J5: 読売 | K5: 部数 | L5: 配布数 | N5: 産経 | O5: 部数 | P5: 配布数 | R5: 東京 | S5: 部数 | T5: 配布数 | V5: 日経 | W5: 部数 | X5: 配布数
A6: 1 | B6: 四街道 | C6: 3400 | E6: 1 | F6: 四街道 | G6: 1700 | I6: 2 | J6: 四街道南 | K6: 3200 | M6: 1 | N6: Ｍ四街道 | O6: 600 | Q6: 1 | R6: Ｍ四街道 | S6: 550 | U6: 1 | V6: Ａ四街道 | W6: 300 | AA6: 4151001 | AB6: 4152001 | AC6: 4153002 | AD6: 4154001 | AE6: 4155001 | AF6: 4156001
C7: 0 | G7: 0 | J7: 部 | K7: 0 | O7: 0 | S7: 0 | W7: 0 | AA7: 0 | AB7: 0 | AC7: 0 | AD7: 0 | AE7: 0 | AF7: 0
A8: 0 | C8: 0 | E8: 0 | G8: 0 | I8: 3 | J8: 四街道北 | K8: 3150 | M8: 0 | O8: 0 | Q8: 0 | S8: 0 | U8: 2 | V8: Ｍ四街道 | W8: 400 | AA8: 0 | AB8: 0 | AC8: 4153003 | AD8: 0 | AE8: 0 | AF8: 4156002
C9: 0 | G9: 0 | J9: 部 | K9: 0 | O9: 0 | S9: 0 | W9: 0 | AA9: 0 | AB9: 0 | AC9: 0 | AD9: 0 | AE9: 0 | AF9: 0
A10: 0 | C10: 0 | E10: 0 | G10: 0 | I10: 0 | K10: 0 | M10: 0 | O10: 0 | Q10: 0 | S10: 0 | U10: 4 | V10: Ｙ四街道 | W10: 200 | AA10: 0 | AB10: 0 | AC10: 0 | AD10: 0 | AE10: 0 | AF10: 4156004
C11: 0 | G11: 0 | K11: 0 | O11: 0 | S11: 0 | V11: 北部 | W11: 0 | AA11: 0 | AB11: 0 | AC11: 0 | AD11: 0 | AE11: 0 | AF11: 0
A12: 0 | C12: 0 | E12: 0 | G12: 0 | I12: 0 | K12: 0 | M12: 0 | O12: 0 | Q12: 0 | S12: 0 | U12: 5 | V12: Ｙ四街道 | W12: 50 | AA12: 0 | AB12: 0 | AC12: 0 | AD12: 0 | AE12: 0 | AF12: 4156005
C13: 0 | G13: 0 | K13: 0 | O13: 0 | S13: 0 | V13: 南部 | W13: 0 | AA13: 0 | AB13: 0 | AC13: 0 | AD13: 0 | AE13: 0 | AF13: 0
B42: 小計 | C42: =C6+C8+C10+C12+C14+C16+C18+C20+C22+C24+C26+C28+C30+C32+C34+C36+C38+C40 -> 3400 | D42: =D6+D8+D10+D12+D14+D16+D18+D20+D22+D24+D26+D28+D30+D32+D34+D36+D38+D40 -> 0 | F42: 小計 | G42: =G6+G8+G10+G12+G14+G16+G18+G20+G22+G24+G26+G28+G30+G32+G34+G36+G38+G40 -> 1700 | H42: =H6+H8+H10+H12+H14+H16+H18+H20+H22+H24+H26+H28+H30+H32+H34+H36+H38+H40 -> 0 | J42: 小計 | K42: =K6+K8+K10+K12+K14+K16+K18+K20+K22+K24+K26+K28+K30+K32+K34+K36+K38+K40 -> 6350 | L42: =L6+L8+L10+L12+L14+L16+L18+L20+L22+L24+L26+L28+L30+L32+L34+L36+L38+L40 -> 0 | N42: 小計 | O42: =O6+O8+O10+O12+O14+O16+O18+O20+O22+O24+O26+O28+O30+O32+O34+O36+O38+O40 -> 600 | P42: =P6+P8+P10+P12+P14+P16+P18+P20+P22+P24+P26+P28+P30+P32+P34+P36+P38+P40 -> 0 | R42: 小計 | S42: =S6+S8+S10+S12+S14+S16+S18+S20+S22+S24+S26+S28+S30+S32+S34+S36+S38+S40 -> 550 | T42: =T6+T8+T10+T12+T14+T16+T18+T20+T22+T24+T26+T28+T30+T32+T34+T36+T38+T40 -> 0 | V42: 小計 | W42: =W6+W8+W10+W12+W14+W16+W18+W20+W22+W24+W26+W28+W30+W32+W34+W36+W38+W40 -> 950 | X42: =X6+X8+X10+X12+X14+X16+X18+X20+X22+X24+X26+X28+X30+X32+X34+X36+X38+X40 -> 0
C43: =C7+C9+C11+C13+C15+C17+C19+C21+C23+C25+C27+C29+C31+C33+C35+C37+C39+C41 -> 0 | D43: =D7+D9+D11+D13+D15+D17+D19+D21+D23+D25+D27+D29+D31+D33+D35+D37+D39+D41 -> 0 | G43: =G7+G9+G11+G13+G15+G17+G19+G21+G23+G25+G27+G29+G31+G33+G35+G37+G39+G41 -> 0 | H43: =H7+H9+H11+H13+H15+H17+H19+H21+H23+H25+H27+H29+H31+H33+H35+H37+H39+H41 -> 0 | K43: =K7+K9+K11+K13+K15+K17+K19+K21+K23+K25+K27+K29+K31+K33+K35+K37+K39+K41 -> 0 | L43: =L7+L9+L11+L13+L15+L17+L19+L21+L23+L25+L27+L29+L31+L33+L35+L37+L39+L41 -> 0 | O43: =O7+O9+O11+O13+O15+O17+O19+O21+O23+O25+O27+O29+O31+O33+O35+O37+O39+O41 -> 0 | P43: =P7+P9+P11+P13+P15+P17+P19+P21+P23+P25+P27+P29+P31+P33+P35+P37+P39+P41 -> 0 | S43: =S7+S9+S11+S13+S15+S17+S19+S21+S23+S25+S27+S29+S31+S33+S35+S37+S39+S41 -> 0 | T43: =T7+T9+T11+T13+T15+T17+T19+T21+T23+T25+T27+T29+T31+T33+T35+T37+T39+T41 -> 0 | W43: =W7+W9+W11+W13+W15+W17+W19+W21+W23+W25+W27+W29+W31+W33+W35+W37+W39+W41 -> 0 | X43: =X7+X9+X11+X13+X15+X17+X19+X21+X23+X25+X27+X29+X31+X33+X35+X37+X39+X41 -> 0
F44: 合 計 | K44: =C42+C43+G42+G43+K42+K43+O42+O43+S42+S43+W42+W43 -> 13550 | N44: （ | O44: =D42+D43+H42+H43+L42+L43+P42+P43+T42+T43+X42+X43 -> 0 | Q44: ）
A45: Ａ四街道北部廃店⇒西部が引継

Sheet 成　田　市
A2: スポンサー | H2: 品 名 | O2: 代理店 | V2: 担 当
A3: 折 込 日 | C3: 年 月 日 曜日 | H3: サイズ | L3: 総枚数 | R3: 備 考
B4: 0416 | C4: 成 田 市 | AA4: 0416
B5: 朝日 | C5: 部数 | D5: 配布数 | F5: 毎日 | G5: 部数 | H5: 配布数 | J5: 読売 | K5: 部数 | L5: 配布数 | N5: 産経 | O5: 部数 | P5: 配布数 | R5: 東京 | S5: 部数 | T5: 配布数 | V5: 日経 | W5: 部数 | X5: 配布数
A6: 1 | B6: 成田南部 | C6: 150 | E6: 3 | F6: 三里塚 | G6: 200 | I6: 1 | J6: 成田 | K6: 4350 | M6: 1 | N6: 成田日吉 | O6: 400 | Q6: 1 | R6: Ａ成田 | S6: 450 | U6: 3 | V6: Ａ成田 | W6: 700 | AA6: 4161001 | AB6: 4162003 | AC6: 4163001 | AD6: 4164001 | AE6: 4165001 | AF6: 4166003
C7: 0 | G7: 0 | K7: 0 | N7: 台 | O7: 0 | S7: 0 | W7: 0 | AA7: 0 | AB7: 0 | AC7: 0 | AD7: 0 | AE7: 0 | AF7: 0
A8: 3 | B8: 成田（旧 | C8: 3150 | E8: 4 | F8: 成田大栄 | G8: 550 | I8: 2 | J8: 成田ＮＴ | K8: 1850 | M8: 2 | N8: 成田東部 | O8: 350 | Q8: 3 | R8: Ａ成田南 | S8: 50 | U8: 4 | V8: Ａ久住 | W8: 50 | AA8: 4161003 | AB8: 4162004 | AC8: 4163002 | AD8: 4164002 | AE8: 4165003 | AF8: 4166004
B9: ＮＴ西部 | C9: 0 | G9: 0 | K9: 0 | O9: 0 | R9: 部 | S9: 0 | W9: 0 | AA9: 0 | AB9: 0 | AC9: 0 | AD9: 0 | AE9: 0 | AF9: 0
A10: 4 | B10: 成田大栄 | C10: 150 | E10: 6 | F10: Ｓ成田東 | G10: 100 | I10: 3 | J10: 成田南部 | K10: 2150 | M10: 3 | N10: 佐原大栄 | O10: 50 | Q10: 4 | R10: Ａ久住 | S10: 50 | U10: 5 | V10: Ｍ成田大 | W10: 50 | AA10: 4161004 | AB10: 4162006 | AC10: 4163003 | AD10: 4164003 | AE10: 4165004 | AF10: 4166005
C11: 0 | F11: 部 | G11: 0 | K11: 0 | O11: 0 | S11: 0 | V11: 栄 | W11: 0 | AA11: 0 | AB11: 0 | AC11: 0 | AD11: 0 | AE11: 0 | AF11: 0
A12: 5 | B12: 久住 | C12: 100 | E12: 7 | F12: Ｓ成田日 | G12: 50 | I12: 4 | J12: 新成田 | K12: 2300 | M12: 5 | N12: Ａ久住 | O12: 0 | Q12: 5 | R12: Ｍ成田大 | S12: 50 | U12: 7 | V12: Ｙ新成田 | W12: 100 | AA12: 4161005 | AB12: 4162007 | AC12: 4163004 | AD12: 4164005 | AE12: 4165005 | AF12: 4166007
C13: 0 | F13: 吉台 | G13: 0 | K13: 0 | O13: 0 | R13: 栄 | S13: 0 | W13: 0 | AA13: 0 | AB13: 0 | AC13: 0 | AD13: 0 | AE13: 0 | AF13: 0
A14: 7 | B14: Ｇ前林 | C14: 50 | E14: 8 | F14: Ａ久住 | G14: 0 | I14: 5 | J14: 成田七栄 | K14: 1850 | M14: 7 | N14: Ｍ三里塚 | O14: 300 | Q14: 8 | R14: Ｇ前林 | S14: 0 | U14: 10 | V14: Ｇ前林 | W14: 0 | AA14: 4161007 | AB14: 4162008 | AC14: 4163005 | AD14: 4164007 | AE14: 4165008 | AF14: 4166010
C15: 0 | G15: 0 | K15: 0 | O15: 0 | S15: 0 | W15: 0 | AA15: 0 | AB15: 0 | AC15: 0 | AD15: 0 | AE15: 0 | AF15: 0
A16: 8 | B16: Ｇ滑河 | C16: 100 | E16: 10 | F16: Ｇ前林 | G16: 0 | I16: 6 | J16: 公津の杜 | K16: 1200 | M16: 8 | N16: Ｙ成田 | O16: 50 | Q16: 9 | R16: Ｇ滑河 | S16: 50 | U16: 11 | V16: Ｇ滑河 | W16: 50 | AA16: 4161008 | AB16: 4162010 | AC16: 4163006 | AD16: 4164008 | AE16: 4165009 | AF16: 4166011
C17: 0 | G17: 0 | K17: 0 | O17: 0 | S17: 0 | W17: 0 | AA17: 0 | AB17: 0 | AC17: 0 | AD17: 0 | AE17: 0 | AF17: 0
A18: 9 | B18: 久住東部 | C18: 50 | E18: 11 | F18: Ｇ滑河 | G18: 50 | I18: 7 | J18: 成田東部 | K18: 700 | M18: 9 | N18: Ｙ新成田 | O18: 50 | Q18: 10 | R18: Ａ久住東 | S18: 0 | U18: 12 | V18: Ａ久住東 | W18: 0 | AA18: 4161009 | AB18: 4162011 | AC18: 4163007 | AD18: 4164009 | AE18: 4165010 | AF18: 4166012
C19: 0 | G19: 0 | K19: 0 | O19: 0 | R19: 部 | S19: 0 | V19: 部 | W19: 0 | AA19: 0 | AB19: 0 | AC19: 0 | AD19: 0 | AE19: 0 | AF19: 0
A20: 10 | B20: 成田空港 | C20: 50 | E20: 12 | F20: Ａ久住東 | G20: 0 | I20: 9 | J20: Ｇ前林 | K20: 100 | M20: 12 | N20: Ｇ前林 | O20: 0 | Q20: 11 | R20: Ａ成田空 | S20: 50 | U20: 0 | W20: 0 | AA20: 4161010 | AB20: 4162012 | AC20: 4163009 | AD20: 4164012 | AE20: 4165011 | AF20: 0
C21: 0 | F21: 部 | G21: 0 | K21: 0 | O21: 0 | R21: 港 | S21: 0 | W21: 0 | AA21: 0 | AB21: 0 | AC21: 0 | AD21: 0 | AE21: 0 | AF21: 0
A22: 0 | C22: 0 | E22: 13 | F22: Ａ成田 | G22: 350 | I22: 10 | J22: Ｇ滑河 | K22: 600 | M22: 13 | N22: Ｇ滑河 | O22: 50 | Q22: 0 | S22: 0 | U22: 0 | W22: 0 | AA22: 0 | AB22: 4162013 | AC22: 4163010 | AD22: 4164013 | AE22: 0 | AF22: 0
C23: 0 | G23: 0 | K23: 0 | O23: 0 | S23: 0 | W23: 0 | AA23: 0 | AB23: 0 | AC23: 0 | AD23: 0 | AE23: 0 | AF23: 0
A24: 0 | C24: 0 | E24: 0 | G24: 0 | I24: 0 | K24: 0 | M24: 14 | N24: Ａ成田 | O24: 550 | Q24: 0 | S24: 0 | U24: 0 | W24: 0 | AA24: 0 | AB24: 0 | AC24: 0 | AD24: 4164014 | AE24: 0 | AF24: 0
C25: 0 | G25: 0 | K25: 0 | O25: 0 | S25: 0 | W25: 0 | AA25: 0 | AB25: 0 | AC25: 0 | AD25: 0 | AE25: 0 | AF25: 0
B42: 小計 | C42: =C6+C8+C10+C12+C14+C16+C18+C20+C22+C24+C26+C28+C30+C32+C34+C36+C38+C40 -> 3800 | D42: =D6+D8+D10+D12+D14+D16+D18+D20+D22+D24+D26+D28+D30+D32+D34+D36+D38+D40 -> 0 | F42: 小計 | G42: =G6+G8+G10+G12+G14+G16+G18+G20+G22+G24+G26+G28+G30+G32+G34+G36+G38+G40 -> 1300 | H42: =H6+H8+H10+H12+H14+H16+H18+H20+H22+H24+H26+H28+H30+H32+H34+H36+H38+H40 -> 0 | J42: 小計 | K42: =K6+K8+K10+K12+K14+K16+K18+K20+K22+K24+K26+K28+K30+K32+K34+K36+K38+K40 -> 15100 | L42: =L6+L8+L10+L12+L14+L16+L18+L20+L22+L24+L26+L28+L30+L32+L34+L36+L38+L40 -> 0 | N42: 小計 | O42: =O6+O8+O10+O12+O14+O16+O18+O20+O22+O24+O26+O28+O30+O32+O34+O36+O38+O40 -> 1800 | P42: =P6+P8+P10+P12+P14+P16+P18+P20+P22+P24+P26+P28+P30+P32+P34+P36+P38+P40 -> 0 | R42: 小計 | S42: =S6+S8+S10+S12+S14+S16+S18+S20+S22+S24+S26+S28+S30+S32+S34+S36+S38+S40 -> 700 | T42: =T6+T8+T10+T12+T14+T16+T18+T20+T22+T24+T26+T28+T30+T32+T34+T36+T38+T40 -> 0 | V42: 小計 | W42: =W6+W8+W10+W12+W14+W16+W18+W20+W22+W24+W26+W28+W30+W32+W34+W36+W38+W40 -> 950 | X42: =X6+X8+X10+X12+X14+X16+X18+X20+X22+X24+X26+X28+X30+X32+X34+X36+X38+X40 -> 0
C43: =C7+C9+C11+C13+C15+C17+C19+C21+C23+C25+C27+C29+C31+C33+C35+C37+C39+C41 -> 0 | D43: =D7+D9+D11+D13+D15+D17+D19+D21+D23+D25+D27+D29+D31+D33+D35+D37+D39+D41 -> 0 | G43: =G7+G9+G11+G13+G15+G17+G19+G21+G23+G25+G27+G29+G31+G33+G35+G37+G39+G41 -> 0 | H43: =H7+H9+H11+H13+H15+H17+H19+H21+H23+H25+H27+H29+H31+H33+H35+H37+H39+H41 -> 0 | K43: =K7+K9+K11+K13+K15+K17+K19+K21+K23+K25+K27+K29+K31+K33+K35+K37+K39+K41 -> 0 | L43: =L7+L9+L11+L13+L15+L17+L19+L21+L23+L25+L27+L29+L31+L33+L35+L37+L39+L41 -> 0 | O43: =O7+O9+O11+O13+O15+O17+O19+O21+O23+O25+O27+O29+O31+O33+O35+O37+O39+O41 -> 0 | P43: =P7+P9+P11+P13+P15+P17+P19+P21+P23+P25+P27+P29+P31+P33+P35+P37+P39+P41 -> 0 | S43: =S7+S9+S11+S13+S15+S17+S19+S21+S23+S25+S27+S29+S31+S33+S35+S37+S39+S41 -> 0 | T43: =T7+T9+T11+T13+T15+T17+T19+T21+T23+T25+T27+T29+T31+T33+T35+T37+T39+T41 -> 0 | W43: =W7+W9+W11+W13+W15+W17+W19+W21+W23+W25+W27+W29+W31+W33+W35+W37+W39+W41 -> 0 | X43: =X7+X9+X11+X13+X15+X17+X19+X21+X23+X25+X27+X29+X31+X33+X35+X37+X39+X41 -> 0
F44: 合 計 | K44: =C42+C43+G42+G43+K42+K43+O42+O43+S42+S43+W42+W43 -> 23650 | N44: （ | O44: =D42+D43+H42+H43+L42+L43+P42+P43+T42+T43+X42+X43 -> 0 | Q44: ）
A45: Ｙ三里塚名変⇒新成田 | H45: ＮＴ西部・ＮＴ東部・南部・富里で分配 | O45: Ｙ成田東部新店←神崎分店より

Sheet 印西市・富里市
A2: スポンサー | H2: 品 名 | O2: 代理店 | V2: 担 当
A3: 折 込 日 | C3: 年 月 日 曜日 | H3: サイズ | L3: 総枚数 | R3: 備 考
B4: 0417 | C4: 印西市・富里市 | AA4: 0417
B5: 朝日 | C5: 部数 | D5: 配布数 | F5: 毎日 | G5: 部数 | H5: 配布数 | J5: 読売 | K5: 部数 | L5: 配布数 | N5: 産経 | O5: 部数 | P5: 配布数 | R5: 東京 | S5: 部数 | T5: 配布数 | V5: 日経 | W5: 部数 | X5: 配布数
A6: 1 | B6: 酒々井 | C6: 700 | E6: 6 | F6: 印西 | G6: 50 | I6: 1 | J6: 千葉ＮＴ | K6: 2800 | M6: 1 | N6: 印西千葉 | O6: 1500 | Q6: 1 | R6: Ａ酒々井 | S6: 100 | U6: 1 | V6: Ａ印旛 | W6: 100 | AA6: 4171001 | AB6: 4172006 | AC6: 4173001 | AD6: 4174001 | AE6: 4175001 | AF6: 4176001
C7: 0 | G7: 0 | J7: 東部 | K7: 0 | N7: ＮＴ | O7: 0 | S7: 0 | W7: 0 | AA7: 0 | AB7: 0 | AC7: 0 | AD7: 0 | AE7: 0 | AF7: 0
A8: 2 | B8: 印旛 | C8: 400 | E8: 7 | F8: Ｙ千葉Ｎ | G8: 150 | I8: 2 | J8: 印西 | K8: 2300 | M8: 2 | N8: Ａ酒々井 | O8: 300 | Q8: 2 | R8: Ａ印旛 | S8: 50 | U8: 2 | V8: Ａ富里 | W8: 200 | AA8: 4171002 | AB8: 4172007 | AC8: 4173002 | AD8: 4174002 | AE8: 4175002 | AF8: 4176002
C9: 0 | F9: Ｔ西部 | G9: 0 | K9: 0 | O9: 0 | S9: 0 | W9: 0 | AA9: 0 | AB9: 0 | AC9: 0 | AD9: 0 | AE9: 0 | AF9: 0
A10: 3 | B10: 千葉ＮＴ | C10: 2600 | E10: 8 | F10: 酒々井 | G10: 50 | I10: 3 | J10: 酒々井 | K10: 1750 | M10: 3 | N10: Ａ印旛 | O10: 100 | Q10: 3 | R10: Ａ富里 | S10: 300 | U10: 3 | V10: Ｙ千葉Ｎ | W10: 550 | AA10: 4171003 | AB10: 4172008 | AC10: 4173003 | AD10: 4174003 | AE10: 4175003 | AF10: 4176003
B11: 中央 | C11: 0 | G11: 0 | K11: 0 | O11: 0 | S11: 0 | V11: Ｔ東部 | W11: 0 | AA11: 0 | AB11: 0 | AC11: 0 | AD11: 0 | AE11: 0 | AF11: 0
A12: 4 | B12: 富里 | C12: 1600 | E12: 9 | F12: Ａ千葉Ｎ | G12: 250 | I12: 4 | J12: 富里 | K12: 900 | M12: 5 | N12: Ｍ印西 | O12: 50 | Q12: 4 | R12: Ａ安食 | S12: 50 | U12: 4 | V12: Ｍ印西 | W12: 100 | AA12: 4171004 | AB12: 4172009 | AC12: 4173004 | AD12: 4174005 | AE12: 4175004 | AF12: 4176004
C13: 0 | F13: Ｔ中央 | G13: 0 | K13: 0 | O13: 0 | S13: 0 | W13: 0 | AA13: 0 | AB13: 0 | AC13: 0 | AD13: 0 | AE13: 0 | AF13: 0
A14: 5 | B14: 安食 | C14: 1300 | E14: 10 | F14: Ａ富里 | G14: 100 | I14: 5 | J14: 安食 | K14: 2300 | M14: 6 | N14: Ｙ富里 | O14: 0 | Q14: 8 | R14: Ｙ安食 | S14: 50 | U14: 5 | V14: Ｙ酒々井 | W14: 150 | AA14: 4171005 | AB14: 4172010 | AC14: 4173005 | AD14: 4174006 | AE14: 4175008 | AF14: 4176005
C15: 0 | G15: 0 | K15: 0 | O15: 0 | S15: 0 | W15: 0 | AA15: 0 | AB15: 0 | AC15: 0 | AD15: 0 | AE15: 0 | AF15: 0
A16: 0 | C16: 0 | E16: 11 | F16: Ａ安食 | G16: 350 | I16: 7 | J16: 千葉ＮＴ | K16: 1950 | M16: 7 | N16: Ｙ安食 | O16: 150 | Q16: 9 | R16: Ｙ千葉Ｎ | S16: 50 | U16: 6 | V16: Ｙ富里 | W16: 50 | AA16: 0 | AB16: 4172011 | AC16: 4173007 | AD16: 4174007 | AE16: 4175009 | AF16: 4176006
C17: 0 | G17: 0 | J17: 西部 | K17: 0 | O17: 0 | R17: Ｔ東部 | S17: 0 | W17: 0 | AA17: 0 | AB17: 0 | AC17: 0 | AD17: 0 | AE17: 0 | AF17: 0
A18: 0 | C18: 0 | E18: 0 | G18: 0 | I18: 0 | K18: 0 | M18: 9 | N18: Ｙ千葉Ｎ | O18: 50 | Q18: 10 | R18: Ｙ千葉Ｎ | S18: 50 | U18: 7 | V18: Ｙ安食 | W18: 150 | AA18: 0 | AB18: 0 | AC18: 0 | AD18: 4174009 | AE18: 4175010 | AF18: 4176007
C19: 0 | G19: 0 | K19: 0 | N19: Ｔ西部 | O19: 0 | R19: Ｔ西部 | S19: 0 | W19: 0 | AA19: 0 | AB19: 0 | AC19: 0 | AD19: 0 | AE19: 0 | AF19: 0
A20: 0 | C20: 0 | E20: 0 | G20: 0 | I20: 0 | K20: 0 | M20: 10 | N20: 富里 | O20: 50 | Q20: 11 | R20: Ｓ印西千 | S20: 150 | U20: 9 | V20: Ｙ千葉Ｎ | W20: 450 | AA20: 0 | AB20: 0 | AC20: 0 | AD20: 4174010 | AE20: 4175011 | AF20: 4176009
C21: 0 | G21: 0 | K21: 0 | O21: 0 | R21: 葉ＮＴ | S21: 0 | V21: Ｔ西部 | W21: 0 | AA21: 0 | AB21: 0 | AC21: 0 | AD21: 0 | AE21: 0 | AF21: 0
B42: 小計 | C42: =C6+C8+C10+C12+C14+C16+C18+C20+C22+C24+C26+C28+C30+C32+C34+C36+C38+C40 -> 6600 | D42: =D6+D8+D10+D12+D14+D16+D18+D20+D22+D24+D26+D28+D30+D32+D34+D36+D38+D40 -> 0 | F42: 小計 | G42: =G6+G8+G10+G12+G14+G16+G18+G20+G22+G24+G26+G28+G30+G32+G34+G36+G38+G40 -> 950 | H42: =H6+H8+H10+H12+H14+H16+H18+H20+H22+H24+H26+H28+H30+H32+H34+H36+H38+H40 -> 0 | J42: 小計 | K42: =K6+K8+K10+K12+K14+K16+K18+K20+K22+K24+K26+K28+K30+K32+K34+K36+K38+K40 -> 12000 | L42: =L6+L8+L10+L12+L14+L16+L18+L20+L22+L24+L26+L28+L30+L32+L34+L36+L38+L40 -> 0 | N42: 小計 | O42: =O6+O8+O10+O12+O14+O16+O18+O20+O22+O24+O26+O28+O30+O32+O34+O36+O38+O40 -> 2200 | P42: =P6+P8+P10+P12+P14+P16+P18+P20+P22+P24+P26+P28+P30+P32+P34+P36+P38+P40 -> 0 | R42: 小計 | S42: =S6+S8+S10+S12+S14+S16+S18+S20+S22+S24+S26+S28+S30+S32+S34+S36+S38+S40 -> 800 | T42: =T6+T8+T10+T12+T14+T16+T18+T20+T22+T24+T26+T28+T30+T32+T34+T36+T38+T40 -> 0 | V42: 小計 | W42: =W6+W8+W10+W12+W14+W16+W18+W20+W22+W24+W26+W28+W30+W32+W34+W36+W38+W40 -> 1750 | X42: =X6+X8+X10+X12+X14+X16+X18+X20+X22+X24+X26+X28+X30+X32+X34+X36+X38+X40 -> 0
C43: =C7+C9+C11+C13+C15+C17+C19+C21+C23+C25+C27+C29+C31+C33+C35+C37+C39+C41 -> 0 | D43: =D7+D9+D11+D13+D15+D17+D19+D21+D23+D25+D27+D29+D31+D33+D35+D37+D39+D41 -> 0 | G43: =G7+G9+G11+G13+G15+G17+G19+G21+G23+G25+G27+G29+G31+G33+G35+G37+G39+G41 -> 0 | H43: =H7+H9+H11+H13+H15+H17+H19+H21+H23+H25+H27+H29+H31+H33+H35+H37+H39+H41 -> 0 | K43: =K7+K9+K11+K13+K15+K17+K19+K21+K23+K25+K27+K29+K31+K33+K35+K37+K39+K41 -> 0 | L43: =L7+L9+L11+L13+L15+L17+L19+L21+L23+L25+L27+L29+L31+L33+L35+L37+L39+L41 -> 0 | O43: =O7+O9+O11+O13+O15+O17+O19+O21+O23+O25+O27+O29+O31+O33+O35+O37+O39+O41 -> 0 | P43: =P7+P9+P11+P13+P15+P17+P19+P21+P23+P25+P27+P29+P31+P33+P35+P37+P39+P41 -> 0 | S43: =S7+S9+S11+S13+S15+S17+S19+S21+S23+S25+S27+S29+S31+S33+S35+S37+S39+S41 -> 0 | T43: =T7+T9+T11+T13+T15+T17+T19+T21+T23+T25+T27+T29+T31+T33+T35+T37+T39+T41 -> 0 | W43: =W7+W9+W11+W13+W15+W17+W19+W21+W23+W25+W27+W29+W31+W33+W35+W37+W39+W41 -> 0 | X43: =X7+X9+X11+X13+X15+X17+X19+X21+X23+X25+X27+X29+X31+X33+X35+X37+X39+X41 -> 0
F44: 合 計 | K44: =C42+C43+G42+G43+K42+K43+O42+O43+S42+S43+W42+W43 -> 24300 | N44: （ | O44: =D42+D43+H42+H43+L42+L43+P42+P43+T42+T43+X42+X43 -> 0 | Q44: ）
A45: Ａ富里七栄⇒富里・名変 | H45: Ｓ千葉ＮＴ廃店⇒木下⇒印西千葉ＮＴ名変 | O45: Ｙ印幡⇒印西

Sheet 八　街　市
A2: スポンサー | H2: 品 名 | O2: 代理店 | V2: 担 当
A3: 折 込 日 | C3: 年 月 日 曜日 | H3: サイズ | L3: 総枚数 | R3: 備 考
B4: 0418 | C4: 八 街 市 | AA4: 0418
B5: 朝日 | C5: 部数 | D5: 配布数 | F5: 毎日 | G5: 部数 | H5: 配布数 | J5: 読売 | K5: 部数 | L5: 配布数 | N5: 産経 | O5: 部数 | P5: 配布数 | R5: 東京 | S5: 部数 | T5: 配布数 | V5: 日経 | W5: 部数 | X5: 配布数
A6: 1 | B6: 八街中央 | C6: 1550 | E6: 2 | F6: Ａ八街中 | G6: 250 | I6: 1 | J6: 八街 | K6: 2750 | M6: 2 | N6: Ｙ八街 | O6: 50 | Q6: 2 | R6: Ａ八街中 | S6: 200 | U6: 1 | V6: Ｙ八街 | W6: 100 | AA6: 4181001 | AB6: 4182002 | AC6: 4183001 | AD6: 4184002 | AE6: 4185002 | AF6: 4186001
C7: 0 | F7: 央 | G7: 0 | K7: 0 | O7: 0 | R7: 央 | S7: 0 | W7: 0 | AA7: 0 | AB7: 0 | AC7: 0 | AD7: 0 | AE7: 0 | AF7: 0
A8: 0 | C8: 0 | E8: 0 | G8: 0 | I8: 2 | J8: 榎戸 | K8: 3150 | M8: 3 | N8: Ａ八街中 | O8: 150 | Q8: 0 | S8: 0 | U8: 2 | V8: Ｙ榎戸 | W8: 100 | AA8: 0 | AB8: 0 | AC8: 4183002 | AD8: 4184003 | AE8: 0 | AF8: 4186002
C9: 0 | G9: 0 | K9: 0 | N9: 央 | O9: 0 | S9: 0 | W9: 0 | AA9: 0 | AB9: 0 | AC9: 0 | AD9: 0 | AE9: 0 | AF9: 0
B42: 小計 | C42: =C6+C8+C10+C12+C14+C16+C18+C20+C22+C24+C26+C28+C30+C32+C34+C36+C38+C40 -> 1550 | D42: =D6+D8+D10+D12+D14+D16+D18+D20+D22+D24+D26+D28+D30+D32+D34+D36+D38+D40 -> 0 | F42: 小計 | G42: =G6+G8+G10+G12+G14+G16+G18+G20+G22+G24+G26+G28+G30+G32+G34+G36+G38+G40 -> 250 | H42: =H6+H8+H10+H12+H14+H16+H18+H20+H22+H24+H26+H28+H30+H32+H34+H36+H38+H40 -> 0 | J42: 小計 | K42: =K6+K8+K10+K12+K14+K16+K18+K20+K22+K24+K26+K28+K30+K32+K34+K36+K38+K40 -> 5900 | L42: =L6+L8+L10+L12+L14+L16+L18+L20+L22+L24+L26+L28+L30+L32+L34+L36+L38+L40 -> 0 | N42: 小計 | O42: =O6+O8+O10+O12+O14+O16+O18+O20+O22+O24+O26+O28+O30+O32+O34+O36+O38+O40 -> 200 | P42: =P6+P8+P10+P12+P14+P16+P18+P20+P22+P24+P26+P28+P30+P32+P34+P36+P38+P40 -> 0 | R42: 小計 | S42: =S6+S8+S10+S12+S14+S16+S18+S20+S22+S24+S26+S28+S30+S32+S34+S36+S38+S40 -> 200 | T42: =T6+T8+T10+T12+T14+T16+T18+T20+T22+T24+T26+T28+T30+T32+T34+T36+T38+T40 -> 0 | V42: 小計 | W42: =W6+W8+W10+W12+W14+W16+W18+W20+W22+W24+W26+W28+W30+W32+W34+W36+W38+W40 -> 200 | X42: =X6+X8+X10+X12+X14+X16+X18+X20+X22+X24+X26+X28+X30+X32+X34+X36+X38+X40 -> 0
C43: =C7+C9+C11+C13+C15+C17+C19+C21+C23+C25+C27+C29+C31+C33+C35+C37+C39+C41 -> 0 | D43: =D7+D9+D11+D13+D15+D17+D19+D21+D23+D25+D27+D29+D31+D33+D35+D37+D39+D41 -> 0 | G43: =G7+G9+G11+G13+G15+G17+G19+G21+G23+G25+G27+G29+G31+G33+G35+G37+G39+G41 -> 0 | H43: =H7+H9+H11+H13+H15+H17+H19+H21+H23+H25+H27+H29+H31+H33+H35+H37+H39+H41 -> 0 | K43: =K7+K9+K11+K13+K15+K17+K19+K21+K23+K25+K27+K29+K31+K33+K35+K37+K39+K41 -> 0 | L43: =L7+L9+L11+L13+L15+L17+L19+L21+L23+L25+L27+L29+L31+L33+L35+L37+L39+L41 -> 0 | O43: =O7+O9+O11+O13+O15+O17+O19+O21+O23+O25+O27+O29+O31+O33+O35+O37+O39+O41 -> 0 | P43: =P7+P9+P11+P13+P15+P17+P19+P21+P23+P25+P27+P29+P31+P33+P35+P37+P39+P41 -> 0 | S43: =S7+S9+S11+S13+S15+S17+S19+S21+S23+S25+S27+S29+S31+S33+S35+S37+S39+S41 -> 0 | T43: =T7+T9+T11+T13+T15+T17+T19+T21+T23+T25+T27+T29+T31+T33+T35+T37+T39+T41 -> 0 | W43: =W7+W9+W11+W13+W15+W17+W19+W21+W23+W25+W27+W29+W31+W33+W35+W37+W39+W41 -> 0 | X43: =X7+X9+X11+X13+X15+X17+X19+X21+X23+X25+X27+X29+X31+X33+X35+X37+X39+X41 -> 0
F44: 合 計 | K44: =C42+C43+G42+G43+K42+K43+O42+O43+S42+S43+W42+W43 -> 8300 | N44: （ | O44: =D42+D43+H42+H43+L42+L43+P42+P43+T42+T43+X42+X43 -> 0 | Q44: ）
A45: Ｍ八街廃店⇒Ａ八街中央・Ｓ・Ｔ共に引継

Sheet 松　戸　市
A2: スポンサー | H2: 品 名 | O2: 代理店 | V2: 担 当
A3: 折 込 日 | C3: 年 月 日 曜日 | H3: サイズ | L3: 総枚数 | R3: 備 考
B4: 0419 | C4: 松 戸 市 | AA4: 0419
B5: 朝日 | C5: 部数 | D5: 配布数 | F5: 毎日 | G5: 部数 | H5: 配布数 | J5: 読売 | K5: 部数 | L5: 配布数 | N5: 産経 | O5: 部数 | P5: 配布数 | R5: 東京 | S5: 部数 | T5: 配布数 | V5: 日経 | W5: 部数 | X5: 配布数
A6: 3 | B6: 常盤平 | C6: 1350 | E6: 3 | F6: 常盤平 | G6: 300 | I6: 1 | J6: 松戸 | K6: 3450 | M6: 1 | N6: 常盤平 | O6: 1000 | Q6: 1 | R6: 松戸 | S6: 1100 | U6: 1 | V6: Ａ常盤平 | W6: 200 | AA6: 4191003 | AB6: 4192003 | AC6: 4193001 | AD6: 4194001 | AE6: 4195001 | AF6: 4196001
C7: 0 | G7: 0 | K7: 0 | O7: 0 | S7: 0 | W7: 0 | AA7: 0 | AB7: 0 | AC7: 0 | AD7: 0 | AE7: 0 | AF7: 0
A8: 7 | B8: 新松戸南 | C8: 2850 | E8: 4 | F8: 東松戸松 | G8: 50 | I8: 2 | J8: 東松戸（ | K8: 2250 | M8: 2 | N8: 松戸 | O8: 500 | Q8: 4 | R8: Ａ松戸五 | S8: 300 | U8: 3 | V8: Ａ松戸五 | W8: 400 | AA8: 4191007 | AB8: 4192004 | AC8: 4193002 | AD8: 4194002 | AE8: 4195004 | AF8: 4196003
B9: 部 | C9: 0 | F9: 飛台 | G9: 0 | J9: 南松戸） | K9: 0 | O9: 0 | R9: 香 | S9: 0 | V9: 香 | W9: 0 | AA9: 0 | AB9: 0 | AC9: 0 | AD9: 0 | AE9: 0 | AF9: 0
A10: 8 | B10: 北小金 | C10: 2900 | E10: 5 | F10: 五香 | G10: 50 | I10: 7 | J10: 上本郷 | K10: 3150 | M10: 6 | N10: Ｍ六実 | O10: 550 | Q10: 9 | R10: Ｍ小金原 | S10: 350 | U10: 7 | V10: Ｍ小金原 | W10: 100 | AA10: 4191008 | AB10: 4192005 | AC10: 4193007 | AD10: 4194006 | AE10: 4195009 | AF10: 4196007
C11: 0 | G11: 0 | K11: 0 | O11: 0 | R11: 団地 | S11: 0 | V11: 団地 | W11: 0 | AA11: 0 | AB11: 0 | AC11: 0 | AD11: 0 | AE11: 0 | AF11: 0
A12: 11 | B12: 松戸南部 | C12: 2850 | E12: 6 | F12: 六実 | G12: 250 | I12: 8 | J12: 稔台 | K12: 3850 | M12: 9 | N12: Ｍ小金原 | O12: 200 | Q12: 11 | R12: Ａ松戸南 | S12: 600 | U12: 11 | V12: Ｙ小金原 | W12: 200 | AA12: 4191011 | AB12: 4192006 | AC12: 4193008 | AD12: 4194009 | AE12: 4195011 | AF12: 4196011
C13: 0 | G13: 0 | K13: 0 | N13: 団地 | O13: 0 | R13: 部 | S13: 0 | W13: 0 | AA13: 0 | AB13: 0 | AC13: 0 | AD13: 0 | AE13: 0 | AF13: 0
A14: 12 | B14: 松戸八ヶ | C14: 2700 | E14: 8 | F14: Ａ新松戸 | G14: 250 | I14: 10 | J14: 小金原 | K14: 3350 | M14: 10 | N14: Ａ松戸南 | O14: 350 | Q14: 14 | R14: Ａ北小金 | S14: 450 | U14: 12 | V14: Ｙ北小金 | W14: 200 | AA14: 4191012 | AB14: 4192008 | AC14: 4193010 | AD14: 4194010 | AE14: 4195014 | AF14: 4196012
B15: 崎 | C15: 0 | F15: 南部 | G15: 0 | K15: 0 | N15: 部 | O15: 0 | S15: 0 | W15: 0 | AA15: 0 | AB15: 0 | AC15: 0 | AD15: 0 | AE15: 0 | AF15: 0
A16: 14 | B16: 松戸五香 | C16: 2700 | E16: 9 | F16: 小金原団 | G16: 150 | I16: 12 | J16: 六実 | K16: 3300 | M16: 13 | N16: Ａ北小金 | O16: 250 | Q16: 15 | R16: Ａ松戸八 | S16: 250 | U16: 13 | V16: Ｙ新松戸 | W16: 400 | AA16: 4191014 | AB16: 4192009 | AC16: 4193012 | AD16: 4194013 | AE16: 4195015 | AF16: 4196013
C17: 0 | F17: 地 | G17: 0 | K17: 0 | O17: 0 | R17: ヶ崎 | S17: 0 | V17: 北部 | W17: 0 | AA17: 0 | AB17: 0 | AC17: 0 | AD17: 0 | AE17: 0 | AF17: 0
A18: 15 | B18: Ｔ松戸 | C18: 3250 | E18: 11 | F18: Ｔ松戸 | G18: 300 | I18: 14 | J18: 北小金 | K18: 1600 | M18: 14 | N18: Ａ松戸八 | O18: 150 | Q18: 16 | R18: Ａ八柱 | S18: 250 | U18: 14 | V18: Ｙ金ケ作 | W18: 200 | AA18: 4191015 | AB18: 4192011 | AC18: 4193014 | AD18: 4194014 | AE18: 4195016 | AF18: 4196014
C19: 0 | G19: 0 | K19: 0 | N19: ヶ崎 | O19: 0 | S19: 0 | V19: 五香 | W19: 0 | AA19: 0 | AB19: 0 | AC19: 0 | AD19: 0 | AE19: 0 | AF19: 0
A20: 16 | B20: 八柱 | C20: 2050 | E20: 12 | F20: Ａ松戸南 | G20: 200 | I20: 15 | J20: 新松戸北 | K20: 1800 | M20: 15 | N20: Ａ新松戸 | O20: 300 | Q20: 17 | R20: Ａ新松戸 | S20: 600 | U20: 17 | V20: Ｙ松飛台 | W20: 350 | AA20: 4191016 | AB20: 4192012 | AC20: 4193015 | AD20: 4194015 | AE20: 4195017 | AF20: 4196017
C21: 0 | F21: 部 | G21: 0 | J21: 部 | K21: 0 | N21: 南部 | O21: 0 | R21: 南部 | S21: 0 | V21: くぬぎ山 | W21: 0 | AA21: 0 | AB21: 0 | AC21: 0 | AD21: 0 | AE21: 0 | AF21: 0
A22: 0 | C22: 0 | E22: 15 | F22: Ａ北小金 | G22: 250 | I22: 16 | J22: 金ヶ作五 | K22: 2950 | M22: 0 | O22: 0 | Q22: 19 | R22: Ａ常盤平 | S22: 300 | U22: 20 | V22: Ｙ上本郷 | W22: 150 | AA22: 0 | AB22: 4192015 | AC22: 4193016 | AD22: 0 | AE22: 4195019 | AF22: 4196020
C23: 0 | G23: 0 | J23: 香 | K23: 0 | O23: 0 | S23: 0 | W23: 0 | AA23: 0 | AB23: 0 | AC23: 0 | AD23: 0 | AE23: 0 | AF23: 0
A24: 0 | C24: 0 | E24: 16 | F24: Ａ松戸八 | G24: 100 | I24: 20 | J24: 松飛台く | K24: 5250 | M24: 0 | O24: 0 | Q24: 0 | S24: 0 | U24: 21 | V24: Ｙ稔台 | W24: 150 | AA24: 0 | AB24: 4192016 | AC24: 4193020 | AD24: 0 | AE24: 0 | AF24: 4196021
C25: 0 | F25: ヶ崎 | G25: 0 | J25: ぬぎ山 | K25: 0 | O25: 0 | S25: 0 | W25: 0 | AA25: 0 | AB25: 0 | AC25: 0 | AD25: 0 | AE25: 0 | AF25: 0
A26: 0 | C26: 0 | E26: 0 | G26: 0 | I26: 23 | J26: 北松戸八 | K26: 1750 | M26: 0 | O26: 0 | Q26: 0 | S26: 0 | U26: 23 | V26: Ｙ六実 | W26: 100 | AA26: 0 | AB26: 0 | AC26: 4193023 | AD26: 0 | AE26: 0 | AF26: 4196023
C27: 0 | G27: 0 | J27: ヶ崎 | K27: 0 | O27: 0 | S27: 0 | W27: 0 | AA27: 0 | AB27: 0 | AC27: 0 | AD27: 0 | AE27: 0 | AF27: 0
A28: 0 | C28: 0 | E28: 0 | G28: 0 | I28: 24 | J28: 新松戸 | K28: 4250 | M28: 0 | O28: 0 | Q28: 0 | S28: 0 | U28: 27 | V28: Ｔ松戸 | W28: 1050 | AA28: 0 | AB28: 0 | AC28: 4193024 | AD28: 0 | AE28: 0 | AF28: 4196027
C29: 0 | G29: 0 | K29: 0 | O29: 0 | S29: 0 | W29: 0 | AA29: 0 | AB29: 0 | AC29: 0 | AD29: 0 | AE29: 0 | AF29: 0
A30: 0 | C30: 0 | E30: 0 | G30: 0 | I30: 26 | J30: 松戸南部 | K30: 5950 | M30: 0 | O30: 0 | Q30: 0 | S30: 0 | U30: 28 | V30: Ａ松戸南 | W30: 600 | AA30: 0 | AB30: 0 | AC30: 4193026 | AD30: 0 | AE30: 0 | AF30: 4196028
C31: 0 | G31: 0 | K31: 0 | O31: 0 | S31: 0 | V31: 部 | W31: 0 | AA31: 0 | AB31: 0 | AC31: 0 | AD31: 0 | AE31: 0 | AF31: 0
A32: 0 | C32: 0 | E32: 0 | G32: 0 | I32: 0 | K32: 0 | M32: 0 | O32: 0 | Q32: 0 | S32: 0 | U32: 31 | V32: Ａ新松戸 | W32: 400 | AA32: 0 | AB32: 0 | AC32: 0 | AD32: 0 | AE32: 0 | AF32: 4196031
C33: 0 | G33: 0 | K33: 0 | O33: 0 | S33: 0 | V33: 南部 | W33: 0 | AA33: 0 | AB33: 0 | AC33: 0 | AD33: 0 | AE33: 0 | AF33: 0
A34: 0 | C34: 0 | E34: 0 | G34: 0 | I34: 0 | K34: 0 | M34: 0 | O34: 0 | Q34: 0 | S34: 0 | U34: 32 | V34: Ｙ新松戸 | W34: 250 | AA34: 0 | AB34: 0 | AC34: 0 | AD34: 0 | AE34: 0 | AF34: 4196032
C35: 0 | G35: 0 | K35: 0 | O35: 0 | S35: 0 | W35: 0 | AA35: 0 | AB35: 0 | AC35: 0 | AD35: 0 | AE35: 0 | AF35: 0
A36: 0 | C36: 0 | E36: 0 | G36: 0 | I36: 0 | K36: 0 | M36: 0 | O36: 0 | Q36: 0 | S36: 0 | U36: 33 | V36: Ｙ北松戸 | W36: 100 | AA36: 0 | AB36: 0 | AC36: 0 | AD36: 0 | AE36: 0 | AF36: 4196033
C37: 0 | G37: 0 | K37: 0 | O37: 0 | S37: 0 | V37: 八ヶ崎 | W37: 0 | AA37: 0 | AB37: 0 | AC37: 0 | AD37: 0 | AE37: 0 | AF37: 0
A38: 0 | C38: 0 | E38: 0 | G38: 0 | I38: 0 | K38: 0 | M38: 0 | O38: 0 | Q38: 0 | S38: 0 | U38: 34 | V38: Ａ北小金 | W38: 450 | AA38: 0 | AB38: 0 | AC38: 0 | AD38: 0 | AE38: 0 | AF38: 4196034
C39: 0 | G39: 0 | K39: 0 | O39: 0 | S39: 0 | W39: 0 | AA39: 0 | AB39: 0 | AC39: 0 | AD39: 0 | AE39: 0 | AF39: 0
A40: 0 | C40: 0 | E40: 0 | G40: 0 | I40: 0 | K40: 0 | M40: 0 | O40: 0 | Q40: 0 | S40: 0 | U40: 35 | V40: Ａ松戸八 | W40: 150 | AA40: 0 | AB40: 0 | AC40: 0 | AD40: 0 | AE40: 0 | AF40: 4196035
C41: 0 | G41: 0 | K41: 0 | O41: 0 | S41: 0 | V41: ヶ崎 | W41: 0 | AA41: 0 | AB41: 0 | AC41: 0 | AD41: 0 | AE41: 0 | AF41: 0
B42: 小計 | C42: =C6+C8+C10+C12+C14+C16+C18+C20+C22+C24+C26+C28+C30+C32+C34+C36+C38+C40 -> 20650 | D42: =D6+D8+D10+D12+D14+D16+D18+D20+D22+D24+D26+D28+D30+D32+D34+D36+D38+D40 -> 0 | F42: 小計 | G42: =G6+G8+G10+G12+G14+G16+G18+G20+G22+G24+G26+G28+G30+G32+G34+G36+G38+G40 -> 1900 | H42: =H6+H8+H10+H12+H14+H16+H18+H20+H22+H24+H26+H28+H30+H32+H34+H36+H38+H40 -> 0 | J42: 小計 | K42: =K6+K8+K10+K12+K14+K16+K18+K20+K22+K24+K26+K28+K30+K32+K34+K36+K38+K40 -> 42900 | L42: =L6+L8+L10+L12+L14+L16+L18+L20+L22+L24+L26+L28+L30+L32+L34+L36+L38+L40 -> 0 | N42: 小計 | O42: =O6+O8+O10+O12+O14+O16+O18+O20+O22+O24+O26+O28+O30+O32+O34+O36+O38+O40 -> 3300 | P42: =P6+P8+P10+P12+P14+P16+P18+P20+P22+P24+P26+P28+P30+P32+P34+P36+P38+P40 -> 0 | R42: 小計 | S42: =S6+S8+S10+S12+S14+S16+S18+S20+S22+S24+S26+S28+S30+S32+S34+S36+S38+S40 -> 4200 | T42: =T6+T8+T10+T12+T14+T16+T18+T20+T22+T24+T26+T28+T30+T32+T34+T36+T38+T40 -> 0 | V42: 小計 | W42: =W6+W8+W10+W12+W14+W16+W18+W20+W22+W24+W26+W28+W30+W32+W34+W36+W38+W40 -> 5450 | X42: =X6+X8+X10+X12+X14+X16+X18+X20+X22+X24+X26+X28+X30+X32+X34+X36+X38+X40 -> 0
C43: =C7+C9+C11+C13+C15+C17+C19+C21+C23+C25+C27+C29+C31+C33+C35+C37+C39+C41 -> 0 | D43: =D7+D9+D11+D13+D15+D17+D19+D21+D23+D25+D27+D29+D31+D33+D35+D37+D39+D41 -> 0 | G43: =G7+G9+G11+G13+G15+G17+G19+G21+G23+G25+G27+G29+G31+G33+G35+G37+G39+G41 -> 0 | H43: =H7+H9+H11+H13+H15+H17+H19+H21+H23+H25+H27+H29+H31+H33+H35+H37+H39+H41 -> 0 | K43: =K7+K9+K11+K13+K15+K17+K19+K21+K23+K25+K27+K29+K31+K33+K35+K37+K39+K41 -> 0 | L43: =L7+L9+L11+L13+L15+L17+L19+L21+L23+L25+L27+L29+L31+L33+L35+L37+L39+L41 -> 0 | O43: =O7+O9+O11+O13+O15+O17+O19+O21+O23+O25+O27+O29+O31+O33+O35+O37+O39+O41 -> 0 | P43: =P7+P9+P11+P13+P15+P17+P19+P21+P23+P25+P27+P29+P31+P33+P35+P37+P39+P41 -> 0 | S43: =S7+S9+S11+S13+S15+S17+S19+S21+S23+S25+S27+S29+S31+S33+S35+S37+S39+S41 -> 0 | T43: =T7+T9+T11+T13+T15+T17+T19+T21+T23+T25+T27+T29+T31+T33+T35+T37+T39+T41 -> 0 | W43: =W7+W9+W11+W13+W15+W17+W19+W21+W23+W25+W27+W29+W31+W33+W35+W37+W39+W41 -> 0 | X43: =X7+X9+X11+X13+X15+X17+X19+X21+X23+X25+X27+X29+X31+X33+X35+X37+X39+X41 -> 0
F44: 合 計 | N44: （ | Q44: ）
A45: Ａ北松戸西口⇒松戸西部・名変

Sheet 松　戸　市(2)
A2: スポンサー | H2: 品 名 | O2: 代理店 | V2: 担 当
A3: 折 込 日 | C3: 年 月 日 曜日 | H3: サイズ | L3: 総枚数 | R3: 備 考
B4: 0419 | C4: 松 戸 市 | AA4: 0419
B5: 朝日 | C5: 部数 | D5: 配布数 | F5: 毎日 | G5: 部数 | H5: 配布数 | J5: 読売 | K5: 部数 | L5: 配布数 | N5: 産経 | O5: 部数 | P5: 配布数 | R5: 東京 | S5: 部数 | T5: 配布数 | V5: 日経 | W5: 部数 | X5: 配布数
A6: 0 | C6: 0 | E6: 0 | G6: 0 | I6: 0 | K6: 0 | M6: 0 | O6: 0 | Q6: 0 | S6: 0 | U6: 37 | V6: Ａ八柱 | W6: 550 | AA6: 0 | AB6: 0 | AC6: 0 | AD6: 0 | AE6: 0 | AF6: 4196037
C7: 0 | G7: 0 | K7: 0 | O7: 0 | S7: 0 | W7: 0 | AA7: 0 | AB7: 0 | AC7: 0 | AD7: 0 | AE7: 0 | AF7: 0
A8: 0 | C8: 0 | E8: 0 | G8: 0 | I8: 0 | K8: 0 | M8: 0 | O8: 0 | Q8: 0 | S8: 0 | U8: 38 | V8: Ｙ東松戸 | W8: 100 | AA8: 0 | AB8: 0 | AC8: 0 | AD8: 0 | AE8: 0 | AF8: 4196038
C9: 0 | G9: 0 | K9: 0 | O9: 0 | S9: 0 | W9: 0 | AA9: 0 | AB9: 0 | AC9: 0 | AD9: 0 | AE9: 0 | AF9: 0
B42: 小計 | C42: =C6+C8+C10+C12+C14+C16+C18+C20+C22+C24+C26+C28+C30+C32+C34+C36+C38+C40 -> 0 | D42: =D6+D8+D10+D12+D14+D16+D18+D20+D22+D24+D26+D28+D30+D32+D34+D36+D38+D40 -> 0 | F42: 小計 | G42: =G6+G8+G10+G12+G14+G16+G18+G20+G22+G24+G26+G28+G30+G32+G34+G36+G38+G40 -> 0 | H42: =H6+H8+H10+H12+H14+H16+H18+H20+H22+H24+H26+H28+H30+H32+H34+H36+H38+H40 -> 0 | J42: 小計 | K42: =K6+K8+K10+K12+K14+K16+K18+K20+K22+K24+K26+K28+K30+K32+K34+K36+K38+K40 -> 0 | L42: =L6+L8+L10+L12+L14+L16+L18+L20+L22+L24+L26+L28+L30+L32+L34+L36+L38+L40 -> 0 | N42: 小計 | O42: =O6+O8+O10+O12+O14+O16+O18+O20+O22+O24+O26+O28+O30+O32+O34+O36+O38+O40 -> 0 | P42: =P6+P8+P10+P12+P14+P16+P18+P20+P22+P24+P26+P28+P30+P32+P34+P36+P38+P40 -> 0 | R42: 小計 | S42: =S6+S8+S10+S12+S14+S16+S18+S20+S22+S24+S26+S28+S30+S32+S34+S36+S38+S40 -> 0 | T42: =T6+T8+T10+T12+T14+T16+T18+T20+T22+T24+T26+T28+T30+T32+T34+T36+T38+T40 -> 0 | V42: 小計 | W42: =W6+W8+W10+W12+W14+W16+W18+W20+W22+W24+W26+W28+W30+W32+W34+W36+W38+W40 -> 650 | X42: =X6+X8+X10+X12+X14+X16+X18+X20+X22+X24+X26+X28+X30+X32+X34+X36+X38+X40 -> 0
C43: =C7+C9+C11+C13+C15+C17+C19+C21+C23+C25+C27+C29+C31+C33+C35+C37+C39+C41 -> 0 | D43: =D7+D9+D11+D13+D15+D17+D19+D21+D23+D25+D27+D29+D31+D33+D35+D37+D39+D41 -> 0 | G43: =G7+G9+G11+G13+G15+G17+G19+G21+G23+G25+G27+G29+G31+G33+G35+G37+G39+G41 -> 0 | H43: =H7+H9+H11+H13+H15+H17+H19+H21+H23+H25+H27+H29+H31+H33+H35+H37+H39+H41 -> 0 | K43: =K7+K9+K11+K13+K15+K17+K19+K21+K23+K25+K27+K29+K31+K33+K35+K37+K39+K41 -> 0 | L43: =L7+L9+L11+L13+L15+L17+L19+L21+L23+L25+L27+L29+L31+L33+L35+L37+L39+L41 -> 0 | O43: =O7+O9+O11+O13+O15+O17+O19+O21+O23+O25+O27+O29+O31+O33+O35+O37+O39+O41 -> 0 | P43: =P7+P9+P11+P13+P15+P17+P19+P21+P23+P25+P27+P29+P31+P33+P35+P37+P39+P41 -> 0 | S43: =S7+S9+S11+S13+S15+S17+S19+S21+S23+S25+S27+S29+S31+S33+S35+S37+S39+S41 -> 0 | T43: =T7+T9+T11+T13+T15+T17+T19+T21+T23+T25+T27+T29+T31+T33+T35+T37+T39+T41 -> 0 | W43: =W7+W9+W11+W13+W15+W17+W19+W21+W23+W25+W27+W29+W31+W33+W35+W37+W39+W41 -> 0 | X43: =X7+X9+X11+X13+X15+X17+X19+X21+X23+X25+X27+X29+X31+X33+X35+X37+X39+X41 -> 0
B44: 合計 | C44: ='松 戸 市'!C42 + '松 戸 市(2)'!C42 -> 20650 | D44: ='松 戸 市'!D42 + '松 戸 市(2)'!D42 -> 0 | F44: 合計 | G44: ='松 戸 市'!G42 + '松 戸 市(2)'!G42 -> 1900 | H44: ='松 戸 市'!H42 + '松 戸 市(2)'!H42 -> 0 | J44: 合計 | K44: ='松 戸 市'!K42 + '松 戸 市(2)'!K42 -> 42900 | L44: ='松 戸 市'!L42 + '松 戸 市(2)'!L42 -> 0 | N44: 合計 | O44: ='松 戸 市'!O42 + '松 戸 市(2)'!O42 -> 3300 | P44: ='松 戸 市'!P42 + '松 戸 市(2)'!P42 -> 0 | R44: 合計 | S44: ='松 戸 市'!S42 + '松 戸 市(2)'!S42 -> 4200 | T44: ='松 戸 市'!T42 + '松 戸 市(2)'!T42 -> 0 | V44: 合計 | W44: ='松 戸 市'!W42 + '松 戸 市(2)'!W42 -> 6100 | X44: ='松 戸 市'!X42 + '松 戸 市(2)'!X42 -> 0
C45: ='松 戸 市'!C43 + '松 戸 市(2)'!C43 -> 0 | D45: ='松 戸 市'!D43 + '松 戸 市(2)'!D43 -> 0 | G45: ='松 戸 市'!G43 + '松 戸 市(2)'!G43 -> 0 | H45: ='松 戸 市'!H43 + '松 戸 市(2)'!H43 -> 0 | K45: ='松 戸 市'!K43 + '松 戸 市(2)'!K43 -> 0 | L45: ='松 戸 市'!L43 + '松 戸 市(2)'!L43 -> 0 | O45: ='松 戸 市'!O43 + '松 戸 市(2)'!O43 -> 0 | P45: ='松 戸 市'!P43 + '松 戸 市(2)'!P43 -> 0 | S45: ='松 戸 市'!S43 + '松 戸 市(2)'!S43 -> 0 | T45: ='松 戸 市'!T43 + '松 戸 市(2)'!T43 -> 0 | W45: ='松 戸 市'!W43 + '松 戸 市(2)'!W43 -> 0 | X45: ='松 戸 市'!X43 + '松 戸 市(2)'!X43 -> 0
F46: 合 計 | K46: =C44+C45+G44+G45+K44+K45+O44+O45+S44+S45+W44+W45 -> 79050 | N46: （ | O46: =D44+D45+H44+H45+L44+L45+P44+P45+T44+T45+X44+X45 -> 0 | Q46: ）

Sheet 柏　市
A2: スポンサー | H2: 品 名 | O2: 代理店 | V2: 担 当
A3: 折 込 日 | C3: 年 月 日 曜日 | H3: サイズ | L3: 総枚数 | R3: 備 考
B4: 0420 | C4: 柏 市 | AA4: 0420
B5: 朝日 | C5: 部数 | D5: 配布数 | F5: 毎日 | G5: 部数 | H5: 配布数 | J5: 読売 | K5: 部数 | L5: 配布数 | N5: 産経 | O5: 部数 | P5: 配布数 | R5: 東京 | S5: 部数 | T5: 配布数 | V5: 日経 | W5: 部数 | X5: 配布数
A6: 2 | B6: 柏中央 | C6: 3000 | E6: 1 | F6: 柏西部 | G6: 1100 | I6: 1 | J6: 柏中部 | K6: 3200 | M6: 2 | N6: Ａ柏増尾 | O6: 50 | Q6: 1 | R6: 南柏 | S6: 1000 | U6: 1 | V6: Ａ北柏 | W6: 500 | AA6: 4201002 | AB6: 4202001 | AC6: 4203001 | AD6: 4204002 | AE6: 4205001 | AF6: 4206001
C7: 0 | G7: 0 | K7: 0 | O7: 0 | S7: 0 | W7: 0 | AA7: 0 | AB7: 0 | AC7: 0 | AD7: 0 | AE7: 0 | AF7: 0
A8: 3 | B8: 豊四季 | C8: 2050 | E8: 2 | F8: 柏南部 | G8: 200 | I8: 2 | J8: 柏東部 | K8: 3050 | M8: 3 | N8: Ａ北柏 | O8: 250 | Q8: 2 | R8: 柏大津ヶ | S8: 600 | U8: 3 | V8: Ｍ柏南部 | W8: 300 | AA8: 4201003 | AB8: 4202002 | AC8: 4203002 | AD8: 4204003 | AE8: 4205002 | AF8: 4206003
C9: 0 | G9: 0 | K9: 0 | O9: 0 | R9: 丘 | S9: 0 | W9: 0 | AA9: 0 | AB9: 0 | AC9: 0 | AD9: 0 | AE9: 0 | AF9: 0
A10: 4 | B10: 柏増尾 | C10: 3900 | E10: 4 | F10: 柏中央 | G10: 800 | I10: 4 | J10: 柏南部 | K10: 2900 | M10: 4 | N10: Ａ柏南部 | O10: 50 | Q10: 3 | R10: Ａ豊四季 | S10: 50 | U10: 5 | V10: Ｙ柏南部 | W10: 550 | AA10: 4201004 | AB10: 4202004 | AC10: 4203004 | AD10: 4204004 | AE10: 4205003 | AF10: 4206005
C11: 0 | G11: 0 | K11: 0 | O11: 0 | S11: 0 | W11: 0 | AA11: 0 | AB11: 0 | AC11: 0 | AD11: 0 | AE11: 0 | AF11: 0
A12: 5 | B12: 柏西部 | C12: 1250 | E12: 5 | F12: 柏豊四季 | G12: 900 | I12: 5 | J12: 柏北部 | K12: 1500 | M12: 5 | N12: Ｍ柏西部 | O12: 550 | Q12: 4 | R12: Ａ柏の葉 | S12: 100 | U12: 6 | V12: Ｙ逆井 | W12: 550 | AA12: 4201005 | AB12: 4202005 | AC12: 4203005 | AD12: 4204005 | AE12: 4205004 | AF12: 4206006
C13: 0 | G13: 0 | K13: 0 | O13: 0 | S13: 0 | W13: 0 | AA13: 0 | AB13: 0 | AC13: 0 | AD13: 0 | AE13: 0 | AF13: 0
A14: 6 | B14: 柏の葉 | C14: 2150 | E14: 7 | F14: 北柏 | G14: 250 | I14: 6 | J14: 柏大津ヶ | K14: 1350 | M14: 6 | N14: Ｍ柏南部 | O14: 100 | Q14: 5 | R14: Ａ北柏 | S14: 300 | U14: 7 | V14: Ｙ柏中部 | W14: 500 | AA14: 4201006 | AB14: 4202007 | AC14: 4203006 | AD14: 4204006 | AE14: 4205005 | AF14: 4206007
C15: 0 | G15: 0 | J15: 丘 | K15: 0 | O15: 0 | S15: 0 | W15: 0 | AA15: 0 | AB15: 0 | AC15: 0 | AD15: 0 | AE15: 0 | AF15: 0
A16: 7 | B16: 北柏 | C16: 2350 | E16: 9 | F16: Ａ柏南部 | G16: 100 | I16: 7 | J16: 南柏駅前 | K16: 4550 | M16: 7 | N16: Ｍ柏中央 | O16: 350 | Q16: 6 | R16: Ｍ柏西部 | S16: 700 | U16: 9 | V16: Ｙ柏東部 | W16: 500 | AA16: 4201007 | AB16: 4202009 | AC16: 4203007 | AD16: 4204007 | AE16: 4205006 | AF16: 4206009
C17: 0 | F17: （高柳） | G17: 0 | K17: 0 | O17: 0 | S17: 0 | W17: 0 | AA17: 0 | AB17: 0 | AC17: 0 | AD17: 0 | AE17: 0 | AF17: 0
A18: 8 | B18: 柏南部 | C18: 2100 | E18: 10 | F18: Ｔ柏大津 | G18: 100 | I18: 8 | J18: 柏豊四季 | K18: 1750 | M18: 8 | N18: Ｍ柏豊四 | O18: 350 | Q18: 7 | R18: Ｍ柏南部 | S18: 100 | U18: 10 | V18: Ｙ柏北部 | W18: 600 | AA18: 4201008 | AB18: 4202010 | AC18: 4203008 | AD18: 4204008 | AE18: 4205007 | AF18: 4206010
C19: 0 | F19: ヶ丘 | G19: 0 | K19: 0 | N19: 季 | O19: 0 | S19: 0 | W19: 0 | AA19: 0 | AB19: 0 | AC19: 0 | AD19: 0 | AE19: 0 | AF19: 0
A20: 9 | B20: 柏大津ヶ | C20: 1450 | E20: 11 | F20: Ａ柏中央 | G20: 50 | I20: 9 | J20: 逆井 | K20: 5100 | M20: 10 | N20: Ｙ逆井 | O20: 100 | Q20: 8 | R20: Ｍ柏豊四 | S20: 150 | U20: 11 | V20: Ｙ柏大津 | W20: 200 | AA20: 4201009 | AB20: 4202011 | AC20: 4203009 | AD20: 4204010 | AE20: 4205008 | AF20: 4206011
B21: 丘 | C21: 0 | G21: 0 | K21: 0 | O21: 0 | R21: 季 | S21: 0 | V21: ケ丘 | W21: 0 | AA21: 0 | AB21: 0 | AC21: 0 | AD21: 0 | AE21: 0 | AF21: 0
A22: 10 | B22: 西柏 | C22: 1000 | E22: 12 | F22: Ａ柏増尾 | G22: 250 | I22: 10 | J22: 豊四季駅 | K22: 2500 | M22: 12 | N22: Ｔ南柏 | O22: 450 | Q22: 9 | R22: Ｍ柏中央 | S22: 550 | U22: 12 | V22: Ｙ柏豊四 | W22: 350 | AA22: 4201010 | AB22: 4202012 | AC22: 4203010 | AD22: 4204012 | AE22: 4205009 | AF22: 4206012
C23: 0 | G23: 0 | J23: 前 | K23: 0 | O23: 0 | S23: 0 | V23: 季 | W23: 0 | AA23: 0 | AB23: 0 | AC23: 0 | AD23: 0 | AE23: 0 | AF23: 0
A24: 0 | C24: 0 | E24: 13 | F24: Ａ柏の葉 | G24: 50 | I24: 13 | J24: 柏高柳 | K24: 800 | M24: 13 | N24: Ｔ柏大津 | O24: 100 | Q24: 10 | R24: Ｙ逆井 | S24: 300 | U24: 13 | V24: Ｙ豊四季 | W24: 550 | AA24: 0 | AB24: 4202013 | AC24: 4203013 | AD24: 4204013 | AE24: 4205010 | AF24: 4206013
C25: 0 | G25: 0 | K25: 0 | N25: ヶ丘 | O25: 0 | S25: 0 | V25: 駅前 | W25: 0 | AA25: 0 | AB25: 0 | AC25: 0 | AD25: 0 | AE25: 0 | AF25: 0
A26: 0 | C26: 0 | E26: 0 | G26: 0 | I26: 14 | J26: 北柏 | K26: 3100 | M26: 14 | N26: Ａ柏の葉 | O26: 50 | Q26: 12 | R26: Ｙ北柏 | S26: 100 | U26: 15 | V26: Ｙ柏高柳 | W26: 100 | AA26: 0 | AB26: 0 | AC26: 4203014 | AD26: 4204014 | AE26: 4205012 | AF26: 4206015
C27: 0 | G27: 0 | K27: 0 | O27: 0 | S27: 0 | W27: 0 | AA27: 0 | AB27: 0 | AC27: 0 | AD27: 0 | AE27: 0 | AF27: 0
A28: 0 | C28: 0 | E28: 0 | G28: 0 | I28: 15 | J28: 南柏 | K28: 1900 | M28: 0 | O28: 0 | Q28: 0 | S28: 0 | U28: 16 | V28: Ｙ南柏駅 | W28: 850 | AA28: 0 | AB28: 0 | AC28: 4203015 | AD28: 0 | AE28: 0 | AF28: 4206016
C29: 0 | G29: 0 | K29: 0 | O29: 0 | S29: 0 | V29: 前 | W29: 0 | AA29: 0 | AB29: 0 | AC29: 0 | AD29: 0 | AE29: 0 | AF29: 0
A30: 0 | C30: 0 | E30: 0 | G30: 0 | I30: 0 | K30: 0 | M30: 0 | O30: 0 | Q30: 0 | S30: 0 | U30: 17 | V30: Ｙ北柏 | W30: 400 | AA30: 0 | AB30: 0 | AC30: 0 | AD30: 0 | AE30: 0 | AF30: 4206017
C31: 0 | G31: 0 | K31: 0 | O31: 0 | S31: 0 | W31: 0 | AA31: 0 | AB31: 0 | AC31: 0 | AD31: 0 | AE31: 0 | AF31: 0
A32: 0 | C32: 0 | E32: 0 | G32: 0 | I32: 0 | K32: 0 | M32: 0 | O32: 0 | Q32: 0 | S32: 0 | U32: 18 | V32: Ｙ南柏 | W32: 150 | AA32: 0 | AB32: 0 | AC32: 0 | AD32: 0 | AE32: 0 | AF32: 4206018
C33: 0 | G33: 0 | K33: 0 | O33: 0 | S33: 0 | W33: 0 | AA33: 0 | AB33: 0 | AC33: 0 | AD33: 0 | AE33: 0 | AF33: 0
B42: 小計 | C42: =C6+C8+C10+C12+C14+C16+C18+C20+C22+C24+C26+C28+C30+C32+C34+C36+C38+C40 -> 19250 | D42: =D6+D8+D10+D12+D14+D16+D18+D20+D22+D24+D26+D28+D30+D32+D34+D36+D38+D40 -> 0 | F42: 小計 | G42: =G6+G8+G10+G12+G14+G16+G18+G20+G22+G24+G26+G28+G30+G32+G34+G36+G38+G40 -> 3800 | H42: =H6+H8+H10+H12+H14+H16+H18+H20+H22+H24+H26+H28+H30+H32+H34+H36+H38+H40 -> 0 | J42: 小計 | K42: =K6+K8+K10+K12+K14+K16+K18+K20+K22+K24+K26+K28+K30+K32+K34+K36+K38+K40 -> 31700 | L42: =L6+L8+L10+L12+L14+L16+L18+L20+L22+L24+L26+L28+L30+L32+L34+L36+L38+L40 -> 0 | N42: 小計 | O42: =O6+O8+O10+O12+O14+O16+O18+O20+O22+O24+O26+O28+O30+O32+O34+O36+O38+O40 -> 2400 | P42: =P6+P8+P10+P12+P14+P16+P18+P20+P22+P24+P26+P28+P30+P32+P34+P36+P38+P40 -> 0 | R42: 小計 | S42: =S6+S8+S10+S12+S14+S16+S18+S20+S22+S24+S26+S28+S30+S32+S34+S36+S38+S40 -> 3950 | T42: =T6+T8+T10+T12+T14+T16+T18+T20+T22+T24+T26+T28+T30+T32+T34+T36+T38+T40 -> 0 | V42: 小計 | W42: =W6+W8+W10+W12+W14+W16+W18+W20+W22+W24+W26+W28+W30+W32+W34+W36+W38+W40 -> 6100 | X42: =X6+X8+X10+X12+X14+X16+X18+X20+X22+X24+X26+X28+X30+X32+X34+X36+X38+X40 -> 0
C43: =C7+C9+C11+C13+C15+C17+C19+C21+C23+C25+C27+C29+C31+C33+C35+C37+C39+C41 -> 0 | D43: =D7+D9+D11+D13+D15+D17+D19+D21+D23+D25+D27+D29+D31+D33+D35+D37+D39+D41 -> 0 | G43: =G7+G9+G11+G13+G15+G17+G19+G21+G23+G25+G27+G29+G31+G33+G35+G37+G39+G41 -> 0 | H43: =H7+H9+H11+H13+H15+H17+H19+H21+H23+H25+H27+H29+H31+H33+H35+H37+H39+H41 -> 0 | K43: =K7+K9+K11+K13+K15+K17+K19+K21+K23+K25+K27+K29+K31+K33+K35+K37+K39+K41 -> 0 | L43: =L7+L9+L11+L13+L15+L17+L19+L21+L23+L25+L27+L29+L31+L33+L35+L37+L39+L41 -> 0 | O43: =O7+O9+O11+O13+O15+O17+O19+O21+O23+O25+O27+O29+O31+O33+O35+O37+O39+O41 -> 0 | P43: =P7+P9+P11+P13+P15+P17+P19+P21+P23+P25+P27+P29+P31+P33+P35+P37+P39+P41 -> 0 | S43: =S7+S9+S11+S13+S15+S17+S19+S21+S23+S25+S27+S29+S31+S33+S35+S37+S39+S41 -> 0 | T43: =T7+T9+T11+T13+T15+T17+T19+T21+T23+T25+T27+T29+T31+T33+T35+T37+T39+T41 -> 0 | W43: =W7+W9+W11+W13+W15+W17+W19+W21+W23+W25+W27+W29+W31+W33+W35+W37+W39+W41 -> 0 | X43: =X7+X9+X11+X13+X15+X17+X19+X21+X23+X25+X27+X29+X31+X33+X35+X37+X39+X41 -> 0
F44: 合 計 | K44: =C42+C43+G42+G43+K42+K43+O42+O43+S42+S43+W42+W43 -> 67200 | N44: （ | O44: =D42+D43+H42+H43+L42+L43+P42+P43+T42+T43+X42+X43 -> 0 | Q44: ）
A45: Ｍ柏東部廃店⇒中央店が引継

Sheet 我孫子市
A2: スポンサー | H2: 品 名 | O2: 代理店 | V2: 担 当
A3: 折 込 日 | C3: 年 月 日 曜日 | H3: サイズ | L3: 総枚数 | R3: 備 考
B4: 0421 | C4: 我孫子市 | AA4: 0421
B5: 朝日 | C5: 部数 | D5: 配布数 | F5: 毎日 | G5: 部数 | H5: 配布数 | J5: 読売 | K5: 部数 | L5: 配布数 | N5: 産経 | O5: 部数 | P5: 配布数 | R5: 東京 | S5: 部数 | T5: 配布数 | V5: 日経 | W5: 部数 | X5: 配布数
A6: 2 | B6: 我孫子天 | C6: 2750 | E6: 3 | F6: Ｙ布佐中 | G6: 100 | I6: 1 | J6: 我孫子天 | K6: 3150 | M6: 2 | N6: Ａ我孫子 | O6: 300 | Q6: 2 | R6: Ａ我孫子 | S6: 150 | U6: 3 | V6: Ａ我孫子 | W6: 550 | AA6: 4211002 | AB6: 4212003 | AC6: 4213001 | AD6: 4214002 | AE6: 4215002 | AF6: 4216003
B7: 王台 | C7: 0 | F7: 央 | G7: 0 | J7: 王台 | K7: 0 | N7: 天王台 | O7: 0 | R7: 西部 | S7: 0 | V7: 天王台 | W7: 0 | AA7: 0 | AB7: 0 | AC7: 0 | AD7: 0 | AE7: 0 | AF7: 0
A8: 3 | B8: 我孫子西 | C8: 2500 | E8: 5 | F8: Ｙ我孫子 | G8: 100 | I8: 2 | J8: 新我孫子 | K8: 3000 | M8: 3 | N8: Ａ我孫子 | O8: 200 | Q8: 3 | R8: Ａ我孫子 | S8: 300 | U8: 4 | V8: Ａ我孫子 | W8: 500 | AA8: 4211003 | AB8: 4212005 | AC8: 4213002 | AD8: 4214003 | AE8: 4215003 | AF8: 4216004
B9: 部 | C9: 0 | F9: 東部 | G9: 0 | K9: 0 | N9: 西部 | O9: 0 | R9: 天王台 | S9: 0 | V9: 西部 | W9: 0 | AA9: 0 | AB9: 0 | AC9: 0 | AD9: 0 | AE9: 0 | AF9: 0
A10: 4 | B10: 湖北 | C10: 2300 | E10: 6 | F10: 我孫子西 | G10: 150 | I10: 3 | J10: 布佐中央 | K10: 1350 | M10: 4 | N10: Ｙ布佐中 | O10: 100 | Q10: 4 | R10: Ｙ我孫子 | S10: 100 | U10: 5 | V10: Ｙ我孫子 | W10: 350 | AA10: 4211004 | AB10: 4212006 | AC10: 4213003 | AD10: 4214004 | AE10: 4215004 | AF10: 4216005
C11: 0 | F11: 部 | G11: 0 | K11: 0 | N11: 央 | O11: 0 | R11: 天王台 | S11: 0 | V11: 天王台 | W11: 0 | AA11: 0 | AB11: 0 | AC11: 0 | AD11: 0 | AE11: 0 | AF11: 0
A12: 0 | C12: 0 | E12: 7 | F12: 天王台 | G12: 400 | I12: 5 | J12: 我孫子東 | K12: 2750 | M12: 5 | N12: Ｙ我孫子 | O12: 150 | Q12: 5 | R12: Ｙ新我孫 | S12: 150 | U12: 6 | V12: Ｙ我孫子 | W12: 200 | AA12: 0 | AB12: 4212007 | AC12: 4213005 | AD12: 4214005 | AE12: 4215005 | AF12: 4216006
C13: 0 | G13: 0 | J13: 部 | K13: 0 | N13: 東部 | O13: 0 | R13: 子 | S13: 0 | V13: 東部 | W13: 0 | AA13: 0 | AB13: 0 | AC13: 0 | AD13: 0 | AE13: 0 | AF13: 0
A14: 0 | C14: 0 | E14: 0 | G14: 0 | I14: 0 | K14: 0 | M14: 0 | O14: 0 | Q14: 6 | R14: Ｙ布佐中 | S14: 150 | U14: 9 | V14: Ｙ布佐中 | W14: 150 | AA14: 0 | AB14: 0 | AC14: 0 | AD14: 0 | AE14: 4215006 | AF14: 4216009
C15: 0 | G15: 0 | K15: 0 | O15: 0 | R15: 央 | S15: 0 | V15: 央 | W15: 0 | AA15: 0 | AB15: 0 | AC15: 0 | AD15: 0 | AE15: 0 | AF15: 0
A16: 0 | C16: 0 | E16: 0 | G16: 0 | I16: 0 | K16: 0 | M16: 0 | O16: 0 | Q16: 8 | R16: Ｙ我孫子 | S16: 250 | U16: 10 | V16: Ｙ新我孫 | W16: 450 | AA16: 0 | AB16: 0 | AC16: 0 | AD16: 0 | AE16: 4215008 | AF16: 4216010
C17: 0 | G17: 0 | K17: 0 | O17: 0 | R17: 東部 | S17: 0 | V17: 子 | W17: 0 | AA17: 0 | AB17: 0 | AC17: 0 | AD17: 0 | AE17: 0 | AF17: 0
A18: 0 | C18: 0 | E18: 0 | G18: 0 | I18: 0 | K18: 0 | M18: 0 | O18: 0 | Q18: 0 | S18: 0 | U18: 12 | V18: Ａ湖北 | W18: 100 | AA18: 0 | AB18: 0 | AC18: 0 | AD18: 0 | AE18: 0 | AF18: 4216012
C19: 0 | G19: 0 | K19: 0 | O19: 0 | S19: 0 | W19: 0 | AA19: 0 | AB19: 0 | AC19: 0 | AD19: 0 | AE19: 0 | AF19: 0
B42: 小計 | C42: =C6+C8+C10+C12+C14+C16+C18+C20+C22+C24+C26+C28+C30+C32+C34+C36+C38+C40 -> 7550 | D42: =D6+D8+D10+D12+D14+D16+D18+D20+D22+D24+D26+D28+D30+D32+D34+D36+D38+D40 -> 0 | F42: 小計 | G42: =G6+G8+G10+G12+G14+G16+G18+G20+G22+G24+G26+G28+G30+G32+G34+G36+G38+G40 -> 750 | H42: =H6+H8+H10+H12+H14+H16+H18+H20+H22+H24+H26+H28+H30+H32+H34+H36+H38+H40 -> 0 | J42: 小計 | K42: =K6+K8+K10+K12+K14+K16+K18+K20+K22+K24+K26+K28+K30+K32+K34+K36+K38+K40 -> 10250 | L42: =L6+L8+L10+L12+L14+L16+L18+L20+L22+L24+L26+L28+L30+L32+L34+L36+L38+L40 -> 0 | N42: 小計 | O42: =O6+O8+O10+O12+O14+O16+O18+O20+O22+O24+O26+O28+O30+O32+O34+O36+O38+O40 -> 750 | P42: =P6+P8+P10+P12+P14+P16+P18+P20+P22+P24+P26+P28+P30+P32+P34+P36+P38+P40 -> 0 | R42: 小計 | S42: =S6+S8+S10+S12+S14+S16+S18+S20+S22+S24+S26+S28+S30+S32+S34+S36+S38+S40 -> 1100 | T42: =T6+T8+T10+T12+T14+T16+T18+T20+T22+T24+T26+T28+T30+T32+T34+T36+T38+T40 -> 0 | V42: 小計 | W42: =W6+W8+W10+W12+W14+W16+W18+W20+W22+W24+W26+W28+W30+W32+W34+W36+W38+W40 -> 2300 | X42: =X6+X8+X10+X12+X14+X16+X18+X20+X22+X24+X26+X28+X30+X32+X34+X36+X38+X40 -> 0
C43: =C7+C9+C11+C13+C15+C17+C19+C21+C23+C25+C27+C29+C31+C33+C35+C37+C39+C41 -> 0 | D43: =D7+D9+D11+D13+D15+D17+D19+D21+D23+D25+D27+D29+D31+D33+D35+D37+D39+D41 -> 0 | G43: =G7+G9+G11+G13+G15+G17+G19+G21+G23+G25+G27+G29+G31+G33+G35+G37+G39+G41 -> 0 | H43: =H7+H9+H11+H13+H15+H17+H19+H21+H23+H25+H27+H29+H31+H33+H35+H37+H39+H41 -> 0 | K43: =K7+K9+K11+K13+K15+K17+K19+K21+K23+K25+K27+K29+K31+K33+K35+K37+K39+K41 -> 0 | L43: =L7+L9+L11+L13+L15+L17+L19+L21+L23+L25+L27+L29+L31+L33+L35+L37+L39+L41 -> 0 | O43: =O7+O9+O11+O13+O15+O17+O19+O21+O23+O25+O27+O29+O31+O33+O35+O37+O39+O41 -> 0 | P43: =P7+P9+P11+P13+P15+P17+P19+P21+P23+P25+P27+P29+P31+P33+P35+P37+P39+P41 -> 0 | S43: =S7+S9+S11+S13+S15+S17+S19+S21+S23+S25+S27+S29+S31+S33+S35+S37+S39+S41 -> 0 | T43: =T7+T9+T11+T13+T15+T17+T19+T21+T23+T25+T27+T29+T31+T33+T35+T37+T39+T41 -> 0 | W43: =W7+W9+W11+W13+W15+W17+W19+W21+W23+W25+W27+W29+W31+W33+W35+W37+W39+W41 -> 0 | X43: =X7+X9+X11+X13+X15+X17+X19+X21+X23+X25+X27+X29+X31+X33+X35+X37+X39+X41 -> 0
F44: 合 計 | K44: =C42+C43+G42+G43+K42+K43+O42+O43+S42+S43+W42+W43 -> 22700 | N44: （ | O44: =D42+D43+H42+H43+L42+L43+P42+P43+T42+T43+X42+X43 -> 0 | Q44: ）
A45: Ｙ湖北⇒我孫子東部名変

Sheet 流　山　市
A2: スポンサー | H2: 品 名 | O2: 代理店 | V2: 担 当
A3: 折 込 日 | C3: 年 月 日 曜日 | H3: サイズ | L3: 総枚数 | R3: 備 考
B4: 0422 | C4: 流 山 市 | AA4: 0422
B5: 朝日 | C5: 部数 | D5: 配布数 | F5: 毎日 | G5: 部数 | H5: 配布数 | J5: 読売 | K5: 部数 | L5: 配布数 | N5: 産経 | O5: 部数 | P5: 配布数 | R5: 東京 | S5: 部数 | T5: 配布数 | V5: 日経 | W5: 部数 | X5: 配布数
A6: 1 | B6: 流山 | C6: 1350 | E6: 1 | F6: Ｙ南流山 | G6: 100 | I6: 1 | J6: 流山 | K6: 3050 | M6: 1 | N6: Ａ流山 | O6: 150 | Q6: 1 | R6: Ａ流山南 | S6: 350 | U6: 1 | V6: Ａ流山 | W6: 300 | AA6: 4221001 | AB6: 4222001 | AC6: 4223001 | AD6: 4224001 | AE6: 4225001 | AF6: 4226001
C7: 0 | G7: 0 | K7: 0 | O7: 0 | R7: 部 | S7: 0 | W7: 0 | AA7: 0 | AB7: 0 | AC7: 0 | AD7: 0 | AE7: 0 | AF7: 0
A8: 2 | B8: 江戸川台 | C8: 1700 | E8: 2 | F8: 初石 | G8: 350 | I8: 2 | J8: 江戸川台 | K8: 3000 | M8: 2 | N8: Ａ江戸川 | O8: 200 | Q8: 2 | R8: Ａ流山 | S8: 150 | U8: 2 | V8: Ａ流山南 | W8: 500 | AA8: 4221002 | AB8: 4222002 | AC8: 4223002 | AD8: 4224002 | AE8: 4225002 | AF8: 4226002
B9: ・運河 | C9: 0 | G9: 0 | K9: 0 | N9: 台・運河 | O9: 0 | S9: 0 | V9: 部 | W9: 0 | AA9: 0 | AB9: 0 | AC9: 0 | AD9: 0 | AE9: 0 | AF9: 0
A10: 3 | B10: 流山おお | C10: 2650 | E10: 4 | F10: Ｙ流山 | G10: 50 | I10: 3 | J10: 初石 | K10: 3700 | M10: 3 | N10: Ａ流山南 | O10: 200 | Q10: 3 | R10: Ａ流山お | S10: 100 | U10: 3 | V10: Ｙ流山 | W10: 450 | AA10: 4221003 | AB10: 4222004 | AC10: 4223003 | AD10: 4224003 | AE10: 4225003 | AF10: 4226003
B11: たかの森 | C11: 0 | G11: 0 | K11: 0 | N11: 部 | O11: 0 | R11: おたか森 | S11: 0 | W11: 0 | AA11: 0 | AB11: 0 | AC11: 0 | AD11: 0 | AE11: 0 | AF11: 0
A12: 4 | B12: 流山南部 | C12: 2000 | E12: 5 | F12: Ａ流山南 | G12: 100 | I12: 4 | J12: 南流山 | K12: 2750 | M12: 5 | N12: Ｍ初石 | O12: 100 | Q12: 4 | R12: Ｍ初石 | S12: 250 | U12: 4 | V12: Ｙ江戸川 | W12: 500 | AA12: 4221004 | AB12: 4222005 | AC12: 4223004 | AD12: 4224005 | AE12: 4225004 | AF12: 4226004
C13: 0 | F13: 部 | G13: 0 | K13: 0 | O13: 0 | S13: 0 | V13: 台 | W13: 0 | AA13: 0 | AB13: 0 | AC13: 0 | AD13: 0 | AE13: 0 | AF13: 0
A14: 6 | B14: 江戸川台 | C14: 200 | E14: 6 | F14: Ｔ江戸川 | G14: 50 | I14: 0 | K14: 0 | M14: 6 | N14: Ｔ江戸川 | O14: 0 | Q14: 6 | R14: 江戸川台 | S14: 50 | U14: 5 | V14: Ｙ初石 | W14: 550 | AA14: 4221006 | AB14: 4222006 | AC14: 0 | AD14: 4224006 | AE14: 4225006 | AF14: 4226005
B15: 北部 | C15: 0 | F15: 台北部 | G15: 0 | K15: 0 | N15: 台北部 | O15: 0 | R15: 北部 | S15: 0 | W15: 0 | AA15: 0 | AB15: 0 | AC15: 0 | AD15: 0 | AE15: 0 | AF15: 0
A16: 0 | C16: 0 | E16: 7 | F16: Ａ江戸川 | G16: 200 | I16: 0 | K16: 0 | M16: 0 | O16: 0 | Q16: 7 | R16: Ａ江戸川 | S16: 350 | U16: 6 | V16: Ｙ南流山 | W16: 200 | AA16: 0 | AB16: 4222007 | AC16: 0 | AD16: 0 | AE16: 4225007 | AF16: 4226006
C17: 0 | F17: 台・運河 | G17: 0 | K17: 0 | O17: 0 | R17: 台・運河 | S17: 0 | W17: 0 | AA17: 0 | AB17: 0 | AC17: 0 | AD17: 0 | AE17: 0 | AF17: 0
B42: 小計 | C42: =C6+C8+C10+C12+C14+C16+C18+C20+C22+C24+C26+C28+C30+C32+C34+C36+C38+C40 -> 7900 | D42: =D6+D8+D10+D12+D14+D16+D18+D20+D22+D24+D26+D28+D30+D32+D34+D36+D38+D40 -> 0 | F42: 小計 | G42: =G6+G8+G10+G12+G14+G16+G18+G20+G22+G24+G26+G28+G30+G32+G34+G36+G38+G40 -> 850 | H42: =H6+H8+H10+H12+H14+H16+H18+H20+H22+H24+H26+H28+H30+H32+H34+H36+H38+H40 -> 0 | J42: 小計 | K42: =K6+K8+K10+K12+K14+K16+K18+K20+K22+K24+K26+K28+K30+K32+K34+K36+K38+K40 -> 12500 | L42: =L6+L8+L10+L12+L14+L16+L18+L20+L22+L24+L26+L28+L30+L32+L34+L36+L38+L40 -> 0 | N42: 小計 | O42: =O6+O8+O10+O12+O14+O16+O18+O20+O22+O24+O26+O28+O30+O32+O34+O36+O38+O40 -> 650 | P42: =P6+P8+P10+P12+P14+P16+P18+P20+P22+P24+P26+P28+P30+P32+P34+P36+P38+P40 -> 0 | R42: 小計 | S42: =S6+S8+S10+S12+S14+S16+S18+S20+S22+S24+S26+S28+S30+S32+S34+S36+S38+S40 -> 1250 | T42: =T6+T8+T10+T12+T14+T16+T18+T20+T22+T24+T26+T28+T30+T32+T34+T36+T38+T40 -> 0 | V42: 小計 | W42: =W6+W8+W10+W12+W14+W16+W18+W20+W22+W24+W26+W28+W30+W32+W34+W36+W38+W40 -> 2500 | X42: =X6+X8+X10+X12+X14+X16+X18+X20+X22+X24+X26+X28+X30+X32+X34+X36+X38+X40 -> 0
C43: =C7+C9+C11+C13+C15+C17+C19+C21+C23+C25+C27+C29+C31+C33+C35+C37+C39+C41 -> 0 | D43: =D7+D9+D11+D13+D15+D17+D19+D21+D23+D25+D27+D29+D31+D33+D35+D37+D39+D41 -> 0 | G43: =G7+G9+G11+G13+G15+G17+G19+G21+G23+G25+G27+G29+G31+G33+G35+G37+G39+G41 -> 0 | H43: =H7+H9+H11+H13+H15+H17+H19+H21+H23+H25+H27+H29+H31+H33+H35+H37+H39+H41 -> 0 | K43: =K7+K9+K11+K13+K15+K17+K19+K21+K23+K25+K27+K29+K31+K33+K35+K37+K39+K41 -> 0 | L43: =L7+L9+L11+L13+L15+L17+L19+L21+L23+L25+L27+L29+L31+L33+L35+L37+L39+L41 -> 0 | O43: =O7+O9+O11+O13+O15+O17+O19+O21+O23+O25+O27+O29+O31+O33+O35+O37+O39+O41 -> 0 | P43: =P7+P9+P11+P13+P15+P17+P19+P21+P23+P25+P27+P29+P31+P33+P35+P37+P39+P41 -> 0 | S43: =S7+S9+S11+S13+S15+S17+S19+S21+S23+S25+S27+S29+S31+S33+S35+S37+S39+S41 -> 0 | T43: =T7+T9+T11+T13+T15+T17+T19+T21+T23+T25+T27+T29+T31+T33+T35+T37+T39+T41 -> 0 | W43: =W7+W9+W11+W13+W15+W17+W19+W21+W23+W25+W27+W29+W31+W33+W35+W37+W39+W41 -> 0 | X43: =X7+X9+X11+X13+X15+X17+X19+X21+X23+X25+X27+X29+X31+X33+X35+X37+X39+X41 -> 0
F44: 合 計 | K44: =C42+C43+G42+G43+K42+K43+O42+O43+S42+S43+W42+W43 -> 25650 | N44: （ | O44: =D42+D43+H42+H43+L42+L43+P42+P43+T42+T43+X42+X43 -> 0 | Q44: ）

Sheet 野　田　市
A2: スポンサー | H2: 品 名 | O2: 代理店 | V2: 担 当
A3: 折 込 日 | C3: 年 月 日 曜日 | H3: サイズ | L3: 総枚数 | R3: 備 考
B4: 0423 | C4: 野 田 市 | AA4: 0423
B5: 朝日 | C5: 部数 | D5: 配布数 | F5: 毎日 | G5: 部数 | H5: 配布数 | J5: 読売 | K5: 部数 | L5: 配布数 | N5: 産経 | O5: 部数 | P5: 配布数 | R5: 東京 | S5: 部数 | T5: 配布数 | V5: 日経 | W5: 部数 | X5: 配布数
A6: 1 | B6: 野田（中 | C6: 1800 | E6: 1 | F6: Ｔ野田北 | G6: 150 | I6: 2 | J6: 野田南部 | K6: 5450 | M6: 1 | N6: Ｔ野田北 | O6: 100 | Q6: 1 | R6: 野田 | S6: 1450 | U6: 1 | V6: Ｔ野田北 | W6: 350 | AA6: 4231001 | AB6: 4232001 | AC6: 4233002 | AD6: 4234001 | AE6: 4235001 | AF6: 4236001
B7: 央） | C7: 0 | F7: 部 | G7: 0 | K7: 0 | N7: 部 | O7: 0 | S7: 0 | V7: 部 | W7: 0 | AA7: 0 | AB7: 0 | AC7: 0 | AD7: 0 | AE7: 0 | AF7: 0
A8: 2 | B8: 野田北部 | C8: 1600 | E8: 2 | F8: Ｔ野田 | G8: 200 | I8: 3 | J8: 野田 | K8: 5100 | M8: 3 | N8: Ｙ野田南 | O8: 150 | Q8: 2 | R8: 野田南部 | S8: 650 | U8: 2 | V8: Ｔ野田 | W8: 400 | AA8: 4231002 | AB8: 4232002 | AC8: 4233003 | AD8: 4234003 | AE8: 4235002 | AF8: 4236002
C9: 0 | G9: 0 | K9: 0 | N9: 部 | O9: 0 | R9: （中央） | S9: 0 | W9: 0 | AA9: 0 | AB9: 0 | AC9: 0 | AD9: 0 | AE9: 0 | AF9: 0
A10: 3 | B10: 野田南部 | C10: 1000 | E10: 3 | F10: Ｔ野田南 | G10: 100 | I10: 5 | J10: Ｇ関宿 | K10: 1150 | M10: 4 | N10: Ｙ野田 | O10: 250 | Q10: 4 | R10: 野田北部 | S10: 750 | U10: 4 | V10: Ｔ野田南 | W10: 250 | AA10: 4231003 | AB10: 4232003 | AC10: 4233005 | AD10: 4234004 | AE10: 4235004 | AF10: 4236004
C11: 0 | F11: 部（中央 | G11: 0 | K11: 0 | O11: 0 | S11: 0 | V11: 部（中央 | W11: 0 | AA11: 0 | AB11: 0 | AC11: 0 | AD11: 0 | AE11: 0 | AF11: 0
A12: 4 | B12: Ｇ関宿 | C12: 200 | E12: 5 | F12: Ｇ関宿 | G12: 100 | I12: 0 | K12: 0 | M12: 6 | N12: Ｔ野田 | O12: 100 | Q12: 5 | R12: Ｇ関宿 | S12: 1200 | U12: 5 | V12: Ｇ関宿 | W12: 100 | AA12: 4231004 | AB12: 4232005 | AC12: 0 | AD12: 4234006 | AE12: 4235005 | AF12: 4236005
C13: 0 | G13: 0 | K13: 0 | O13: 0 | S13: 0 | W13: 0 | AA13: 0 | AB13: 0 | AC13: 0 | AD13: 0 | AE13: 0 | AF13: 0
A14: 0 | C14: 0 | E14: 0 | G14: 0 | I14: 0 | K14: 0 | M14: 7 | N14: Ｔ野田南 | O14: 50 | Q14: 0 | S14: 0 | U14: 0 | W14: 0 | AA14: 0 | AB14: 0 | AC14: 0 | AD14: 4234007 | AE14: 0 | AF14: 0
C15: 0 | G15: 0 | K15: 0 | N15: 部（中央 | O15: 0 | S15: 0 | W15: 0 | AA15: 0 | AB15: 0 | AC15: 0 | AD15: 0 | AE15: 0 | AF15: 0
A16: 0 | C16: 0 | E16: 0 | G16: 0 | I16: 0 | K16: 0 | M16: 9 | N16: Ｇ関宿 | O16: 250 | Q16: 0 | S16: 0 | U16: 0 | W16: 0 | AA16: 0 | AB16: 0 | AC16: 0 | AD16: 4234009 | AE16: 0 | AF16: 0
C17: 0 | G17: 0 | K17: 0 | O17: 0 | S17: 0 | W17: 0 | AA17: 0 | AB17: 0 | AC17: 0 | AD17: 0 | AE17: 0 | AF17: 0
B42: 小計 | C42: =C6+C8+C10+C12+C14+C16+C18+C20+C22+C24+C26+C28+C30+C32+C34+C36+C38+C40 -> 4600 | D42: =D6+D8+D10+D12+D14+D16+D18+D20+D22+D24+D26+D28+D30+D32+D34+D36+D38+D40 -> 0 | F42: 小計 | G42: =G6+G8+G10+G12+G14+G16+G18+G20+G22+G24+G26+G28+G30+G32+G34+G36+G38+G40 -> 550 | H42: =H6+H8+H10+H12+H14+H16+H18+H20+H22+H24+H26+H28+H30+H32+H34+H36+H38+H40 -> 0 | J42: 小計 | K42: =K6+K8+K10+K12+K14+K16+K18+K20+K22+K24+K26+K28+K30+K32+K34+K36+K38+K40 -> 11700 | L42: =L6+L8+L10+L12+L14+L16+L18+L20+L22+L24+L26+L28+L30+L32+L34+L36+L38+L40 -> 0 | N42: 小計 | O42: =O6+O8+O10+O12+O14+O16+O18+O20+O22+O24+O26+O28+O30+O32+O34+O36+O38+O40 -> 900 | P42: =P6+P8+P10+P12+P14+P16+P18+P20+P22+P24+P26+P28+P30+P32+P34+P36+P38+P40 -> 0 | R42: 小計 | S42: =S6+S8+S10+S12+S14+S16+S18+S20+S22+S24+S26+S28+S30+S32+S34+S36+S38+S40 -> 4050 | T42: =T6+T8+T10+T12+T14+T16+T18+T20+T22+T24+T26+T28+T30+T32+T34+T36+T38+T40 -> 0 | V42: 小計 | W42: =W6+W8+W10+W12+W14+W16+W18+W20+W22+W24+W26+W28+W30+W32+W34+W36+W38+W40 -> 1100 | X42: =X6+X8+X10+X12+X14+X16+X18+X20+X22+X24+X26+X28+X30+X32+X34+X36+X38+X40 -> 0
C43: =C7+C9+C11+C13+C15+C17+C19+C21+C23+C25+C27+C29+C31+C33+C35+C37+C39+C41 -> 0 | D43: =D7+D9+D11+D13+D15+D17+D19+D21+D23+D25+D27+D29+D31+D33+D35+D37+D39+D41 -> 0 | G43: =G7+G9+G11+G13+G15+G17+G19+G21+G23+G25+G27+G29+G31+G33+G35+G37+G39+G41 -> 0 | H43: =H7+H9+H11+H13+H15+H17+H19+H21+H23+H25+H27+H29+H31+H33+H35+H37+H39+H41 -> 0 | K43: =K7+K9+K11+K13+K15+K17+K19+K21+K23+K25+K27+K29+K31+K33+K35+K37+K39+K41 -> 0 | L43: =L7+L9+L11+L13+L15+L17+L19+L21+L23+L25+L27+L29+L31+L33+L35+L37+L39+L41 -> 0 | O43: =O7+O9+O11+O13+O15+O17+O19+O21+O23+O25+O27+O29+O31+O33+O35+O37+O39+O41 -> 0 | P43: =P7+P9+P11+P13+P15+P17+P19+P21+P23+P25+P27+P29+P31+P33+P35+P37+P39+P41 -> 0 | S43: =S7+S9+S11+S13+S15+S17+S19+S21+S23+S25+S27+S29+S31+S33+S35+S37+S39+S41 -> 0 | T43: =T7+T9+T11+T13+T15+T17+T19+T21+T23+T25+T27+T29+T31+T33+T35+T37+T39+T41 -> 0 | W43: =W7+W9+W11+W13+W15+W17+W19+W21+W23+W25+W27+W29+W31+W33+W35+W37+W39+W41 -> 0 | X43: =X7+X9+X11+X13+X15+X17+X19+X21+X23+X25+X27+X29+X31+X33+X35+X37+X39+X41 -> 0
F44: 合 計 | K44: =C42+C43+G42+G43+K42+K43+O42+O43+S42+S43+W42+W43 -> 22900 | N44: （ | O44: =D42+D43+H42+H43+L42+L43+P42+P43+T42+T43+X42+X43 -> 0 | Q44: ）

Sheet 市　原　市
A2: スポンサー | H2: 品 名 | O2: 代理店 | V2: 担 当
A3: 折 込 日 | C3: 年 月 日 曜日 | H3: サイズ | L3: 総枚数 | R3: 備 考
B4: 0424 | C4: 市 原 市 | AA4: 0424
B5: 朝日 | C5: 部数 | D5: 配布数 | F5: 毎日 | G5: 部数 | H5: 配布数 | J5: 読売 | K5: 部数 | L5: 配布数 | N5: 産経 | O5: 部数 | P5: 配布数 | R5: 東京 | S5: 部数 | T5: 配布数 | V5: 日経 | W5: 部数 | X5: 配布数
A6: 2 | B6: 五井・八 | C6: 3400 | E6: 1 | F6: 市原 | G6: 4450 | I6: 1 | J6: 八幡宿南 | K6: 750 | M6: 1 | N6: 市原 | O6: 850 | Q6: 1 | R6: Ａ光風台 | S6: 50 | U6: 2 | V6: Ａ五井・ | W6: 350 | AA6: 4241002 | AB6: 4242001 | AC6: 4243001 | AD6: 4244001 | AE6: 4245001 | AF6: 4246002
B7: 幡宿 | C7: 0 | G7: 0 | J7: 部 | K7: 0 | O7: 0 | S7: 0 | V7: 八幡宿 | W7: 0 | AA7: 0 | AB7: 0 | AC7: 0 | AD7: 0 | AE7: 0 | AF7: 0
A8: 3 | B8: 姉ヶ崎 | C8: 2050 | E8: 4 | F8: 姉ヶ崎 | G8: 300 | I8: 2 | J8: 八幡宿 | K8: 2800 | M8: 2 | N8: Ａ五井・ | O8: 200 | Q8: 5 | R8: Ａ五井・ | S8: 200 | U8: 3 | V8: Ａちはら | W8: 250 | AA8: 4241003 | AB8: 4242004 | AC8: 4243002 | AD8: 4244002 | AE8: 4245005 | AF8: 4246003
C9: 0 | G9: 0 | K9: 0 | N9: 八幡宿 | O9: 0 | R9: 八幡宿 | S9: 0 | V9: 台辰巳台 | W9: 0 | AA9: 0 | AB9: 0 | AC9: 0 | AD9: 0 | AE9: 0 | AF9: 0
A10: 6 | B10: 光風台 | C10: 950 | E10: 5 | F10: Ａちはら | G10: 50 | I10: 3 | J10: 五井 | K10: 3450 | M10: 3 | N10: Ａ姉ヶ崎 | O10: 200 | Q10: 6 | R10: Ａ姉ヶ崎 | S10: 200 | U10: 6 | V10: Ｍ市原 | W10: 100 | AA10: 4241006 | AB10: 4242005 | AC10: 4243003 | AD10: 4244003 | AE10: 4245006 | AF10: 4246006
C11: 0 | F11: 台辰巳台 | G11: 0 | K11: 0 | O11: 0 | S11: 0 | W11: 0 | AA11: 0 | AB11: 0 | AC11: 0 | AD11: 0 | AE11: 0 | AF11: 0
A12: 7 | B12: ちはら台 | C12: 1400 | E12: 6 | F12: Ｇ上総山 | G12: 50 | I12: 7 | J12: 国分寺台 | K12: 3350 | M12: 4 | N12: Ａ光風台 | O12: 50 | Q12: 7 | R12: Ａちはら | S12: 100 | U12: 8 | V12: Ｙ八幡宿 | W12: 100 | AA12: 4241007 | AB12: 4242006 | AC12: 4243007 | AD12: 4244004 | AE12: 4245007 | AF12: 4246008
B13: ・辰巳台 | C13: 0 | F13: 田 | G13: 0 | K13: 0 | O13: 0 | R13: 台辰巳台 | S13: 0 | W13: 0 | AA13: 0 | AB13: 0 | AC13: 0 | AD13: 0 | AE13: 0 | AF13: 0
A14: 8 | B14: Ｇ鶴舞 | C14: 250 | E14: 7 | F14: Ｇ市原南 | G14: 50 | I14: 9 | J14: 八幡宿東 | K14: 700 | M14: 6 | N14: Ｙちはら | O14: 100 | Q14: 10 | R14: Ｍ市原 | S14: 100 | U14: 9 | V14: Ｙ五井 | W14: 100 | AA14: 4241008 | AB14: 4242007 | AC14: 4243009 | AD14: 4244006 | AE14: 4245010 | AF14: 4246009
C15: 0 | F15: 部 | G15: 0 | J15: 部 | K15: 0 | N15: 台 | O15: 0 | S15: 0 | W15: 0 | AA15: 0 | AB15: 0 | AC15: 0 | AD15: 0 | AE15: 0 | AF15: 0
A16: 9 | B16: Ｇ上総牛 | C16: 150 | E16: 8 | F16: Ｇ上総牛 | G16: 100 | I16: 10 | J16: ちはら台 | K16: 2150 | M16: 7 | N16: Ｇ市原南 | O16: 50 | Q16: 11 | R16: Ｇ市原南 | S16: 50 | U16: 10 | V16: Ｙ姉ケ崎 | W16: 300 | AA16: 4241009 | AB16: 4242008 | AC16: 4243010 | AD16: 4244007 | AE16: 4245011 | AF16: 4246010
B17: 久 | C17: 0 | F17: 久 | G17: 0 | K17: 0 | N17: 部 | O17: 0 | R17: 部 | S17: 0 | V17: （廃店 | W17: 0 | AA17: 0 | AB17: 0 | AC17: 0 | AD17: 0 | AE17: 0 | AF17: 0
A18: 10 | B18: Ｇ上総山 | C18: 100 | E18: 9 | F18: Ｇ鶴舞 | G18: 150 | I18: 11 | J18: 五井南部 | K18: 2950 | M18: 8 | N18: Ｇ上総山 | O18: 100 | Q18: 12 | R18: Ｇ上総牛 | S18: 50 | U18: 11 | V18: Ｙ八幡宿 | W18: 50 | AA18: 4241010 | AB18: 4242009 | AC18: 4243011 | AD18: 4244008 | AE18: 4245012 | AF18: 4246011
B19: 田 | C19: 0 | G19: 0 | K19: 0 | N19: 田 | O19: 0 | R19: 久 | S19: 0 | V19: 南部 | W19: 0 | AA19: 0 | AB19: 0 | AC19: 0 | AD19: 0 | AE19: 0 | AF19: 0
A20: 0 | C20: 0 | E20: 10 | F20: Ｙ八幡宿 | G20: 200 | I20: 13 | J20: Ｇ上総牛 | K20: 650 | M20: 9 | N20: Ｇ上総牛 | O20: 50 | Q20: 13 | R20: Ｇ鶴舞 | S20: 50 | U20: 12 | V20: Ｙ八幡宿 | W20: 50 | AA20: 0 | AB20: 4242010 | AC20: 4243013 | AD20: 4244009 | AE20: 4245013 | AF20: 4246012
C21: 0 | G21: 0 | J21: 久 | K21: 0 | N21: 久 | O21: 0 | S21: 0 | V21: 東部 | W21: 0 | AA21: 0 | AB21: 0 | AC21: 0 | AD21: 0 | AE21: 0 | AF21: 0
A22: 0 | C22: 0 | E22: 11 | F22: Ｙちはら | G22: 150 | I22: 14 | J22: Ｇ鶴舞 | K22: 450 | M22: 10 | N22: Ｇ鶴舞 | O22: 150 | Q22: 14 | R22: Ｇ上総山 | S22: 50 | U22: 15 | V22: Ｙ国分寺 | W22: 100 | AA22: 0 | AB22: 4242011 | AC22: 4243014 | AD22: 4244010 | AE22: 4245014 | AF22: 4246015
C23: 0 | F23: 台 | G23: 0 | K23: 0 | O23: 0 | R23: 田 | S23: 0 | V23: 台 | W23: 0 | AA23: 0 | AB23: 0 | AC23: 0 | AD23: 0 | AE23: 0 | AF23: 0
A24: 0 | C24: 0 | E24: 12 | F24: Ａ五井・ | G24: 350 | I24: 15 | J24: Ｇ市原南 | K24: 750 | M24: 11 | N24: Ｙ八幡宿 | O24: 0 | Q24: 15 | R24: Ｙ八幡宿 | S24: 50 | U24: 16 | V24: Ｙ五井南 | W24: 100 | AA24: 0 | AB24: 4242012 | AC24: 4243015 | AD24: 4244011 | AE24: 4245015 | AF24: 4246016
C25: 0 | F25: 八幡宿 | G25: 0 | J25: 部 | K25: 0 | O25: 0 | S25: 0 | V25: 部 | W25: 0 | AA25: 0 | AB25: 0 | AC25: 0 | AD25: 0 | AE25: 0 | AF25: 0
A26: 0 | C26: 0 | E26: 13 | F26: Ａ光風台 | G26: 150 | I26: 16 | J26: Ｇ上総山 | K26: 550 | M26: 12 | N26: Ａちはら | O26: 0 | Q26: 16 | R26: Ｙちはら | S26: 50 | U26: 18 | V26: Ｇ上総牛 | W26: 50 | AA26: 0 | AB26: 4242013 | AC26: 4243016 | AD26: 4244012 | AE26: 4245016 | AF26: 4246018
C27: 0 | G27: 0 | J27: 田 | K27: 0 | N27: 台・辰巳 | O27: 0 | R27: 台 | S27: 0 | V27: 久 | W27: 0 | AA27: 0 | AB27: 0 | AC27: 0 | AD27: 0 | AE27: 0 | AF27: 0
A28: 0 | C28: 0 | E28: 0 | G28: 0 | I28: 17 | J28: 姉ヶ崎 | K28: 3750 | M28: 0 | O28: 0 | Q28: 0 | S28: 0 | U28: 19 | V28: Ｇ鶴舞 | W28: 50 | AA28: 0 | AB28: 0 | AC28: 4243017 | AD28: 0 | AE28: 0 | AF28: 4246019
C29: 0 | G29: 0 | K29: 0 | O29: 0 | S29: 0 | W29: 0 | AA29: 0 | AB29: 0 | AC29: 0 | AD29: 0 | AE29: 0 | AF29: 0
A30: 0 | C30: 0 | E30: 0 | G30: 0 | I30: 0 | K30: 0 | M30: 0 | O30: 0 | Q30: 0 | S30: 0 | U30: 20 | V30: Ｇ市原南 | W30: 50 | AA30: 0 | AB30: 0 | AC30: 0 | AD30: 0 | AE30: 0 | AF30: 4246020
C31: 0 | G31: 0 | K31: 0 | O31: 0 | S31: 0 | V31: 部 | W31: 0 | AA31: 0 | AB31: 0 | AC31: 0 | AD31: 0 | AE31: 0 | AF31: 0
A32: 0 | C32: 0 | E32: 0 | G32: 0 | I32: 0 | K32: 0 | M32: 0 | O32: 0 | Q32: 0 | S32: 0 | U32: 21 | V32: Ｇ上総山 | W32: 50 | AA32: 0 | AB32: 0 | AC32: 0 | AD32: 0 | AE32: 0 | AF32: 4246021
C33: 0 | G33: 0 | K33: 0 | O33: 0 | S33: 0 | V33: 田 | W33: 0 | AA33: 0 | AB33: 0 | AC33: 0 | AD33: 0 | AE33: 0 | AF33: 0
A34: 0 | C34: 0 | E34: 0 | G34: 0 | I34: 0 | K34: 0 | M34: 0 | O34: 0 | Q34: 0 | S34: 0 | U34: 22 | V34: Ａ姉ヶ崎 | W34: 50 | AA34: 0 | AB34: 0 | AC34: 0 | AD34: 0 | AE34: 0 | AF34: 4246022
C35: 0 | G35: 0 | K35: 0 | O35: 0 | S35: 0 | W35: 0 | AA35: 0 | AB35: 0 | AC35: 0 | AD35: 0 | AE35: 0 | AF35: 0
A36: 0 | C36: 0 | E36: 0 | G36: 0 | I36: 0 | K36: 0 | M36: 0 | O36: 0 | Q36: 0 | S36: 0 | U36: 23 | V36: Ａ光風台 | W36: 50 | AA36: 0 | AB36: 0 | AC36: 0 | AD36: 0 | AE36: 0 | AF36: 4246023
C37: 0 | G37: 0 | K37: 0 | O37: 0 | S37: 0 | W37: 0 | AA37: 0 | AB37: 0 | AC37: 0 | AD37: 0 | AE37: 0 | AF37: 0
A38: 0 | C38: 0 | E38: 0 | G38: 0 | I38: 0 | K38: 0 | M38: 0 | O38: 0 | Q38: 0 | S38: 0 | U38: 25 | V38: Ｙちはら | W38: 50 | AA38: 0 | AB38: 0 | AC38: 0 | AD38: 0 | AE38: 0 | AF38: 4246025
C39: 0 | G39: 0 | K39: 0 | O39: 0 | S39: 0 | V39: 台 | W39: 0 | AA39: 0 | AB39: 0 | AC39: 0 | AD39: 0 | AE39: 0 | AF39: 0
B42: 小計 | C42: =C6+C8+C10+C12+C14+C16+C18+C20+C22+C24+C26+C28+C30+C32+C34+C36+C38+C40 -> 8300 | D42: =D6+D8+D10+D12+D14+D16+D18+D20+D22+D24+D26+D28+D30+D32+D34+D36+D38+D40 -> 0 | F42: 小計 | G42: =G6+G8+G10+G12+G14+G16+G18+G20+G22+G24+G26+G28+G30+G32+G34+G36+G38+G40 -> 6000 | H42: =H6+H8+H10+H12+H14+H16+H18+H20+H22+H24+H26+H28+H30+H32+H34+H36+H38+H40 -> 0 | J42: 小計 | K42: =K6+K8+K10+K12+K14+K16+K18+K20+K22+K24+K26+K28+K30+K32+K34+K36+K38+K40 -> 22300 | L42: =L6+L8+L10+L12+L14+L16+L18+L20+L22+L24+L26+L28+L30+L32+L34+L36+L38+L40 -> 0 | N42: 小計 | O42: =O6+O8+O10+O12+O14+O16+O18+O20+O22+O24+O26+O28+O30+O32+O34+O36+O38+O40 -> 1750 | P42: =P6+P8+P10+P12+P14+P16+P18+P20+P22+P24+P26+P28+P30+P32+P34+P36+P38+P40 -> 0 | R42: 小計 | S42: =S6+S8+S10+S12+S14+S16+S18+S20+S22+S24+S26+S28+S30+S32+S34+S36+S38+S40 -> 950 | T42: =T6+T8+T10+T12+T14+T16+T18+T20+T22+T24+T26+T28+T30+T32+T34+T36+T38+T40 -> 0 | V42: 小計 | W42: =W6+W8+W10+W12+W14+W16+W18+W20+W22+W24+W26+W28+W30+W32+W34+W36+W38+W40 -> 1850 | X42: =X6+X8+X10+X12+X14+X16+X18+X20+X22+X24+X26+X28+X30+X32+X34+X36+X38+X40 -> 0
C43: =C7+C9+C11+C13+C15+C17+C19+C21+C23+C25+C27+C29+C31+C33+C35+C37+C39+C41 -> 0 | D43: =D7+D9+D11+D13+D15+D17+D19+D21+D23+D25+D27+D29+D31+D33+D35+D37+D39+D41 -> 0 | G43: =G7+G9+G11+G13+G15+G17+G19+G21+G23+G25+G27+G29+G31+G33+G35+G37+G39+G41 -> 0 | H43: =H7+H9+H11+H13+H15+H17+H19+H21+H23+H25+H27+H29+H31+H33+H35+H37+H39+H41 -> 0 | K43: =K7+K9+K11+K13+K15+K17+K19+K21+K23+K25+K27+K29+K31+K33+K35+K37+K39+K41 -> 0 | L43: =L7+L9+L11+L13+L15+L17+L19+L21+L23+L25+L27+L29+L31+L33+L35+L37+L39+L41 -> 0 | O43: =O7+O9+O11+O13+O15+O17+O19+O21+O23+O25+O27+O29+O31+O33+O35+O37+O39+O41 -> 0 | P43: =P7+P9+P11+P13+P15+P17+P19+P21+P23+P25+P27+P29+P31+P33+P35+P37+P39+P41 -> 0 | S43: =S7+S9+S11+S13+S15+S17+S19+S21+S23+S25+S27+S29+S31+S33+S35+S37+S39+S41 -> 0 | T43: =T7+T9+T11+T13+T15+T17+T19+T21+T23+T25+T27+T29+T31+T33+T35+T37+T39+T41 -> 0 | W43: =W7+W9+W11+W13+W15+W17+W19+W21+W23+W25+W27+W29+W31+W33+W35+W37+W39+W41 -> 0 | X43: =X7+X9+X11+X13+X15+X17+X19+X21+X23+X25+X27+X29+X31+X33+X35+X37+X39+X41 -> 0
F44: 合 計 | K44: =C42+C43+G42+G43+K42+K43+O42+O43+S42+S43+W42+W43 -> 41150 | N44: （ | O44: =D42+D43+H42+H43+L42+L43+P42+P43+T42+T43+X42+X43 -> 0 | Q44: ）
A45: Ｍ五井廃店⇒五井東部統合・五井に名変

Sheet 木更津市
A2: スポンサー | H2: 品 名 | O2: 代理店 | V2: 担 当
A3: 折 込 日 | C3: 年 月 日 曜日 | H3: サイズ | L3: 総枚数 | R3: 備 考
B4: 0425 | C4: 木更津市 | AA4: 0425
B5: 朝日 | C5: 部数 | D5: 配布数 | F5: 毎日 | G5: 部数 | H5: 配布数 | J5: 読売 | K5: 部数 | L5: 配布数 | N5: 産経 | O5: 部数 | P5: 配布数 | R5: 東京 | S5: 部数 | T5: 配布数 | V5: 日経 | W5: 部数 | X5: 配布数
A6: 11 | B6: Ｇ木更津 | C6: 2150 | E6: 11 | F6: Ｇ木更津 | G6: 700 | I6: 11 | J6: Ｇ木更津 | K6: 8600 | M6: 1 | N6: 木更津中 | O6: 1300 | Q6: 1 | R6: 木更津南 | S6: 1300 | U6: 1 | V6: Ｇ岩根 | W6: 0 | AA6: 4251011 | AB6: 4252011 | AC6: 4253011 | AD6: 4254001 | AE6: 4255001 | AF6: 4256001
B7: 本店 | C7: 0 | F7: 本店 | G7: 0 | J7: 本店 | K7: 0 | N7: 央 | O7: 0 | R7: 部 | S7: 0 | W7: 0 | AA7: 0 | AB7: 0 | AC7: 0 | AD7: 0 | AE7: 0 | AF7: 0
A8: 12 | B8: Ｇ岩根 | C8: 150 | E8: 12 | F8: Ｇ岩根 | G8: 100 | I8: 12 | J8: Ｇ岩根 | K8: 850 | M8: 11 | N8: Ｇ木更津 | O8: 3050 | Q8: 2 | R8: 木更津北 | S8: 1250 | U8: 2 | V8: Ｇ金田 | W8: 0 | AA8: 4251012 | AB8: 4252012 | AC8: 4253012 | AD8: 4254011 | AE8: 4255002 | AF8: 4256002
C9: 0 | G9: 0 | K9: 0 | N9: 本店 | O9: 0 | R9: 部 | S9: 0 | W9: 0 | AA9: 0 | AB9: 0 | AC9: 0 | AD9: 0 | AE9: 0 | AF9: 0
A10: 13 | B10: Ｇ金田 | C10: 100 | E10: 13 | F10: Ｇ金田 | G10: 50 | I10: 13 | J10: Ｇ金田 | K10: 550 | M10: 12 | N10: Ｇ岩根 | O10: 300 | Q10: 0 | S10: 0 | U10: 3 | V10: Ｇ羽鳥野 | W10: 0 | AA10: 4251013 | AB10: 4252013 | AC10: 4253013 | AD10: 4254012 | AE10: 0 | AF10: 4256003
C11: 0 | G11: 0 | K11: 0 | O11: 0 | S11: 0 | W11: 0 | AA11: 0 | AB11: 0 | AC11: 0 | AD11: 0 | AE11: 0 | AF11: 0
A12: 17 | B12: Ｇ八幡台 | C12: 150 | E12: 17 | F12: Ｇ八幡台 | G12: 50 | I12: 17 | J12: Ｇ八幡台 | K12: 550 | M12: 13 | N12: Ｇ金田 | O12: 250 | Q12: 0 | S12: 0 | U12: 4 | V12: Ｇ八幡台 | W12: 0 | AA12: 4251017 | AB12: 4252017 | AC12: 4253017 | AD12: 4254013 | AE12: 0 | AF12: 4256004
C13: 0 | G13: 0 | K13: 0 | O13: 0 | S13: 0 | W13: 0 | AA13: 0 | AB13: 0 | AC13: 0 | AD13: 0 | AE13: 0 | AF13: 0
A14: 18 | B14: Ｇ大久保 | C14: 150 | E14: 18 | F14: Ｇ大久保 | G14: 50 | I14: 18 | J14: Ｇ大久保 | K14: 550 | M14: 17 | N14: Ｇ八幡台 | O14: 100 | Q14: 0 | S14: 0 | U14: 5 | V14: Ｇ大久保 | W14: 0 | AA14: 4251018 | AB14: 4252018 | AC14: 4253018 | AD14: 4254017 | AE14: 0 | AF14: 4256005
C15: 0 | G15: 0 | K15: 0 | O15: 0 | S15: 0 | W15: 0 | AA15: 0 | AB15: 0 | AC15: 0 | AD15: 0 | AE15: 0 | AF15: 0
A16: 19 | B16: Ｇ畑沢 | C16: 250 | E16: 19 | F16: Ｇ畑沢 | G16: 100 | I16: 19 | J16: Ｇ畑沢 | K16: 650 | M16: 18 | N16: Ｇ大久保 | O16: 100 | Q16: 0 | S16: 0 | U16: 6 | V16: Ｇ畑沢 | W16: 0 | AA16: 4251019 | AB16: 4252019 | AC16: 4253019 | AD16: 4254018 | AE16: 0 | AF16: 4256006
C17: 0 | G17: 0 | K17: 0 | O17: 0 | S17: 0 | W17: 0 | AA17: 0 | AB17: 0 | AC17: 0 | AD17: 0 | AE17: 0 | AF17: 0
A18: 20 | B18: Ｇ清川 | C18: 100 | E18: 20 | F18: Ｇ清川 | G18: 50 | I18: 20 | J18: Ｇ清川 | K18: 650 | M18: 19 | N18: Ｇ畑沢 | O18: 200 | Q18: 0 | S18: 0 | U18: 7 | V18: Ｇ清川 | W18: 0 | AA18: 4251020 | AB18: 4252020 | AC18: 4253020 | AD18: 4254019 | AE18: 0 | AF18: 4256007
C19: 0 | G19: 0 | K19: 0 | O19: 0 | S19: 0 | W19: 0 | AA19: 0 | AB19: 0 | AC19: 0 | AD19: 0 | AE19: 0 | AF19: 0
A20: 21 | B20: Ｇ羽鳥野 | C20: 50 | E20: 21 | F20: Ｇ羽鳥野 | G20: 50 | I20: 21 | J20: Ｇ羽鳥野 | K20: 200 | M20: 20 | N20: Ｇ清川 | O20: 250 | Q20: 0 | S20: 0 | U20: 0 | W20: 0 | AA20: 4251021 | AB20: 4252021 | AC20: 4253021 | AD20: 4254020 | AE20: 0 | AF20: 0
C21: 0 | G21: 0 | K21: 0 | O21: 0 | S21: 0 | W21: 0 | AA21: 0 | AB21: 0 | AC21: 0 | AD21: 0 | AE21: 0 | AF21: 0
A22: 0 | C22: 0 | E22: 0 | G22: 0 | I22: 0 | K22: 0 | M22: 21 | N22: Ｇ羽鳥野 | O22: 100 | Q22: 0 | S22: 0 | U22: 0 | W22: 0 | AA22: 0 | AB22: 0 | AC22: 0 | AD22: 4254021 | AE22: 0 | AF22: 0
C23: 0 | G23: 0 | K23: 0 | O23: 0 | S23: 0 | W23: 0 | AA23: 0 | AB23: 0 | AC23: 0 | AD23: 0 | AE23: 0 | AF23: 0
B42: 小計 | C42: =C6+C8+C10+C12+C14+C16+C18+C20+C22+C24+C26+C28+C30+C32+C34+C36+C38+C40 -> 3100 | D42: =D6+D8+D10+D12+D14+D16+D18+D20+D22+D24+D26+D28+D30+D32+D34+D36+D38+D40 -> 0 | F42: 小計 | G42: =G6+G8+G10+G12+G14+G16+G18+G20+G22+G24+G26+G28+G30+G32+G34+G36+G38+G40 -> 1150 | H42: =H6+H8+H10+H12+H14+H16+H18+H20+H22+H24+H26+H28+H30+H32+H34+H36+H38+H40 -> 0 | J42: 小計 | K42: =K6+K8+K10+K12+K14+K16+K18+K20+K22+K24+K26+K28+K30+K32+K34+K36+K38+K40 -> 12600 | L42: =L6+L8+L10+L12+L14+L16+L18+L20+L22+L24+L26+L28+L30+L32+L34+L36+L38+L40 -> 0 | N42: 小計 | O42: =O6+O8+O10+O12+O14+O16+O18+O20+O22+O24+O26+O28+O30+O32+O34+O36+O38+O40 -> 5650 | P42: =P6+P8+P10+P12+P14+P16+P18+P20+P22+P24+P26+P28+P30+P32+P34+P36+P38+P40 -> 0 | R42: 小計 | S42: =S6+S8+S10+S12+S14+S16+S18+S20+S22+S24+S26+S28+S30+S32+S34+S36+S38+S40 -> 2550 | T42: =T6+T8+T10+T12+T14+T16+T18+T20+T22+T24+T26+T28+T30+T32+T34+T36+T38+T40 -> 0 | V42: 小計 | W42: =W6+W8+W10+W12+W14+W16+W18+W20+W22+W24+W26+W28+W30+W32+W34+W36+W38+W40 -> 0 | X42: =X6+X8+X10+X12+X14+X16+X18+X20+X22+X24+X26+X28+X30+X32+X34+X36+X38+X40 -> 0
C43: =C7+C9+C11+C13+C15+C17+C19+C21+C23+C25+C27+C29+C31+C33+C35+C37+C39+C41 -> 0 | D43: =D7+D9+D11+D13+D15+D17+D19+D21+D23+D25+D27+D29+D31+D33+D35+D37+D39+D41 -> 0 | G43: =G7+G9+G11+G13+G15+G17+G19+G21+G23+G25+G27+G29+G31+G33+G35+G37+G39+G41 -> 0 | H43: =H7+H9+H11+H13+H15+H17+H19+H21+H23+H25+H27+H29+H31+H33+H35+H37+H39+H41 -> 0 | K43: =K7+K9+K11+K13+K15+K17+K19+K21+K23+K25+K27+K29+K31+K33+K35+K37+K39+K41 -> 0 | L43: =L7+L9+L11+L13+L15+L17+L19+L21+L23+L25+L27+L29+L31+L33+L35+L37+L39+L41 -> 0 | O43: =O7+O9+O11+O13+O15+O17+O19+O21+O23+O25+O27+O29+O31+O33+O35+O37+O39+O41 -> 0 | P43: =P7+P9+P11+P13+P15+P17+P19+P21+P23+P25+P27+P29+P31+P33+P35+P37+P39+P41 -> 0 | S43: =S7+S9+S11+S13+S15+S17+S19+S21+S23+S25+S27+S29+S31+S33+S35+S37+S39+S41 -> 0 | T43: =T7+T9+T11+T13+T15+T17+T19+T21+T23+T25+T27+T29+T31+T33+T35+T37+T39+T41 -> 0 | W43: =W7+W9+W11+W13+W15+W17+W19+W21+W23+W25+W27+W29+W31+W33+W35+W37+W39+W41 -> 0 | X43: =X7+X9+X11+X13+X15+X17+X19+X21+X23+X25+X27+X29+X31+X33+X35+X37+X39+X41 -> 0
F44: 合 計 | K44: =C42+C43+G42+G43+K42+K43+O42+O43+S42+S43+W42+W43 -> 25050 | N44: （ | O44: =D42+D43+H42+H43+L42+L43+P42+P43+T42+T43+X42+X43 -> 0 | Q44: ）

Sheet 君　津　市
A2: スポンサー | H2: 品 名 | O2: 代理店 | V2: 担 当
A3: 折 込 日 | C3: 年 月 日 曜日 | H3: サイズ | L3: 総枚数 | R3: 備 考
B4: 0426 | C4: 君 津 市 | AA4: 0426
B5: 朝日 | C5: 部数 | D5: 配布数 | F5: 毎日 | G5: 部数 | H5: 配布数 | J5: 読売 | K5: 部数 | L5: 配布数 | N5: 産経 | O5: 部数 | P5: 配布数 | R5: 東京 | S5: 部数 | T5: 配布数 | V5: 日経 | W5: 部数 | X5: 配布数
A6: 11 | B6: Ｇ君津 | C6: 250 | E6: 11 | F6: Ｇ君津 | G6: 100 | I6: 11 | J6: Ｇ君津 | K6: 600 | M6: 1 | N6: 君津富津 | O6: 750 | Q6: 1 | R6: 君津 | S6: 1350 | U6: 1 | V6: Ｇ君津 | W6: 0 | AA6: 4261011 | AB6: 4262011 | AC6: 4263011 | AD6: 4264001 | AE6: 4265001 | AF6: 4266001
C7: 0 | G7: 0 | K7: 0 | O7: 0 | S7: 0 | W7: 0 | AA7: 0 | AB7: 0 | AC7: 0 | AD7: 0 | AE7: 0 | AF7: 0
A8: 13 | B8: Ｇ坂田 | C8: 250 | E8: 13 | F8: Ｇ坂田 | G8: 50 | I8: 13 | J8: Ｇ坂田 | K8: 550 | M8: 15 | N8: Ｇ八重原 | O8: 200 | Q8: 2 | R8: Ｇ君津東 | S8: 0 | U8: 2 | V8: Ｇ君津東 | W8: 0 | AA8: 4261013 | AB8: 4262013 | AC8: 4263013 | AD8: 4264015 | AE8: 4265002 | AF8: 4266002
C9: 0 | G9: 0 | K9: 0 | O9: 0 | R9: 部 | S9: 0 | V9: 部 | W9: 0 | AA9: 0 | AB9: 0 | AC9: 0 | AD9: 0 | AE9: 0 | AF9: 0
A10: 14 | B10: Ｇ大和田 | C10: 100 | E10: 14 | F10: Ｇ大和田 | G10: 0 | I10: 14 | J10: Ｇ大和田 | K10: 350 | M10: 19 | N10: Ｇ中 | O10: 250 | Q10: 3 | R10: Ｇ周南 | S10: 0 | U10: 3 | V10: Ｇ坂田 | W10: 0 | AA10: 4261014 | AB10: 4262014 | AC10: 4263014 | AD10: 4264019 | AE10: 4265003 | AF10: 4266003
B11: 団地 | C11: 0 | F11: 団地 | G11: 0 | J11: 団地 | K11: 0 | O11: 0 | S11: 0 | W11: 0 | AA11: 0 | AB11: 0 | AC11: 0 | AD11: 0 | AE11: 0 | AF11: 0
A12: 15 | B12: Ｇ八重原 | C12: 250 | E12: 15 | F12: Ｇ八重原 | G12: 100 | I12: 15 | J12: Ｇ八重原 | K12: 550 | M12: 20 | N12: Ｇ小糸 | O12: 300 | Q12: 4 | R12: Ｇ中 | S12: 0 | U12: 4 | V12: Ｇ大和田 | W12: 0 | AA12: 4261015 | AB12: 4262015 | AC12: 4263015 | AD12: 4264020 | AE12: 4265004 | AF12: 4266004
C13: 0 | G13: 0 | K13: 0 | O13: 0 | S13: 0 | V13: 団地 | W13: 0 | AA13: 0 | AB13: 0 | AC13: 0 | AD13: 0 | AE13: 0 | AF13: 0
A14: 16 | B14: Ｇ外箕輪 | C14: 150 | E14: 16 | F14: Ｇ外箕輪 | G14: 100 | I14: 16 | J14: Ｇ外箕輪 | K14: 600 | M14: 21 | N14: Ｇ秋元 | O14: 200 | Q14: 5 | R14: Ｇ小糸 | S14: 0 | U14: 5 | V14: Ｇ八重原 | W14: 0 | AA14: 4261016 | AB14: 4262016 | AC14: 4263016 | AD14: 4264021 | AE14: 4265005 | AF14: 4266005
B15: ・杢師 | C15: 0 | F15: ・杢師 | G15: 0 | J15: ・杢師 | K15: 0 | O15: 0 | S15: 0 | W15: 0 | AA15: 0 | AB15: 0 | AC15: 0 | AD15: 0 | AE15: 0 | AF15: 0
A16: 17 | B16: Ｇ南子安 | C16: 350 | E16: 17 | F16: Ｇ南子安 | G16: 50 | I16: 17 | J16: Ｇ南子安 | K16: 850 | M16: 22 | N16: Ｇ三島 | O16: 250 | Q16: 6 | R16: Ｇ秋元 | S16: 0 | U16: 6 | V16: Ｇ外箕輪 | W16: 0 | AA16: 4261017 | AB16: 4262017 | AC16: 4263017 | AD16: 4264022 | AE16: 4265006 | AF16: 4266006
C17: 0 | G17: 0 | K17: 0 | O17: 0 | S17: 0 | V17: ・杢師 | W17: 0 | AA17: 0 | AB17: 0 | AC17: 0 | AD17: 0 | AE17: 0 | AF17: 0
A18: 19 | B18: Ｇ中 | C18: 100 | E18: 19 | F18: Ｇ中 | G18: 0 | I18: 19 | J18: Ｇ中 | K18: 300 | M18: 24 | N18: Ｇ小櫃 | O18: 250 | Q18: 7 | R18: Ｇ三島 | S18: 0 | U18: 7 | V18: Ｇ南子安 | W18: 0 | AA18: 4261019 | AB18: 4262019 | AC18: 4263019 | AD18: 4264024 | AE18: 4265007 | AF18: 4266007
C19: 0 | G19: 0 | K19: 0 | O19: 0 | S19: 0 | W19: 0 | AA19: 0 | AB19: 0 | AC19: 0 | AD19: 0 | AE19: 0 | AF19: 0
A20: 20 | B20: Ｇ小糸 | C20: 150 | E20: 20 | F20: Ｇ小糸 | G20: 50 | I20: 20 | J20: Ｇ小糸 | K20: 500 | M20: 25 | N20: Ｇ俵田 | O20: 200 | Q20: 8 | R20: Ｇ小櫃 | S20: 0 | U20: 8 | V20: Ｇ周南 | W20: 0 | AA20: 4261020 | AB20: 4262020 | AC20: 4263020 | AD20: 4264025 | AE20: 4265008 | AF20: 4266008
C21: 0 | G21: 0 | K21: 0 | O21: 0 | S21: 0 | W21: 0 | AA21: 0 | AB21: 0 | AC21: 0 | AD21: 0 | AE21: 0 | AF21: 0
A22: 21 | B22: Ｇ秋元 | C22: 50 | E22: 21 | F22: Ｇ秋元 | G22: 0 | I22: 21 | J22: Ｇ秋元 | K22: 100 | M22: 26 | N22: Ｇ久留里 | O22: 350 | Q22: 9 | R22: Ｇ俵田 | S22: 0 | U22: 9 | V22: Ｇ中 | W22: 0 | AA22: 4261021 | AB22: 4262021 | AC22: 4263021 | AD22: 4264026 | AE22: 4265009 | AF22: 4266009
C23: 0 | G23: 0 | K23: 0 | O23: 0 | S23: 0 | W23: 0 | AA23: 0 | AB23: 0 | AC23: 0 | AD23: 0 | AE23: 0 | AF23: 0
A24: 22 | B24: Ｇ三島 | C24: 50 | E24: 22 | F24: Ｇ三島 | G24: 0 | I24: 22 | J24: Ｇ三島 | K24: 100 | M24: 27 | N24: Ｇ平山 | O24: 200 | Q24: 10 | R24: Ｇ久留里 | S24: 0 | U24: 10 | V24: Ｇ小糸 | W24: 0 | AA24: 4261022 | AB24: 4262022 | AC24: 4263022 | AD24: 4264027 | AE24: 4265010 | AF24: 4266010
C25: 0 | G25: 0 | K25: 0 | O25: 0 | S25: 0 | W25: 0 | AA25: 0 | AB25: 0 | AC25: 0 | AD25: 0 | AE25: 0 | AF25: 0
A26: 24 | B26: Ｇ小櫃 | C26: 50 | E26: 24 | F26: Ｇ小櫃 | G26: 0 | I26: 24 | J26: Ｇ小櫃 | K26: 250 | M26: 28 | N26: Ｇ松丘 | O26: 150 | Q26: 11 | R26: Ｇ平山 | S26: 0 | U26: 11 | V26: Ｇ秋元 | W26: 0 | AA26: 4261024 | AB26: 4262024 | AC26: 4263024 | AD26: 4264028 | AE26: 4265011 | AF26: 4266011
C27: 0 | G27: 0 | K27: 0 | O27: 0 | S27: 0 | W27: 0 | AA27: 0 | AB27: 0 | AC27: 0 | AD27: 0 | AE27: 0 | AF27: 0
A28: 25 | B28: Ｇ俵田 | C28: 50 | E28: 25 | F28: Ｇ俵田 | G28: 0 | I28: 25 | J28: Ｇ俵田 | K28: 250 | M28: 29 | N28: Ｇ亀山 | O28: 350 | Q28: 12 | R28: Ｇ松丘 | S28: 0 | U28: 12 | V28: Ｇ三島 | W28: 0 | AA28: 4261025 | AB28: 4262025 | AC28: 4263025 | AD28: 4264029 | AE28: 4265012 | AF28: 4266012
C29: 0 | G29: 0 | K29: 0 | O29: 0 | S29: 0 | W29: 0 | AA29: 0 | AB29: 0 | AC29: 0 | AD29: 0 | AE29: 0 | AF29: 0
A30: 26 | B30: Ｇ久留里 | C30: 50 | E30: 26 | F30: Ｇ久留里 | G30: 50 | I30: 26 | J30: Ｇ久留里 | K30: 250 | M30: 30 | N30: Ｇ君津 | O30: 200 | Q30: 13 | R30: Ｇ亀山 | S30: 0 | U30: 13 | V30: Ｇ小櫃 | W30: 0 | AA30: 4261026 | AB30: 4262026 | AC30: 4263026 | AD30: 4264030 | AE30: 4265013 | AF30: 4266013
C31: 0 | G31: 0 | K31: 0 | O31: 0 | S31: 0 | W31: 0 | AA31: 0 | AB31: 0 | AC31: 0 | AD31: 0 | AE31: 0 | AF31: 0
A32: 27 | B32: Ｇ平山 | C32: 50 | E32: 27 | F32: Ｇ平山 | G32: 0 | I32: 27 | J32: Ｇ平山 | K32: 200 | M32: 32 | N32: Ｇ坂田 | O32: 150 | Q32: 0 | S32: 0 | U32: 14 | V32: Ｇ俵田 | W32: 0 | AA32: 4261027 | AB32: 4262027 | AC32: 4263027 | AD32: 4264032 | AE32: 0 | AF32: 4266014
C33: 0 | G33: 0 | K33: 0 | O33: 0 | S33: 0 | W33: 0 | AA33: 0 | AB33: 0 | AC33: 0 | AD33: 0 | AE33: 0 | AF33: 0
A34: 28 | B34: Ｇ松丘 | C34: 50 | E34: 28 | F34: Ｇ松丘 | G34: 0 | I34: 28 | J34: Ｇ松丘 | K34: 200 | M34: 33 | N34: Ｇ大和田 | O34: 150 | Q34: 0 | S34: 0 | U34: 15 | V34: Ｇ久留里 | W34: 0 | AA34: 4261028 | AB34: 4262028 | AC34: 4263028 | AD34: 4264033 | AE34: 0 | AF34: 4266015
C35: 0 | G35: 0 | K35: 0 | N35: 団地 | O35: 0 | S35: 0 | W35: 0 | AA35: 0 | AB35: 0 | AC35: 0 | AD35: 0 | AE35: 0 | AF35: 0
A36: 29 | B36: Ｇ亀山 | C36: 50 | E36: 29 | F36: Ｇ亀山 | G36: 0 | I36: 29 | J36: Ｇ亀山 | K36: 250 | M36: 34 | N36: Ｇ外箕輪 | O36: 150 | Q36: 0 | S36: 0 | U36: 16 | V36: Ｇ平山 | W36: 0 | AA36: 4261029 | AB36: 4262029 | AC36: 4263029 | AD36: 4264034 | AE36: 0 | AF36: 4266016
C37: 0 | G37: 0 | K37: 0 | N37: ・杢師 | O37: 0 | S37: 0 | W37: 0 | AA37: 0 | AB37: 0 | AC37: 0 | AD37: 0 | AE37: 0 | AF37: 0
A38: 30 | B38: Ｇ君津東 | C38: 100 | E38: 30 | F38: Ｇ君津東 | G38: 50 | I38: 30 | J38: Ｇ君津東 | K38: 200 | M38: 35 | N38: Ｇ南子安 | O38: 200 | Q38: 0 | S38: 0 | U38: 17 | V38: Ｇ松丘 | W38: 0 | AA38: 4261030 | AB38: 4262030 | AC38: 4263030 | AD38: 4264035 | AE38: 0 | AF38: 4266017
B39: 部 | C39: 0 | F39: 部 | G39: 0 | J39: 部 | K39: 0 | O39: 0 | S39: 0 | W39: 0 | AA39: 0 | AB39: 0 | AC39: 0 | AD39: 0 | AE39: 0 | AF39: 0
A40: 31 | B40: Ｇ周南 | C40: 100 | E40: 31 | F40: Ｇ周南 | G40: 50 | I40: 31 | J40: Ｇ周南 | K40: 250 | M40: 36 | N40: Ｇ君津東 | O40: 200 | Q40: 0 | S40: 0 | U40: 18 | V40: Ｇ亀山 | W40: 0 | AA40: 4261031 | AB40: 4262031 | AC40: 4263031 | AD40: 4264036 | AE40: 0 | AF40: 4266018
C41: 0 | G41: 0 | K41: 0 | N41: 部 | O41: 0 | S41: 0 | W41: 0 | AA41: 0 | AB41: 0 | AC41: 0 | AD41: 0 | AE41: 0 | AF41: 0
B42: 小計 | C42: =C6+C8+C10+C12+C14+C16+C18+C20+C22+C24+C26+C28+C30+C32+C34+C36+C38+C40 -> 2200 | D42: =D6+D8+D10+D12+D14+D16+D18+D20+D22+D24+D26+D28+D30+D32+D34+D36+D38+D40 -> 0 | F42: 小計 | G42: =G6+G8+G10+G12+G14+G16+G18+G20+G22+G24+G26+G28+G30+G32+G34+G36+G38+G40 -> 600 | H42: =H6+H8+H10+H12+H14+H16+H18+H20+H22+H24+H26+H28+H30+H32+H34+H36+H38+H40 -> 0 | J42: 小計 | K42: =K6+K8+K10+K12+K14+K16+K18+K20+K22+K24+K26+K28+K30+K32+K34+K36+K38+K40 -> 6350 | L42: =L6+L8+L10+L12+L14+L16+L18+L20+L22+L24+L26+L28+L30+L32+L34+L36+L38+L40 -> 0 | N42: 小計 | O42: =O6+O8+O10+O12+O14+O16+O18+O20+O22+O24+O26+O28+O30+O32+O34+O36+O38+O40 -> 4500 | P42: =P6+P8+P10+P12+P14+P16+P18+P20+P22+P24+P26+P28+P30+P32+P34+P36+P38+P40 -> 0 | R42: 小計 | S42: =S6+S8+S10+S12+S14+S16+S18+S20+S22+S24+S26+S28+S30+S32+S34+S36+S38+S40 -> 1350 | T42: =T6+T8+T10+T12+T14+T16+T18+T20+T22+T24+T26+T28+T30+T32+T34+T36+T38+T40 -> 0 | V42: 小計 | W42: =W6+W8+W10+W12+W14+W16+W18+W20+W22+W24+W26+W28+W30+W32+W34+W36+W38+W40 -> 0 | X42: =X6+X8+X10+X12+X14+X16+X18+X20+X22+X24+X26+X28+X30+X32+X34+X36+X38+X40 -> 0
C43: =C7+C9+C11+C13+C15+C17+C19+C21+C23+C25+C27+C29+C31+C33+C35+C37+C39+C41 -> 0 | D43: =D7+D9+D11+D13+D15+D17+D19+D21+D23+D25+D27+D29+D31+D33+D35+D37+D39+D41 -> 0 | G43: =G7+G9+G11+G13+G15+G17+G19+G21+G23+G25+G27+G29+G31+G33+G35+G37+G39+G41 -> 0 | H43: =H7+H9+H11+H13+H15+H17+H19+H21+H23+H25+H27+H29+H31+H33+H35+H37+H39+H41 -> 0 | K43: =K7+K9+K11+K13+K15+K17+K19+K21+K23+K25+K27+K29+K31+K33+K35+K37+K39+K41 -> 0 | L43: =L7+L9+L11+L13+L15+L17+L19+L21+L23+L25+L27+L29+L31+L33+L35+L37+L39+L41 -> 0 | O43: =O7+O9+O11+O13+O15+O17+O19+O21+O23+O25+O27+O29+O31+O33+O35+O37+O39+O41 -> 0 | P43: =P7+P9+P11+P13+P15+P17+P19+P21+P23+P25+P27+P29+P31+P33+P35+P37+P39+P41 -> 0 | S43: =S7+S9+S11+S13+S15+S17+S19+S21+S23+S25+S27+S29+S31+S33+S35+S37+S39+S41 -> 0 | T43: =T7+T9+T11+T13+T15+T17+T19+T21+T23+T25+T27+T29+T31+T33+T35+T37+T39+T41 -> 0 | W43: =W7+W9+W11+W13+W15+W17+W19+W21+W23+W25+W27+W29+W31+W33+W35+W37+W39+W41 -> 0 | X43: =X7+X9+X11+X13+X15+X17+X19+X21+X23+X25+X27+X29+X31+X33+X35+X37+X39+X41 -> 0
F44: 合 計 | N44: （ | Q44: ）

Sheet 君　津　市(2)
A2: スポンサー | H2: 品 名 | O2: 代理店 | V2: 担 当
A3: 折 込 日 | C3: 年 月 日 曜日 | H3: サイズ | L3: 総枚数 | R3: 備 考
B4: 0426 | C4: 君 津 市 | AA4: 0426
B5: 朝日 | C5: 部数 | D5: 配布数 | F5: 毎日 | G5: 部数 | H5: 配布数 | J5: 読売 | K5: 部数 | L5: 配布数 | N5: 産経 | O5: 部数 | P5: 配布数 | R5: 東京 | S5: 部数 | T5: 配布数 | V5: 日経 | W5: 部数 | X5: 配布数
A6: 0 | C6: 0 | E6: 0 | G6: 0 | I6: 0 | K6: 0 | M6: 37 | N6: Ｇ周南 | O6: 300 | Q6: 0 | S6: 0 | U6: 0 | W6: 0 | AA6: 0 | AB6: 0 | AC6: 0 | AD6: 4264037 | AE6: 0 | AF6: 0
C7: 0 | G7: 0 | K7: 0 | O7: 0 | S7: 0 | W7: 0 | AA7: 0 | AB7: 0 | AC7: 0 | AD7: 0 | AE7: 0 | AF7: 0
B42: 小計 | C42: =C6+C8+C10+C12+C14+C16+C18+C20+C22+C24+C26+C28+C30+C32+C34+C36+C38+C40 -> 0 | D42: =D6+D8+D10+D12+D14+D16+D18+D20+D22+D24+D26+D28+D30+D32+D34+D36+D38+D40 -> 0 | F42: 小計 | G42: =G6+G8+G10+G12+G14+G16+G18+G20+G22+G24+G26+G28+G30+G32+G34+G36+G38+G40 -> 0 | H42: =H6+H8+H10+H12+H14+H16+H18+H20+H22+H24+H26+H28+H30+H32+H34+H36+H38+H40 -> 0 | J42: 小計 | K42: =K6+K8+K10+K12+K14+K16+K18+K20+K22+K24+K26+K28+K30+K32+K34+K36+K38+K40 -> 0 | L42: =L6+L8+L10+L12+L14+L16+L18+L20+L22+L24+L26+L28+L30+L32+L34+L36+L38+L40 -> 0 | N42: 小計 | O42: =O6+O8+O10+O12+O14+O16+O18+O20+O22+O24+O26+O28+O30+O32+O34+O36+O38+O40 -> 300 | P42: =P6+P8+P10+P12+P14+P16+P18+P20+P22+P24+P26+P28+P30+P32+P34+P36+P38+P40 -> 0 | R42: 小計 | S42: =S6+S8+S10+S12+S14+S16+S18+S20+S22+S24+S26+S28+S30+S32+S34+S36+S38+S40 -> 0 | T42: =T6+T8+T10+T12+T14+T16+T18+T20+T22+T24+T26+T28+T30+T32+T34+T36+T38+T40 -> 0 | V42: 小計 | W42: =W6+W8+W10+W12+W14+W16+W18+W20+W22+W24+W26+W28+W30+W32+W34+W36+W38+W40 -> 0 | X42: =X6+X8+X10+X12+X14+X16+X18+X20+X22+X24+X26+X28+X30+X32+X34+X36+X38+X40 -> 0
C43: =C7+C9+C11+C13+C15+C17+C19+C21+C23+C25+C27+C29+C31+C33+C35+C37+C39+C41 -> 0 | D43: =D7+D9+D11+D13+D15+D17+D19+D21+D23+D25+D27+D29+D31+D33+D35+D37+D39+D41 -> 0 | G43: =G7+G9+G11+G13+G15+G17+G19+G21+G23+G25+G27+G29+G31+G33+G35+G37+G39+G41 -> 0 | H43: =H7+H9+H11+H13+H15+H17+H19+H21+H23+H25+H27+H29+H31+H33+H35+H37+H39+H41 -> 0 | K43: =K7+K9+K11+K13+K15+K17+K19+K21+K23+K25+K27+K29+K31+K33+K35+K37+K39+K41 -> 0 | L43: =L7+L9+L11+L13+L15+L17+L19+L21+L23+L25+L27+L29+L31+L33+L35+L37+L39+L41 -> 0 | O43: =O7+O9+O11+O13+O15+O17+O19+O21+O23+O25+O27+O29+O31+O33+O35+O37+O39+O41 -> 0 | P43: =P7+P9+P11+P13+P15+P17+P19+P21+P23+P25+P27+P29+P31+P33+P35+P37+P39+P41 -> 0 | S43: =S7+S9+S11+S13+S15+S17+S19+S21+S23+S25+S27+S29+S31+S33+S35+S37+S39+S41 -> 0 | T43: =T7+T9+T11+T13+T15+T17+T19+T21+T23+T25+T27+T29+T31+T33+T35+T37+T39+T41 -> 0 | W43: =W7+W9+W11+W13+W15+W17+W19+W21+W23+W25+W27+W29+W31+W33+W35+W37+W39+W41 -> 0 | X43: =X7+X9+X11+X13+X15+X17+X19+X21+X23+X25+X27+X29+X31+X33+X35+X37+X39+X41 -> 0
B44: 合計 | C44: ='君 津 市'!C42 + '君 津 市(2)'!C42 -> 2200 | D44: ='君 津 市'!D42 + '君 津 市(2)'!D42 -> 0 | F44: 合計 | G44: ='君 津 市'!G42 + '君 津 市(2)'!G42 -> 600 | H44: ='君 津 市'!H42 + '君 津 市(2)'!H42 -> 0 | J44: 合計 | K44: ='君 津 市'!K42 + '君 津 市(2)'!K42 -> 6350 | L44: ='君 津 市'!L42 + '君 津 市(2)'!L42 -> 0 | N44: 合計 | O44: ='君 津 市'!O42 + '君 津 市(2)'!O42 -> 4800 | P44: ='君 津 市'!P42 + '君 津 市(2)'!P42 -> 0 | R44: 合計 | S44: ='君 津 市'!S42 + '君 津 市(2)'!S42 -> 1350 | T44: ='君 津 市'!T42 + '君 津 市(2)'!T42 -> 0 | V44: 合計 | W44: ='君 津 市'!W42 + '君 津 市(2)'!W42 -> 0 | X44: ='君 津 市'!X42 + '君 津 市(2)'!X42 -> 0
C45: ='君 津 市'!C43 + '君 津 市(2)'!C43 -> 0 | D45: ='君 津 市'!D43 + '君 津 市(2)'!D43 -> 0 | G45: ='君 津 市'!G43 + '君 津 市(2)'!G43 -> 0 | H45: ='君 津 市'!H43 + '君 津 市(2)'!H43 -> 0 | K45: ='君 津 市'!K43 + '君 津 市(2)'!K43 -> 0 | L45: ='君 津 市'!L43 + '君 津 市(2)'!L43 -> 0 | O45: ='君 津 市'!O43 + '君 津 市(2)'!O43 -> 0 | P45: ='君 津 市'!P43 + '君 津 市(2)'!P43 -> 0 | S45: ='君 津 市'!S43 + '君 津 市(2)'!S43 -> 0 | T45: ='君 津 市'!T43 + '君 津 市(2)'!T43 -> 0 | W45: ='君 津 市'!W43 + '君 津 市(2)'!W43 -> 0 | X45: ='君 津 市'!X43 + '君 津 市(2)'!X43 -> 0
F46: 合 計 | K46: =C44+C45+G44+G45+K44+K45+O44+O45+S44+S45+W44+W45 -> 15300 | N46: （ | O46: =D44+D45+H44+H45+L44+L45+P44+P45+T44+T45+X44+X45 -> 0 | Q46: ）

Sheet 袖ヶ浦市
A2: スポンサー | H2: 品 名 | O2: 代理店 | V2: 担 当
A3: 折 込 日 | C3: 年 月 日 曜日 | H3: サイズ | L3: 総枚数 | R3: 備 考
B4: 0427 | C4: 袖ヶ浦市 | AA4: 0427
B5: 朝日 | C5: 部数 | D5: 配布数 | F5: 毎日 | G5: 部数 | H5: 配布数 | J5: 読売 | K5: 部数 | L5: 配布数 | N5: 産経 | O5: 部数 | P5: 配布数 | R5: 東京 | S5: 部数 | T5: 配布数 | V5: 日経 | W5: 部数 | X5: 配布数
A6: 11 | B6: Ｇ袖ヶ浦 | C6: 550 | E6: 11 | F6: Ｇ袖ヶ浦 | G6: 200 | I6: 11 | J6: Ｇ袖ヶ浦 | K6: 1000 | M6: 11 | N6: Ｇ袖ヶ浦 | O6: 700 | Q6: 1 | R6: 袖ヶ浦 | S6: 1300 | U6: 1 | V6: Ｇ袖ヶ浦 | W6: 0 | AA6: 4271011 | AB6: 4272011 | AC6: 4273011 | AD6: 4274011 | AE6: 4275001 | AF6: 4276001
C7: 0 | G7: 0 | K7: 0 | O7: 0 | S7: 0 | W7: 0 | AA7: 0 | AB7: 0 | AC7: 0 | AD7: 0 | AE7: 0 | AF7: 0
A8: 13 | B8: Ｇ横田 | C8: 200 | E8: 13 | F8: Ｇ横田 | G8: 100 | I8: 13 | J8: Ｇ横田 | K8: 650 | M8: 13 | N8: Ｇ横田 | O8: 450 | Q8: 0 | S8: 0 | U8: 2 | V8: Ｇ楢葉 | W8: 0 | AA8: 4271013 | AB8: 4272013 | AC8: 4273013 | AD8: 4274013 | AE8: 0 | AF8: 4276002
C9: 0 | G9: 0 | K9: 0 | O9: 0 | S9: 0 | W9: 0 | AA9: 0 | AB9: 0 | AC9: 0 | AD9: 0 | AE9: 0 | AF9: 0
A10: 14 | B10: Ｇ根形 | C10: 50 | E10: 14 | F10: Ｇ根形 | G10: 50 | I10: 14 | J10: Ｇ根形 | K10: 250 | M10: 14 | N10: Ｇ根形 | O10: 150 | Q10: 0 | S10: 0 | U10: 3 | V10: Ｇ横田 | W10: 0 | AA10: 4271014 | AB10: 4272014 | AC10: 4273014 | AD10: 4274014 | AE10: 0 | AF10: 4276003
C11: 0 | G11: 0 | K11: 0 | O11: 0 | S11: 0 | W11: 0 | AA11: 0 | AB11: 0 | AC11: 0 | AD11: 0 | AE11: 0 | AF11: 0
A12: 15 | B12: Ｇ東横田 | C12: 100 | E12: 15 | F12: Ｇ東横田 | G12: 50 | I12: 15 | J12: Ｇ東横田 | K12: 450 | M12: 15 | N12: Ｇ東横田 | O12: 300 | Q12: 0 | S12: 0 | U12: 4 | V12: Ｇ東横田 | W12: 0 | AA12: 4271015 | AB12: 4272015 | AC12: 4273015 | AD12: 4274015 | AE12: 0 | AF12: 4276004
C13: 0 | G13: 0 | K13: 0 | O13: 0 | S13: 0 | W13: 0 | AA13: 0 | AB13: 0 | AC13: 0 | AD13: 0 | AE13: 0 | AF13: 0
A14: 16 | B14: Ｇ楢葉 | C14: 350 | E14: 16 | F14: Ｇ楢葉 | G14: 150 | I14: 16 | J14: Ｇ楢葉 | K14: 800 | M14: 16 | N14: Ｇ楢葉 | O14: 600 | Q14: 0 | S14: 0 | U14: 0 | W14: 0 | AA14: 4271016 | AB14: 4272016 | AC14: 4273016 | AD14: 4274016 | AE14: 0 | AF14: 0
C15: 0 | G15: 0 | K15: 0 | O15: 0 | S15: 0 | W15: 0 | AA15: 0 | AB15: 0 | AC15: 0 | AD15: 0 | AE15: 0 | AF15: 0
B42: 小計 | C42: =C6+C8+C10+C12+C14+C16+C18+C20+C22+C24+C26+C28+C30+C32+C34+C36+C38+C40 -> 1250 | D42: =D6+D8+D10+D12+D14+D16+D18+D20+D22+D24+D26+D28+D30+D32+D34+D36+D38+D40 -> 0 | F42: 小計 | G42: =G6+G8+G10+G12+G14+G16+G18+G20+G22+G24+G26+G28+G30+G32+G34+G36+G38+G40 -> 550 | H42: =H6+H8+H10+H12+H14+H16+H18+H20+H22+H24+H26+H28+H30+H32+H34+H36+H38+H40 -> 0 | J42: 小計 | K42: =K6+K8+K10+K12+K14+K16+K18+K20+K22+K24+K26+K28+K30+K32+K34+K36+K38+K40 -> 3150 | L42: =L6+L8+L10+L12+L14+L16+L18+L20+L22+L24+L26+L28+L30+L32+L34+L36+L38+L40 -> 0 | N42: 小計 | O42: =O6+O8+O10+O12+O14+O16+O18+O20+O22+O24+O26+O28+O30+O32+O34+O36+O38+O40 -> 2200 | P42: =P6+P8+P10+P12+P14+P16+P18+P20+P22+P24+P26+P28+P30+P32+P34+P36+P38+P40 -> 0 | R42: 小計 | S42: =S6+S8+S10+S12+S14+S16+S18+S20+S22+S24+S26+S28+S30+S32+S34+S36+S38+S40 -> 1300 | T42: =T6+T8+T10+T12+T14+T16+T18+T20+T22+T24+T26+T28+T30+T32+T34+T36+T38+T40 -> 0 | V42: 小計 | W42: =W6+W8+W10+W12+W14+W16+W18+W20+W22+W24+W26+W28+W30+W32+W34+W36+W38+W40 -> 0 | X42: =X6+X8+X10+X12+X14+X16+X18+X20+X22+X24+X26+X28+X30+X32+X34+X36+X38+X40 -> 0
C43: =C7+C9+C11+C13+C15+C17+C19+C21+C23+C25+C27+C29+C31+C33+C35+C37+C39+C41 -> 0 | D43: =D7+D9+D11+D13+D15+D17+D19+D21+D23+D25+D27+D29+D31+D33+D35+D37+D39+D41 -> 0 | G43: =G7+G9+G11+G13+G15+G17+G19+G21+G23+G25+G27+G29+G31+G33+G35+G37+G39+G41 -> 0 | H43: =H7+H9+H11+H13+H15+H17+H19+H21+H23+H25+H27+H29+H31+H33+H35+H37+H39+H41 -> 0 | K43: =K7+K9+K11+K13+K15+K17+K19+K21+K23+K25+K27+K29+K31+K33+K35+K37+K39+K41 -> 0 | L43: =L7+L9+L11+L13+L15+L17+L19+L21+L23+L25+L27+L29+L31+L33+L35+L37+L39+L41 -> 0 | O43: =O7+O9+O11+O13+O15+O17+O19+O21+O23+O25+O27+O29+O31+O33+O35+O37+O39+O41 -> 0 | P43: =P7+P9+P11+P13+P15+P17+P19+P21+P23+P25+P27+P29+P31+P33+P35+P37+P39+P41 -> 0 | S43: =S7+S9+S11+S13+S15+S17+S19+S21+S23+S25+S27+S29+S31+S33+S35+S37+S39+S41 -> 0 | T43: =T7+T9+T11+T13+T15+T17+T19+T21+T23+T25+T27+T29+T31+T33+T35+T37+T39+T41 -> 0 | W43: =W7+W9+W11+W13+W15+W17+W19+W21+W23+W25+W27+W29+W31+W33+W35+W37+W39+W41 -> 0 | X43: =X7+X9+X11+X13+X15+X17+X19+X21+X23+X25+X27+X29+X31+X33+X35+X37+X39+X41 -> 0
F44: 合 計 | K44: =C42+C43+G42+G43+K42+K43+O42+O43+S42+S43+W42+W43 -> 8450 | N44: （ | O44: =D42+D43+H42+H43+L42+L43+P42+P43+T42+T43+X42+X43 -> 0 | Q44: ）

Sheet 富　津　市
A2: スポンサー | H2: 品 名 | O2: 代理店 | V2: 担 当
A3: 折 込 日 | C3: 年 月 日 曜日 | H3: サイズ | L3: 総枚数 | R3: 備 考
B4: 0428 | C4: 富 津 市 | AA4: 0428
B5: 朝日 | C5: 部数 | D5: 配布数 | F5: 毎日 | G5: 部数 | H5: 配布数 | J5: 読売 | K5: 部数 | L5: 配布数 | N5: 産経 | O5: 部数 | P5: 配布数 | R5: 東京 | S5: 部数 | T5: 配布数 | V5: 日経 | W5: 部数 | X5: 配布数
A6: 2 | B6: 青堀大貫 | C6: 1150 | E6: 1 | F6: 大貫 | G6: 900 | I6: 1 | J6: 大貫 | K6: 800 | M6: 3 | N6: Ｍ大貫 | O6: 100 | Q6: 2 | R6: 富津 | S6: 800 | U6: 2 | V6: Ｍ大貫 | W6: 50 | AA6: 4281002 | AB6: 4282001 | AC6: 4283001 | AD6: 4284003 | AE6: 4285002 | AF6: 4286002
C7: 0 | G7: 0 | K7: 0 | O7: 0 | S7: 0 | W7: 0 | AA7: 0 | AB7: 0 | AC7: 0 | AD7: 0 | AE7: 0 | AF7: 0
A8: 3 | B8: Ｇ竹岡 | C8: 50 | E8: 3 | F8: Ｙ青堀 | G8: 100 | I8: 3 | J8: 青堀 | K8: 1350 | M8: 4 | N8: Ｇ竹岡 | O8: 0 | Q8: 3 | R8: 浜金谷 | S8: 50 | U8: 3 | V8: Ｙ青堀 | W8: 100 | AA8: 4281003 | AB8: 4282003 | AC8: 4283003 | AD8: 4284004 | AE8: 4285003 | AF8: 4286003
C9: 0 | G9: 0 | K9: 0 | O9: 0 | S9: 0 | W9: 0 | AA9: 0 | AB9: 0 | AC9: 0 | AD9: 0 | AE9: 0 | AF9: 0
A10: 11 | B10: Ｇ上総湊 | C10: 100 | E10: 4 | F10: Ｇ竹岡 | G10: 0 | I10: 4 | J10: Ｇ竹岡 | K10: 50 | M10: 11 | N10: Ｇ上総湊 | O10: 300 | Q10: 4 | R10: Ｍ大貫 | S10: 150 | U10: 6 | V10: Ａ青堀大 | W10: 50 | AA10: 4281011 | AB10: 4282004 | AC10: 4283004 | AD10: 4284011 | AE10: 4285004 | AF10: 4286006
C11: 0 | G11: 0 | K11: 0 | O11: 0 | S11: 0 | V11: 貫 | W11: 0 | AA11: 0 | AB11: 0 | AC11: 0 | AD11: 0 | AE11: 0 | AF11: 0
A12: 12 | B12: Ｇ浜金谷 | C12: 50 | E12: 11 | F12: Ｇ上総湊 | G12: 100 | I12: 11 | J12: Ｇ上総湊 | K12: 350 | M12: 12 | N12: Ｇ浜金谷 | O12: 100 | Q12: 5 | R12: Ａ青堀大 | S12: 350 | U12: 7 | V12: Ｇ佐貫 | W12: 0 | AA12: 4281012 | AB12: 4282011 | AC12: 4283011 | AD12: 4284012 | AE12: 4285005 | AF12: 4286007
C13: 0 | G13: 0 | K13: 0 | O13: 0 | R13: 貫 | S13: 0 | W13: 0 | AA13: 0 | AB13: 0 | AC13: 0 | AD13: 0 | AE13: 0 | AF13: 0
A14: 13 | B14: Ｇ佐貫 | C14: 50 | E14: 12 | F14: Ｇ浜金谷 | G14: 0 | I14: 12 | J14: Ｇ浜金谷 | K14: 100 | M14: 13 | N14: Ｇ佐貫 | O14: 200 | Q14: 0 | S14: 0 | U14: 8 | V14: Ｇ上総湊 | W14: 0 | AA14: 4281013 | AB14: 4282012 | AC14: 4283012 | AD14: 4284013 | AE14: 0 | AF14: 4286008
C15: 0 | G15: 0 | K15: 0 | O15: 0 | S15: 0 | W15: 0 | AA15: 0 | AB15: 0 | AC15: 0 | AD15: 0 | AE15: 0 | AF15: 0
A16: 0 | C16: 0 | E16: 13 | F16: Ｇ佐貫 | G16: 50 | I16: 13 | J16: Ｇ佐貫 | K16: 200 | M16: 14 | N16: Ａ青堀大 | O16: 50 | Q16: 0 | S16: 0 | U16: 9 | V16: Ｇ浜金谷 | W16: 0 | AA16: 0 | AB16: 4282013 | AC16: 4283013 | AD16: 4284014 | AE16: 0 | AF16: 4286009
C17: 0 | G17: 0 | K17: 0 | N17: 貫 | O17: 0 | S17: 0 | W17: 0 | AA17: 0 | AB17: 0 | AC17: 0 | AD17: 0 | AE17: 0 | AF17: 0
A18: 0 | C18: 0 | E18: 0 | G18: 0 | I18: 0 | K18: 0 | M18: 0 | O18: 0 | Q18: 0 | S18: 0 | U18: 10 | V18: Ｇ竹岡 | W18: 0 | AA18: 0 | AB18: 0 | AC18: 0 | AD18: 0 | AE18: 0 | AF18: 4286010
C19: 0 | G19: 0 | K19: 0 | O19: 0 | S19: 0 | W19: 0 | AA19: 0 | AB19: 0 | AC19: 0 | AD19: 0 | AE19: 0 | AF19: 0
B42: 小計 | C42: =C6+C8+C10+C12+C14+C16+C18+C20+C22+C24+C26+C28+C30+C32+C34+C36+C38+C40 -> 1400 | D42: =D6+D8+D10+D12+D14+D16+D18+D20+D22+D24+D26+D28+D30+D32+D34+D36+D38+D40 -> 0 | F42: 小計 | G42: =G6+G8+G10+G12+G14+G16+G18+G20+G22+G24+G26+G28+G30+G32+G34+G36+G38+G40 -> 1150 | H42: =H6+H8+H10+H12+H14+H16+H18+H20+H22+H24+H26+H28+H30+H32+H34+H36+H38+H40 -> 0 | J42: 小計 | K42: =K6+K8+K10+K12+K14+K16+K18+K20+K22+K24+K26+K28+K30+K32+K34+K36+K38+K40 -> 2850 | L42: =L6+L8+L10+L12+L14+L16+L18+L20+L22+L24+L26+L28+L30+L32+L34+L36+L38+L40 -> 0 | N42: 小計 | O42: =O6+O8+O10+O12+O14+O16+O18+O20+O22+O24+O26+O28+O30+O32+O34+O36+O38+O40 -> 750 | P42: =P6+P8+P10+P12+P14+P16+P18+P20+P22+P24+P26+P28+P30+P32+P34+P36+P38+P40 -> 0 | R42: 小計 | S42: =S6+S8+S10+S12+S14+S16+S18+S20+S22+S24+S26+S28+S30+S32+S34+S36+S38+S40 -> 1350 | T42: =T6+T8+T10+T12+T14+T16+T18+T20+T22+T24+T26+T28+T30+T32+T34+T36+T38+T40 -> 0 | V42: 小計 | W42: =W6+W8+W10+W12+W14+W16+W18+W20+W22+W24+W26+W28+W30+W32+W34+W36+W38+W40 -> 200 | X42: =X6+X8+X10+X12+X14+X16+X18+X20+X22+X24+X26+X28+X30+X32+X34+X36+X38+X40 -> 0
C43: =C7+C9+C11+C13+C15+C17+C19+C21+C23+C25+C27+C29+C31+C33+C35+C37+C39+C41 -> 0 | D43: =D7+D9+D11+D13+D15+D17+D19+D21+D23+D25+D27+D29+D31+D33+D35+D37+D39+D41 -> 0 | G43: =G7+G9+G11+G13+G15+G17+G19+G21+G23+G25+G27+G29+G31+G33+G35+G37+G39+G41 -> 0 | H43: =H7+H9+H11+H13+H15+H17+H19+H21+H23+H25+H27+H29+H31+H33+H35+H37+H39+H41 -> 0 | K43: =K7+K9+K11+K13+K15+K17+K19+K21+K23+K25+K27+K29+K31+K33+K35+K37+K39+K41 -> 0 | L43: =L7+L9+L11+L13+L15+L17+L19+L21+L23+L25+L27+L29+L31+L33+L35+L37+L39+L41 -> 0 | O43: =O7+O9+O11+O13+O15+O17+O19+O21+O23+O25+O27+O29+O31+O33+O35+O37+O39+O41 -> 0 | P43: =P7+P9+P11+P13+P15+P17+P19+P21+P23+P25+P27+P29+P31+P33+P35+P37+P39+P41 -> 0 | S43: =S7+S9+S11+S13+S15+S17+S19+S21+S23+S25+S27+S29+S31+S33+S35+S37+S39+S41 -> 0 | T43: =T7+T9+T11+T13+T15+T17+T19+T21+T23+T25+T27+T29+T31+T33+T35+T37+T39+T41 -> 0 | W43: =W7+W9+W11+W13+W15+W17+W19+W21+W23+W25+W27+W29+W31+W33+W35+W37+W39+W41 -> 0 | X43: =X7+X9+X11+X13+X15+X17+X19+X21+X23+X25+X27+X29+X31+X33+X35+X37+X39+X41 -> 0
F44: 合 計 | K44: =C42+C43+G42+G43+K42+K43+O42+O43+S42+S43+W42+W43 -> 7700 | N44: （ | O44: =D42+D43+H42+H43+L42+L43+P42+P43+T42+T43+X42+X43 -> 0 | Q44: ）
A45: Ｇ湊手塚⇒上総湊名変

Sheet 館　山　市
A2: スポンサー | H2: 品 名 | O2: 代理店 | V2: 担 当
A3: 折 込 日 | C3: 年 月 日 曜日 | H3: サイズ | L3: 総枚数 | R3: 備 考
B4: 0429 | C4: 館 山 市 | AA4: 0429
B5: 朝日 | C5: 部数 | D5: 配布数 | F5: 毎日 | G5: 部数 | H5: 配布数 | J5: 読売 | K5: 部数 | L5: 配布数 | N5: 産経 | O5: 部数 | P5: 配布数 | R5: 東京 | S5: 部数 | T5: 配布数 | V5: 日経 | W5: 部数 | X5: 配布数
A6: 1 | B6: 館山 | C6: 2000 | E6: 1 | F6: 館山 | G6: 700 | I6: 1 | J6: 館山 | K6: 3700 | M6: 1 | N6: 館山 | O6: 800 | Q6: 1 | R6: Ａ館山 | S6: 500 | U6: 1 | V6: Ａ館山 | W6: 300 | AA6: 4291001 | AB6: 4292001 | AC6: 4293001 | AD6: 4294001 | AE6: 4295001 | AF6: 4296001
C7: 0 | G7: 0 | K7: 0 | O7: 0 | S7: 0 | W7: 0 | AA7: 0 | AB7: 0 | AC7: 0 | AD7: 0 | AE7: 0 | AF7: 0
A8: 2 | B8: 船形 | C8: 350 | E8: 3 | F8: Ａ館山 | G8: 150 | I8: 2 | J8: 館山那古 | K8: 1200 | M8: 2 | N8: Ｙ館山那 | O8: 100 | Q8: 2 | R8: Ａ船形 | S8: 300 | U8: 2 | V8: Ａ船形 | W8: 100 | AA8: 4291002 | AB8: 4292003 | AC8: 4293002 | AD8: 4294002 | AE8: 4295002 | AF8: 4296002
C9: 0 | G9: 0 | K9: 0 | N9: 古 | O9: 0 | S9: 0 | W9: 0 | AA9: 0 | AB9: 0 | AC9: 0 | AD9: 0 | AE9: 0 | AF9: 0
A10: 0 | C10: 0 | E10: 4 | F10: Ａ船形 | G10: 100 | I10: 0 | K10: 0 | M10: 0 | O10: 0 | Q10: 0 | S10: 0 | U10: 0 | W10: 0 | AA10: 0 | AB10: 4292004 | AC10: 0 | AD10: 0 | AE10: 0 | AF10: 0
C11: 0 | G11: 0 | K11: 0 | O11: 0 | S11: 0 | W11: 0 | AA11: 0 | AB11: 0 | AC11: 0 | AD11: 0 | AE11: 0 | AF11: 0
B42: 小計 | C42: =C6+C8+C10+C12+C14+C16+C18+C20+C22+C24+C26+C28+C30+C32+C34+C36+C38+C40 -> 2350 | D42: =D6+D8+D10+D12+D14+D16+D18+D20+D22+D24+D26+D28+D30+D32+D34+D36+D38+D40 -> 0 | F42: 小計 | G42: =G6+G8+G10+G12+G14+G16+G18+G20+G22+G24+G26+G28+G30+G32+G34+G36+G38+G40 -> 950 | H42: =H6+H8+H10+H12+H14+H16+H18+H20+H22+H24+H26+H28+H30+H32+H34+H36+H38+H40 -> 0 | J42: 小計 | K42: =K6+K8+K10+K12+K14+K16+K18+K20+K22+K24+K26+K28+K30+K32+K34+K36+K38+K40 -> 4900 | L42: =L6+L8+L10+L12+L14+L16+L18+L20+L22+L24+L26+L28+L30+L32+L34+L36+L38+L40 -> 0 | N42: 小計 | O42: =O6+O8+O10+O12+O14+O16+O18+O20+O22+O24+O26+O28+O30+O32+O34+O36+O38+O40 -> 900 | P42: =P6+P8+P10+P12+P14+P16+P18+P20+P22+P24+P26+P28+P30+P32+P34+P36+P38+P40 -> 0 | R42: 小計 | S42: =S6+S8+S10+S12+S14+S16+S18+S20+S22+S24+S26+S28+S30+S32+S34+S36+S38+S40 -> 800 | T42: =T6+T8+T10+T12+T14+T16+T18+T20+T22+T24+T26+T28+T30+T32+T34+T36+T38+T40 -> 0 | V42: 小計 | W42: =W6+W8+W10+W12+W14+W16+W18+W20+W22+W24+W26+W28+W30+W32+W34+W36+W38+W40 -> 400 | X42: =X6+X8+X10+X12+X14+X16+X18+X20+X22+X24+X26+X28+X30+X32+X34+X36+X38+X40 -> 0
C43: =C7+C9+C11+C13+C15+C17+C19+C21+C23+C25+C27+C29+C31+C33+C35+C37+C39+C41 -> 0 | D43: =D7+D9+D11+D13+D15+D17+D19+D21+D23+D25+D27+D29+D31+D33+D35+D37+D39+D41 -> 0 | G43: =G7+G9+G11+G13+G15+G17+G19+G21+G23+G25+G27+G29+G31+G33+G35+G37+G39+G41 -> 0 | H43: =H7+H9+H11+H13+H15+H17+H19+H21+H23+H25+H27+H29+H31+H33+H35+H37+H39+H41 -> 0 | K43: =K7+K9+K11+K13+K15+K17+K19+K21+K23+K25+K27+K29+K31+K33+K35+K37+K39+K41 -> 0 | L43: =L7+L9+L11+L13+L15+L17+L19+L21+L23+L25+L27+L29+L31+L33+L35+L37+L39+L41 -> 0 | O43: =O7+O9+O11+O13+O15+O17+O19+O21+O23+O25+O27+O29+O31+O33+O35+O37+O39+O41 -> 0 | P43: =P7+P9+P11+P13+P15+P17+P19+P21+P23+P25+P27+P29+P31+P33+P35+P37+P39+P41 -> 0 | S43: =S7+S9+S11+S13+S15+S17+S19+S21+S23+S25+S27+S29+S31+S33+S35+S37+S39+S41 -> 0 | T43: =T7+T9+T11+T13+T15+T17+T19+T21+T23+T25+T27+T29+T31+T33+T35+T37+T39+T41 -> 0 | W43: =W7+W9+W11+W13+W15+W17+W19+W21+W23+W25+W27+W29+W31+W33+W35+W37+W39+W41 -> 0 | X43: =X7+X9+X11+X13+X15+X17+X19+X21+X23+X25+X27+X29+X31+X33+X35+X37+X39+X41 -> 0
F44: 合 計 | K44: =C42+C43+G42+G43+K42+K43+O42+O43+S42+S43+W42+W43 -> 10300 | N44: （ | O44: =D42+D43+H42+H43+L42+L43+P42+P43+T42+T43+X42+X43 -> 0 | Q44: ）

Sheet 南房総市
A2: スポンサー | H2: 品 名 | O2: 代理店 | V2: 担 当
A3: 折 込 日 | C3: 年 月 日 曜日 | H3: サイズ | L3: 総枚数 | R3: 備 考
B4: 0430 | C4: 南房総市 | AA4: 0430
B5: 朝日 | C5: 部数 | D5: 配布数 | F5: 毎日 | G5: 部数 | H5: 配布数 | J5: 読売 | K5: 部数 | L5: 配布数 | N5: 産経 | O5: 部数 | P5: 配布数 | R5: 東京 | S5: 部数 | T5: 配布数 | V5: 日経 | W5: 部数 | X5: 配布数
A6: 1 | B6: 千倉 | C6: 250 | E6: 1 | F6: 保田 | G6: 100 | I6: 1 | J6: 鋸南富山 | K6: 800 | M6: 2 | N6: 千倉 | O6: 650 | Q6: 3 | R6: Ａ南三原 | S6: 50 | U6: 2 | V6: Ａ和田浦 | W6: 0 | AA6: 4301001 | AB6: 4302001 | AC6: 4303001 | AD6: 4304002 | AE6: 4305003 | AF6: 4306002
C7: 0 | G7: 0 | K7: 0 | O7: 0 | S7: 0 | W7: 0 | AA7: 0 | AB7: 0 | AC7: 0 | AD7: 0 | AE7: 0 | AF7: 0
A8: 2 | B8: 勝山 | C8: 100 | E8: 2 | F8: 安房勝山 | G8: 150 | I8: 3 | J8: 白浜 | K8: 400 | M8: 3 | N8: 安房白浜 | O8: 400 | Q8: 4 | R8: Ｍ保田 | S8: 50 | U8: 3 | V8: Ａ南三原 | W8: 0 | AA8: 4301002 | AB8: 4302002 | AC8: 4303003 | AD8: 4304003 | AE8: 4305004 | AF8: 4306003
C9: 0 | G9: 0 | K9: 0 | O9: 0 | S9: 0 | W9: 0 | AA9: 0 | AB9: 0 | AC9: 0 | AD9: 0 | AE9: 0 | AF9: 0
A10: 4 | B10: 南三原 | C10: 200 | E10: 3 | F10: 富浦 | G10: 300 | I10: 5 | J10: 和田浦 | K10: 100 | M10: 5 | N10: Ａ南三原 | O10: 50 | Q10: 5 | R10: Ｍ安房勝 | S10: 50 | U10: 4 | V10: Ｍ保田 | W10: 50 | AA10: 4301004 | AB10: 4302003 | AC10: 4303005 | AD10: 4304005 | AE10: 4305005 | AF10: 4306004
C11: 0 | G11: 0 | K11: 0 | O11: 0 | R11: 山 | S11: 0 | W11: 0 | AA11: 0 | AB11: 0 | AC11: 0 | AD11: 0 | AE11: 0 | AF11: 0
A12: 5 | B12: 和田浦 | C12: 50 | E12: 4 | F12: 千倉 | G12: 500 | I12: 6 | J12: 千倉 | K12: 450 | M12: 6 | N12: Ｍ安房勝 | O12: 50 | Q12: 6 | R12: Ｍ和田浦 | S12: 50 | U12: 5 | V12: Ｍ安房勝 | W12: 50 | AA12: 4301005 | AB12: 4302004 | AC12: 4303006 | AD12: 4304006 | AE12: 4305006 | AF12: 4306005
C13: 0 | G13: 0 | K13: 0 | N13: 山 | O13: 0 | S13: 0 | V13: 山 | W13: 0 | AA13: 0 | AB13: 0 | AC13: 0 | AD13: 0 | AE13: 0 | AF13: 0
A14: 6 | B14: Ｍ岩井 | C14: 150 | E14: 5 | F14: 和田浦 | G14: 150 | I14: 7 | J14: 七浦 | K14: 50 | M14: 7 | N14: Ｍ和田浦 | O14: 50 | Q14: 7 | R14: Ｍ岩井 | S14: 50 | U14: 6 | V14: Ｍ富浦 | W14: 50 | AA14: 4301006 | AB14: 4302005 | AC14: 4303007 | AD14: 4304007 | AE14: 4305007 | AF14: 4306006
C15: 0 | G15: 0 | K15: 0 | O15: 0 | S15: 0 | W15: 0 | AA15: 0 | AB15: 0 | AC15: 0 | AD15: 0 | AE15: 0 | AF15: 0
A16: 7 | B16: Ｍ保田 | C16: 50 | E16: 6 | F16: 岩井 | G16: 250 | I16: 10 | J16: 千歳 | K16: 50 | M16: 8 | N16: Ｍ岩井 | O16: 50 | Q16: 8 | R16: Ｓ千倉 | S16: 200 | U16: 7 | V16: Ｍ岩井 | W16: 50 | AA16: 4301007 | AB16: 4302006 | AC16: 4303010 | AD16: 4304008 | AE16: 4305008 | AF16: 4306007
C17: 0 | G17: 0 | K17: 0 | O17: 0 | S17: 0 | W17: 0 | AA17: 0 | AB17: 0 | AC17: 0 | AD17: 0 | AE17: 0 | AF17: 0
A18: 9 | B18: Ｇ安房丸 | C18: 350 | E18: 7 | F18: 南三原 | G18: 50 | I18: 11 | J18: 安房丸山 | K18: 150 | M18: 9 | N18: Ｇ安房丸 | O18: 50 | Q18: 9 | R18: Ｓ安房白 | S18: 50 | U18: 8 | V18: Ｇ安房丸 | W18: 50 | AA18: 4301009 | AB18: 4302007 | AC18: 4303011 | AD18: 4304009 | AE18: 4305009 | AF18: 4306008
B19: 山 | C19: 0 | G19: 0 | K19: 0 | N19: 山 | O19: 0 | R19: 浜 | S19: 0 | V19: 山 | W19: 0 | AA19: 0 | AB19: 0 | AC19: 0 | AD19: 0 | AE19: 0 | AF19: 0
A20: 10 | B20: Ｍ富浦 | C20: 100 | E20: 9 | F20: Ｇ安房丸 | G20: 100 | I20: 12 | J20: 南三原 | K20: 100 | M20: 11 | N20: Ｙ鋸南富 | O20: 50 | Q20: 10 | R20: Ｇ安房丸 | S20: 50 | U20: 9 | V20: Ｍ千倉 | W20: 100 | AA20: 4301010 | AB20: 4302009 | AC20: 4303012 | AD20: 4304011 | AE20: 4305010 | AF20: 4306009
C21: 0 | F21: 山 | G21: 0 | K21: 0 | N21: 山 | O21: 0 | R21: 山 | S21: 0 | W21: 0 | AA21: 0 | AB21: 0 | AC21: 0 | AD21: 0 | AE21: 0 | AF21: 0
A22: 11 | B22: 白浜 | C22: 50 | E22: 0 | G22: 0 | I22: 0 | K22: 0 | M22: 0 | O22: 0 | Q22: 11 | R22: Ｍ富浦 | S22: 100 | U22: 0 | W22: 0 | AA22: 4301011 | AB22: 0 | AC22: 0 | AD22: 0 | AE22: 4305011 | AF22: 0
C23: 0 | G23: 0 | K23: 0 | O23: 0 | S23: 0 | W23: 0 | AA23: 0 | AB23: 0 | AC23: 0 | AD23: 0 | AE23: 0 | AF23: 0
B42: 小計 | C42: =C6+C8+C10+C12+C14+C16+C18+C20+C22+C24+C26+C28+C30+C32+C34+C36+C38+C40 -> 1300 | D42: =D6+D8+D10+D12+D14+D16+D18+D20+D22+D24+D26+D28+D30+D32+D34+D36+D38+D40 -> 0 | F42: 小計 | G42: =G6+G8+G10+G12+G14+G16+G18+G20+G22+G24+G26+G28+G30+G32+G34+G36+G38+G40 -> 1600 | H42: =H6+H8+H10+H12+H14+H16+H18+H20+H22+H24+H26+H28+H30+H32+H34+H36+H38+H40 -> 0 | J42: 小計 | K42: =K6+K8+K10+K12+K14+K16+K18+K20+K22+K24+K26+K28+K30+K32+K34+K36+K38+K40 -> 2100 | L42: =L6+L8+L10+L12+L14+L16+L18+L20+L22+L24+L26+L28+L30+L32+L34+L36+L38+L40 -> 0 | N42: 小計 | O42: =O6+O8+O10+O12+O14+O16+O18+O20+O22+O24+O26+O28+O30+O32+O34+O36+O38+O40 -> 1350 | P42: =P6+P8+P10+P12+P14+P16+P18+P20+P22+P24+P26+P28+P30+P32+P34+P36+P38+P40 -> 0 | R42: 小計 | S42: =S6+S8+S10+S12+S14+S16+S18+S20+S22+S24+S26+S28+S30+S32+S34+S36+S38+S40 -> 650 | T42: =T6+T8+T10+T12+T14+T16+T18+T20+T22+T24+T26+T28+T30+T32+T34+T36+T38+T40 -> 0 | V42: 小計 | W42: =W6+W8+W10+W12+W14+W16+W18+W20+W22+W24+W26+W28+W30+W32+W34+W36+W38+W40 -> 350 | X42: =X6+X8+X10+X12+X14+X16+X18+X20+X22+X24+X26+X28+X30+X32+X34+X36+X38+X40 -> 0
C43: =C7+C9+C11+C13+C15+C17+C19+C21+C23+C25+C27+C29+C31+C33+C35+C37+C39+C41 -> 0 | D43: =D7+D9+D11+D13+D15+D17+D19+D21+D23+D25+D27+D29+D31+D33+D35+D37+D39+D41 -> 0 | G43: =G7+G9+G11+G13+G15+G17+G19+G21+G23+G25+G27+G29+G31+G33+G35+G37+G39+G41 -> 0 | H43: =H7+H9+H11+H13+H15+H17+H19+H21+H23+H25+H27+H29+H31+H33+H35+H37+H39+H41 -> 0 | K43: =K7+K9+K11+K13+K15+K17+K19+K21+K23+K25+K27+K29+K31+K33+K35+K37+K39+K41 -> 0 | L43: =L7+L9+L11+L13+L15+L17+L19+L21+L23+L25+L27+L29+L31+L33+L35+L37+L39+L41 -> 0 | O43: =O7+O9+O11+O13+O15+O17+O19+O21+O23+O25+O27+O29+O31+O33+O35+O37+O39+O41 -> 0 | P43: =P7+P9+P11+P13+P15+P17+P19+P21+P23+P25+P27+P29+P31+P33+P35+P37+P39+P41 -> 0 | S43: =S7+S9+S11+S13+S15+S17+S19+S21+S23+S25+S27+S29+S31+S33+S35+S37+S39+S41 -> 0 | T43: =T7+T9+T11+T13+T15+T17+T19+T21+T23+T25+T27+T29+T31+T33+T35+T37+T39+T41 -> 0 | W43: =W7+W9+W11+W13+W15+W17+W19+W21+W23+W25+W27+W29+W31+W33+W35+W37+W39+W41 -> 0 | X43: =X7+X9+X11+X13+X15+X17+X19+X21+X23+X25+X27+X29+X31+X33+X35+X37+X39+X41 -> 0
F44: 合 計 | K44: =C42+C43+G42+G43+K42+K43+O42+O43+S42+S43+W42+W43 -> 7350 | N44: （ | O44: =D42+D43+H42+H43+L42+L43+P42+P43+T42+T43+X42+X43 -> 0 | Q44: ）

Sheet 香　取　市
A2: スポンサー | H2: 品 名 | O2: 代理店 | V2: 担 当
A3: 折 込 日 | C3: 年 月 日 曜日 | H3: サイズ | L3: 総枚数 | R3: 備 考
B4: 0431 | C4: 香 取 市 | AA4: 0431
B5: 朝日 | C5: 部数 | D5: 配布数 | F5: 毎日 | G5: 部数 | H5: 配布数 | J5: 読売 | K5: 部数 | L5: 配布数 | N5: 産経 | O5: 部数 | P5: 配布数 | R5: 東京 | S5: 部数 | T5: 配布数 | V5: 日経 | W5: 部数 | X5: 配布数
A6: 1 | B6: 佐原 | C6: 900 | E6: 1 | F6: 佐原 | G6: 2150 | I6: 1 | J6: 佐原 | K6: 4400 | M6: 1 | N6: 佐原 | O6: 100 | Q6: 1 | R6: Ｍ佐原 | S6: 100 | U6: 3 | V6: Ｍ佐原 | W6: 200 | AA6: 4311001 | AB6: 4312001 | AC6: 4313001 | AD6: 4314001 | AE6: 4315001 | AF6: 4316003
C7: 0 | G7: 0 | K7: 0 | O7: 0 | S7: 0 | W7: 0 | AA7: 0 | AB7: 0 | AC7: 0 | AD7: 0 | AE7: 0 | AF7: 0
A8: 4 | B8: Ｓ小見川 | C8: 750 | E8: 3 | F8: 香取＊（ | G8: 100 | I8: 2 | J8: 小見川 | K8: 2450 | M8: 2 | N8: 小見川 | O8: 400 | Q8: 3 | R8: Ｍ香取＊ | S8: 0 | U8: 4 | V8: Ｍ香取＊ | W8: 0 | AA8: 4311004 | AB8: 4312003 | AC8: 4313002 | AD8: 4314002 | AE8: 4315003 | AF8: 4316004
C9: 0 | F9: Ｔ・Ｎ） | G9: 0 | K9: 0 | O9: 0 | R9: （Ｔ・Ｎ | S9: 0 | V9: （Ｔ・Ｎ | W9: 0 | AA9: 0 | AB9: 0 | AC9: 0 | AD9: 0 | AE9: 0 | AF9: 0
A10: 7 | B10: Ｇ栗源 | C10: 50 | E10: 4 | F10: 鳥羽毎日 | G10: 50 | I10: 3 | J10: Ｇ栗源 | K10: 400 | M10: 3 | N10: Ｇ栗源 | O10: 50 | Q10: 4 | R10: Ｍ鳥羽毎 | S10: 50 | U10: 6 | V10: Ｍ小見川 | W10: 150 | AA10: 4311007 | AB10: 4312004 | AC10: 4313003 | AD10: 4314003 | AE10: 4315004 | AF10: 4316006
C11: 0 | G11: 0 | K11: 0 | O11: 0 | R11: 日 | S11: 0 | W11: 0 | AA11: 0 | AB11: 0 | AC11: 0 | AD11: 0 | AE11: 0 | AF11: 0
A12: 9 | B12: Ｙ佐原☆ | C12: 100 | E12: 5 | F12: 小見川 | G12: 450 | I12: 0 | K12: 0 | M12: 5 | N12: 鳥羽 | O12: 50 | Q12: 5 | R12: Ｓ小見川 | S12: 100 | U12: 7 | V12: Ｍ鳥羽毎 | W12: 50 | AA12: 4311009 | AB12: 4312005 | AC12: 0 | AD12: 4314005 | AE12: 4315005 | AF12: 4316007
C13: 0 | G13: 0 | K13: 0 | O13: 0 | S13: 0 | V13: 日 | W13: 0 | AA13: 0 | AB13: 0 | AC13: 0 | AD13: 0 | AE13: 0 | AF13: 0
A14: 10 | B14: 返田 | C14: 50 | E14: 6 | F14: Ｇ栗源 | G14: 100 | I14: 0 | K14: 0 | M14: 8 | N14: Ｙ佐原☆ | O14: 0 | Q14: 8 | R14: Ｇ栗源 | S14: 50 | U14: 10 | V14: Ｇ栗源 | W14: 50 | AA14: 4311010 | AB14: 4312006 | AC14: 0 | AD14: 4314008 | AE14: 4315008 | AF14: 4316010
C15: 0 | G15: 0 | K15: 0 | O15: 0 | S15: 0 | W15: 0 | AA15: 0 | AB15: 0 | AC15: 0 | AD15: 0 | AE15: 0 | AF15: 0
A16: 0 | C16: 0 | E16: 9 | F16: Ｙ佐原 | G16: 100 | I16: 0 | K16: 0 | M16: 0 | O16: 0 | Q16: 9 | R16: Ｙ佐原 | S16: 50 | U16: 11 | V16: Ｙ佐原 | W16: 50 | AA16: 0 | AB16: 4312009 | AC16: 0 | AD16: 0 | AE16: 4315009 | AF16: 4316011
C17: 0 | G17: 0 | K17: 0 | O17: 0 | S17: 0 | W17: 0 | AA17: 0 | AB17: 0 | AC17: 0 | AD17: 0 | AE17: 0 | AF17: 0
B42: 小計 | C42: =C6+C8+C10+C12+C14+C16+C18+C20+C22+C24+C26+C28+C30+C32+C34+C36+C38+C40 -> 1850 | D42: =D6+D8+D10+D12+D14+D16+D18+D20+D22+D24+D26+D28+D30+D32+D34+D36+D38+D40 -> 0 | F42: 小計 | G42: =G6+G8+G10+G12+G14+G16+G18+G20+G22+G24+G26+G28+G30+G32+G34+G36+G38+G40 -> 2950 | H42: =H6+H8+H10+H12+H14+H16+H18+H20+H22+H24+H26+H28+H30+H32+H34+H36+H38+H40 -> 0 | J42: 小計 | K42: =K6+K8+K10+K12+K14+K16+K18+K20+K22+K24+K26+K28+K30+K32+K34+K36+K38+K40 -> 7250 | L42: =L6+L8+L10+L12+L14+L16+L18+L20+L22+L24+L26+L28+L30+L32+L34+L36+L38+L40 -> 0 | N42: 小計 | O42: =O6+O8+O10+O12+O14+O16+O18+O20+O22+O24+O26+O28+O30+O32+O34+O36+O38+O40 -> 600 | P42: =P6+P8+P10+P12+P14+P16+P18+P20+P22+P24+P26+P28+P30+P32+P34+P36+P38+P40 -> 0 | R42: 小計 | S42: =S6+S8+S10+S12+S14+S16+S18+S20+S22+S24+S26+S28+S30+S32+S34+S36+S38+S40 -> 350 | T42: =T6+T8+T10+T12+T14+T16+T18+T20+T22+T24+T26+T28+T30+T32+T34+T36+T38+T40 -> 0 | V42: 小計 | W42: =W6+W8+W10+W12+W14+W16+W18+W20+W22+W24+W26+W28+W30+W32+W34+W36+W38+W40 -> 500 | X42: =X6+X8+X10+X12+X14+X16+X18+X20+X22+X24+X26+X28+X30+X32+X34+X36+X38+X40 -> 0
C43: =C7+C9+C11+C13+C15+C17+C19+C21+C23+C25+C27+C29+C31+C33+C35+C37+C39+C41 -> 0 | D43: =D7+D9+D11+D13+D15+D17+D19+D21+D23+D25+D27+D29+D31+D33+D35+D37+D39+D41 -> 0 | G43: =G7+G9+G11+G13+G15+G17+G19+G21+G23+G25+G27+G29+G31+G33+G35+G37+G39+G41 -> 0 | H43: =H7+H9+H11+H13+H15+H17+H19+H21+H23+H25+H27+H29+H31+H33+H35+H37+H39+H41 -> 0 | K43: =K7+K9+K11+K13+K15+K17+K19+K21+K23+K25+K27+K29+K31+K33+K35+K37+K39+K41 -> 0 | L43: =L7+L9+L11+L13+L15+L17+L19+L21+L23+L25+L27+L29+L31+L33+L35+L37+L39+L41 -> 0 | O43: =O7+O9+O11+O13+O15+O17+O19+O21+O23+O25+O27+O29+O31+O33+O35+O37+O39+O41 -> 0 | P43: =P7+P9+P11+P13+P15+P17+P19+P21+P23+P25+P27+P29+P31+P33+P35+P37+P39+P41 -> 0 | S43: =S7+S9+S11+S13+S15+S17+S19+S21+S23+S25+S27+S29+S31+S33+S35+S37+S39+S41 -> 0 | T43: =T7+T9+T11+T13+T15+T17+T19+T21+T23+T25+T27+T29+T31+T33+T35+T37+T39+T41 -> 0 | W43: =W7+W9+W11+W13+W15+W17+W19+W21+W23+W25+W27+W29+W31+W33+W35+W37+W39+W41 -> 0 | X43: =X7+X9+X11+X13+X15+X17+X19+X21+X23+X25+X27+X29+X31+X33+X35+X37+X39+X41 -> 0
F44: 合 計 | K44: =C42+C43+G42+G43+K42+K43+O42+O43+S42+S43+W42+W43 -> 13500 | N44: （ | O44: =D42+D43+H42+H43+L42+L43+P42+P43+T42+T43+X42+X43 -> 0 | Q44: ）

Sheet 香　取　郡
A2: スポンサー | H2: 品 名 | O2: 代理店 | V2: 担 当
A3: 折 込 日 | C3: 年 月 日 曜日 | H3: サイズ | L3: 総枚数 | R3: 備 考
B4: 0432 | C4: 香 取 郡 | AA4: 0432
B5: 朝日 | C5: 部数 | D5: 配布数 | F5: 毎日 | G5: 部数 | H5: 配布数 | J5: 読売 | K5: 部数 | L5: 配布数 | N5: 産経 | O5: 部数 | P5: 配布数 | R5: 東京 | S5: 部数 | T5: 配布数 | V5: 日経 | W5: 部数 | X5: 配布数
A6: 1 | B6: 笹川 | C6: 300 | E6: 2 | F6: Ｓ下総橘 | G6: 100 | I6: 1 | J6: 笹川 | K6: 700 | M6: 1 | N6: 下総橘 | O6: 250 | Q6: 1 | R6: Ａ笹川 | S6: 50 | U6: 1 | V6: Ｙ笹川 | W6: 50 | AA6: 4321001 | AB6: 4322002 | AC6: 4323001 | AD6: 4324001 | AE6: 4325001 | AF6: 4326001
C7: 0 | G7: 0 | K7: 0 | O7: 0 | S7: 0 | W7: 0 | AA7: 0 | AB7: 0 | AC7: 0 | AD7: 0 | AE7: 0 | AF7: 0
A8: 3 | B8: Ｇ多古 | C8: 200 | E8: 3 | F8: Ｇ多古 | G8: 100 | I8: 2 | J8: 神崎 | K8: 1150 | M8: 2 | N8: Ｙ神崎 | O8: 50 | Q8: 3 | R8: Ｇ多古 | S8: 50 | U8: 2 | V8: Ｙ神崎 | W8: 50 | AA8: 4321003 | AB8: 4322003 | AC8: 4323002 | AD8: 4324002 | AE8: 4325003 | AF8: 4326002
C9: 0 | G9: 0 | K9: 0 | O9: 0 | S9: 0 | W9: 0 | AA9: 0 | AB9: 0 | AC9: 0 | AD9: 0 | AE9: 0 | AF9: 0
A10: 4 | B10: Ｙ神崎☆ | C10: 100 | E10: 4 | F10: Ｙ神崎☆ | G10: 0 | I10: 3 | J10: 下総橘 | K10: 300 | M10: 3 | N10: Ｇ多古 | O10: 150 | Q10: 4 | R10: Ｙ神崎☆ | S10: 50 | U10: 3 | V10: Ｙ下総橘 | W10: 0 | AA10: 4321004 | AB10: 4322004 | AC10: 4323003 | AD10: 4324003 | AE10: 4325004 | AF10: 4326003
C11: 0 | G11: 0 | K11: 0 | O11: 0 | S11: 0 | W11: 0 | AA11: 0 | AB11: 0 | AC11: 0 | AD11: 0 | AE11: 0 | AF11: 0
A12: 0 | C12: 0 | E12: 0 | G12: 0 | I12: 4 | J12: Ｇ多古 | K12: 1150 | M12: 0 | O12: 0 | Q12: 0 | S12: 0 | U12: 4 | V12: Ｇ多古 | W12: 50 | AA12: 0 | AB12: 0 | AC12: 4323004 | AD12: 0 | AE12: 0 | AF12: 4326004
C13: 0 | G13: 0 | K13: 0 | O13: 0 | S13: 0 | W13: 0 | AA13: 0 | AB13: 0 | AC13: 0 | AD13: 0 | AE13: 0 | AF13: 0
B42: 小計 | C42: =C6+C8+C10+C12+C14+C16+C18+C20+C22+C24+C26+C28+C30+C32+C34+C36+C38+C40 -> 600 | D42: =D6+D8+D10+D12+D14+D16+D18+D20+D22+D24+D26+D28+D30+D32+D34+D36+D38+D40 -> 0 | F42: 小計 | G42: =G6+G8+G10+G12+G14+G16+G18+G20+G22+G24+G26+G28+G30+G32+G34+G36+G38+G40 -> 200 | H42: =H6+H8+H10+H12+H14+H16+H18+H20+H22+H24+H26+H28+H30+H32+H34+H36+H38+H40 -> 0 | J42: 小計 | K42: =K6+K8+K10+K12+K14+K16+K18+K20+K22+K24+K26+K28+K30+K32+K34+K36+K38+K40 -> 3300 | L42: =L6+L8+L10+L12+L14+L16+L18+L20+L22+L24+L26+L28+L30+L32+L34+L36+L38+L40 -> 0 | N42: 小計 | O42: =O6+O8+O10+O12+O14+O16+O18+O20+O22+O24+O26+O28+O30+O32+O34+O36+O38+O40 -> 450 | P42: =P6+P8+P10+P12+P14+P16+P18+P20+P22+P24+P26+P28+P30+P32+P34+P36+P38+P40 -> 0 | R42: 小計 | S42: =S6+S8+S10+S12+S14+S16+S18+S20+S22+S24+S26+S28+S30+S32+S34+S36+S38+S40 -> 150 | T42: =T6+T8+T10+T12+T14+T16+T18+T20+T22+T24+T26+T28+T30+T32+T34+T36+T38+T40 -> 0 | V42: 小計 | W42: =W6+W8+W10+W12+W14+W16+W18+W20+W22+W24+W26+W28+W30+W32+W34+W36+W38+W40 -> 150 | X42: =X6+X8+X10+X12+X14+X16+X18+X20+X22+X24+X26+X28+X30+X32+X34+X36+X38+X40 -> 0
C43: =C7+C9+C11+C13+C15+C17+C19+C21+C23+C25+C27+C29+C31+C33+C35+C37+C39+C41 -> 0 | D43: =D7+D9+D11+D13+D15+D17+D19+D21+D23+D25+D27+D29+D31+D33+D35+D37+D39+D41 -> 0 | G43: =G7+G9+G11+G13+G15+G17+G19+G21+G23+G25+G27+G29+G31+G33+G35+G37+G39+G41 -> 0 | H43: =H7+H9+H11+H13+H15+H17+H19+H21+H23+H25+H27+H29+H31+H33+H35+H37+H39+H41 -> 0 | K43: =K7+K9+K11+K13+K15+K17+K19+K21+K23+K25+K27+K29+K31+K33+K35+K37+K39+K41 -> 0 | L43: =L7+L9+L11+L13+L15+L17+L19+L21+L23+L25+L27+L29+L31+L33+L35+L37+L39+L41 -> 0 | O43: =O7+O9+O11+O13+O15+O17+O19+O21+O23+O25+O27+O29+O31+O33+O35+O37+O39+O41 -> 0 | P43: =P7+P9+P11+P13+P15+P17+P19+P21+P23+P25+P27+P29+P31+P33+P35+P37+P39+P41 -> 0 | S43: =S7+S9+S11+S13+S15+S17+S19+S21+S23+S25+S27+S29+S31+S33+S35+S37+S39+S41 -> 0 | T43: =T7+T9+T11+T13+T15+T17+T19+T21+T23+T25+T27+T29+T31+T33+T35+T37+T39+T41 -> 0 | W43: =W7+W9+W11+W13+W15+W17+W19+W21+W23+W25+W27+W29+W31+W33+W35+W37+W39+W41 -> 0 | X43: =X7+X9+X11+X13+X15+X17+X19+X21+X23+X25+X27+X29+X31+X33+X35+X37+X39+X41 -> 0
F44: 合 計 | K44: =C42+C43+G42+G43+K42+K43+O42+O43+S42+S43+W42+W43 -> 4850 | N44: （ | O44: =D42+D43+H42+H43+L42+L43+P42+P43+T42+T43+X42+X43 -> 0 | Q44: ）
A45: Ｙ神崎成田東部⇒神崎名変・分店成田東部

Sheet 銚　子　市
A2: スポンサー | H2: 品 名 | O2: 代理店 | V2: 担 当
A3: 折 込 日 | C3: 年 月 日 曜日 | H3: サイズ | L3: 総枚数 | R3: 備 考
B4: 0433 | C4: 銚 子 市 | AA4: 0433
B5: 朝日 | C5: 部数 | D5: 配布数 | F5: 毎日 | G5: 部数 | H5: 配布数 | J5: 読売 | K5: 部数 | L5: 配布数 | N5: 産経 | O5: 部数 | P5: 配布数 | R5: 東京 | S5: 部数 | T5: 配布数 | V5: 日経 | W5: 部数 | X5: 配布数
A6: 1 | B6: 銚子中央 | C6: 850 | E6: 3 | F6: 銚子波崎 | G6: 200 | I6: 1 | J6: 銚子 | K6: 6000 | M6: 2 | N6: Ａ銚子西 | O6: 50 | Q6: 1 | R6: Ａ銚子西 | S6: 100 | U6: 1 | V6: Ａ銚子中 | W6: 150 | AA6: 4331001 | AB6: 4332003 | AC6: 4333001 | AD6: 4334002 | AE6: 4335001 | AF6: 4336001
C7: 0 | G7: 0 | K7: 0 | N7: 部 | O7: 0 | R7: 部 | S7: 0 | V7: 央 | W7: 0 | AA7: 0 | AB7: 0 | AC7: 0 | AD7: 0 | AE7: 0 | AF7: 0
A8: 2 | B8: 銚子東部 | C8: 400 | E8: 4 | F8: Ａ銚子西 | G8: 100 | I8: 2 | J8: 銚子西部 | K8: 1000 | M8: 3 | N8: Ｍ銚子波 | O8: 0 | Q8: 2 | R8: Ａ銚子中 | S8: 50 | U8: 2 | V8: Ａ銚子東 | W8: 100 | AA8: 4331002 | AB8: 4332004 | AC8: 4333002 | AD8: 4334003 | AE8: 4335002 | AF8: 4336002
C9: 0 | F9: 部（椎柴 | G9: 0 | K9: 0 | N9: 崎 | O9: 0 | R9: 央 | S9: 0 | V9: 部 | W9: 0 | AA9: 0 | AB9: 0 | AC9: 0 | AD9: 0 | AE9: 0 | AF9: 0
A10: 3 | B10: 銚子西部 | C10: 600 | E10: 5 | F10: Ａ銚子中 | G10: 100 | I10: 3 | J10: 波崎 | K10: 1150 | M10: 4 | N10: Ａ銚子中 | O10: 50 | Q10: 3 | R10: Ａ銚子東 | S10: 50 | U10: 3 | V10: Ａ波崎 | W10: 50 | AA10: 4331003 | AB10: 4332005 | AC10: 4333003 | AD10: 4334004 | AE10: 4335003 | AF10: 4336003
C11: 0 | F11: 央 | G11: 0 | K11: 0 | N11: 央 | O11: 0 | R11: 部 | S11: 0 | W11: 0 | AA11: 0 | AB11: 0 | AC11: 0 | AD11: 0 | AE11: 0 | AF11: 0
A12: 4 | B12: 波崎 | C12: 300 | E12: 6 | F12: Ａ銚子東 | G12: 50 | I12: 0 | K12: 0 | M12: 5 | N12: Ａ銚子東 | O12: 50 | Q12: 4 | R12: Ｍ銚子波 | S12: 100 | U12: 4 | V12: Ａ銚子西 | W12: 50 | AA12: 4331004 | AB12: 4332006 | AC12: 0 | AD12: 4334005 | AE12: 4335004 | AF12: 4336004
C13: 0 | F13: 部 | G13: 0 | K13: 0 | N13: 部 | O13: 0 | R13: 崎 | S13: 0 | V13: 部 | W13: 0 | AA13: 0 | AB13: 0 | AC13: 0 | AD13: 0 | AE13: 0 | AF13: 0
A14: 0 | C14: 0 | E14: 0 | G14: 0 | I14: 0 | K14: 0 | M14: 0 | O14: 0 | Q14: 0 | S14: 0 | U14: 5 | V14: Ｙ銚子西 | W14: 50 | AA14: 0 | AB14: 0 | AC14: 0 | AD14: 0 | AE14: 0 | AF14: 4336005
C15: 0 | G15: 0 | K15: 0 | O15: 0 | S15: 0 | V15: 部 | W15: 0 | AA15: 0 | AB15: 0 | AC15: 0 | AD15: 0 | AE15: 0 | AF15: 0
B42: 小計 | C42: =C6+C8+C10+C12+C14+C16+C18+C20+C22+C24+C26+C28+C30+C32+C34+C36+C38+C40 -> 2150 | D42: =D6+D8+D10+D12+D14+D16+D18+D20+D22+D24+D26+D28+D30+D32+D34+D36+D38+D40 -> 0 | F42: 小計 | G42: =G6+G8+G10+G12+G14+G16+G18+G20+G22+G24+G26+G28+G30+G32+G34+G36+G38+G40 -> 450 | H42: =H6+H8+H10+H12+H14+H16+H18+H20+H22+H24+H26+H28+H30+H32+H34+H36+H38+H40 -> 0 | J42: 小計 | K42: =K6+K8+K10+K12+K14+K16+K18+K20+K22+K24+K26+K28+K30+K32+K34+K36+K38+K40 -> 8150 | L42: =L6+L8+L10+L12+L14+L16+L18+L20+L22+L24+L26+L28+L30+L32+L34+L36+L38+L40 -> 0 | N42: 小計 | O42: =O6+O8+O10+O12+O14+O16+O18+O20+O22+O24+O26+O28+O30+O32+O34+O36+O38+O40 -> 150 | P42: =P6+P8+P10+P12+P14+P16+P18+P20+P22+P24+P26+P28+P30+P32+P34+P36+P38+P40 -> 0 | R42: 小計 | S42: =S6+S8+S10+S12+S14+S16+S18+S20+S22+S24+S26+S28+S30+S32+S34+S36+S38+S40 -> 300 | T42: =T6+T8+T10+T12+T14+T16+T18+T20+T22+T24+T26+T28+T30+T32+T34+T36+T38+T40 -> 0 | V42: 小計 | W42: =W6+W8+W10+W12+W14+W16+W18+W20+W22+W24+W26+W28+W30+W32+W34+W36+W38+W40 -> 400 | X42: =X6+X8+X10+X12+X14+X16+X18+X20+X22+X24+X26+X28+X30+X32+X34+X36+X38+X40 -> 0
C43: =C7+C9+C11+C13+C15+C17+C19+C21+C23+C25+C27+C29+C31+C33+C35+C37+C39+C41 -> 0 | D43: =D7+D9+D11+D13+D15+D17+D19+D21+D23+D25+D27+D29+D31+D33+D35+D37+D39+D41 -> 0 | G43: =G7+G9+G11+G13+G15+G17+G19+G21+G23+G25+G27+G29+G31+G33+G35+G37+G39+G41 -> 0 | H43: =H7+H9+H11+H13+H15+H17+H19+H21+H23+H25+H27+H29+H31+H33+H35+H37+H39+H41 -> 0 | K43: =K7+K9+K11+K13+K15+K17+K19+K21+K23+K25+K27+K29+K31+K33+K35+K37+K39+K41 -> 0 | L43: =L7+L9+L11+L13+L15+L17+L19+L21+L23+L25+L27+L29+L31+L33+L35+L37+L39+L41 -> 0 | O43: =O7+O9+O11+O13+O15+O17+O19+O21+O23+O25+O27+O29+O31+O33+O35+O37+O39+O41 -> 0 | P43: =P7+P9+P11+P13+P15+P17+P19+P21+P23+P25+P27+P29+P31+P33+P35+P37+P39+P41 -> 0 | S43: =S7+S9+S11+S13+S15+S17+S19+S21+S23+S25+S27+S29+S31+S33+S35+S37+S39+S41 -> 0 | T43: =T7+T9+T11+T13+T15+T17+T19+T21+T23+T25+T27+T29+T31+T33+T35+T37+T39+T41 -> 0 | W43: =W7+W9+W11+W13+W15+W17+W19+W21+W23+W25+W27+W29+W31+W33+W35+W37+W39+W41 -> 0 | X43: =X7+X9+X11+X13+X15+X17+X19+X21+X23+X25+X27+X29+X31+X33+X35+X37+X39+X41 -> 0
F44: 合 計 | K44: =C42+C43+G42+G43+K42+K43+O42+O43+S42+S43+W42+W43 -> 11600 | N44: （ | O44: =D42+D43+H42+H43+L42+L43+P42+P43+T42+T43+X42+X43 -> 0 | Q44: ）
A45: Ａ外川廃店⇒銚子東部引継 | H45: Ａ根岸廃店⇒銚子中央引継 | O45: Ｓ銚子廃店⇒Ａ中央・Ａ東部引継

Sheet 旭　市
A2: スポンサー | H2: 品 名 | O2: 代理店 | V2: 担 当
A3: 折 込 日 | C3: 年 月 日 曜日 | H3: サイズ | L3: 総枚数 | R3: 備 考
B4: 0434 | C4: 旭 市 | AA4: 0434
B5: 朝日 | C5: 部数 | D5: 配布数 | F5: 毎日 | G5: 部数 | H5: 配布数 | J5: 読売 | K5: 部数 | L5: 配布数 | N5: 産経 | O5: 部数 | P5: 配布数 | R5: 東京 | S5: 部数 | T5: 配布数 | V5: 日経 | W5: 部数 | X5: 配布数
A6: 1 | B6: 旭 | C6: 1050 | E6: 3 | F6: Ｙ旭東部 | G6: 0 | I6: 1 | J6: 旭 | K6: 3100 | M6: 1 | N6: 旭 | O6: 400 | Q6: 1 | R6: Ａ旭 | S6: 100 | U6: 1 | V6: Ｙ旭 | W6: 150 | AA6: 4341001 | AB6: 4342003 | AC6: 4343001 | AD6: 4344001 | AE6: 4345001 | AF6: 4346001
C7: 0 | G7: 0 | K7: 0 | O7: 0 | S7: 0 | W7: 0 | AA7: 0 | AB7: 0 | AC7: 0 | AD7: 0 | AE7: 0 | AF7: 0
A8: 2 | B8: 飯岡 | C8: 400 | E8: 4 | F8: Ａ旭 | G8: 150 | I8: 3 | J8: 飯岡 | K8: 950 | M8: 2 | N8: 飯岡 | O8: 200 | Q8: 2 | R8: Ａ飯岡 | S8: 50 | U8: 3 | V8: Ｙ飯岡 | W8: 50 | AA8: 4341002 | AB8: 4342004 | AC8: 4343003 | AD8: 4344002 | AE8: 4345002 | AF8: 4346003
C9: 0 | G9: 0 | K9: 0 | O9: 0 | S9: 0 | W9: 0 | AA9: 0 | AB9: 0 | AC9: 0 | AD9: 0 | AE9: 0 | AF9: 0
A10: 0 | C10: 0 | E10: 5 | F10: Ａ飯岡 | G10: 50 | I10: 4 | J10: 旭東部 | K10: 1800 | M10: 0 | O10: 0 | Q10: 5 | R10: Ｙ旭 | S10: 50 | U10: 4 | V10: Ｙ旭東部 | W10: 50 | AA10: 0 | AB10: 4342005 | AC10: 4343004 | AD10: 0 | AE10: 4345005 | AF10: 4346004
C11: 0 | G11: 0 | K11: 0 | O11: 0 | S11: 0 | W11: 0 | AA11: 0 | AB11: 0 | AC11: 0 | AD11: 0 | AE11: 0 | AF11: 0
B42: 小計 | C42: =C6+C8+C10+C12+C14+C16+C18+C20+C22+C24+C26+C28+C30+C32+C34+C36+C38+C40 -> 1450 | D42: =D6+D8+D10+D12+D14+D16+D18+D20+D22+D24+D26+D28+D30+D32+D34+D36+D38+D40 -> 0 | F42: 小計 | G42: =G6+G8+G10+G12+G14+G16+G18+G20+G22+G24+G26+G28+G30+G32+G34+G36+G38+G40 -> 200 | H42: =H6+H8+H10+H12+H14+H16+H18+H20+H22+H24+H26+H28+H30+H32+H34+H36+H38+H40 -> 0 | J42: 小計 | K42: =K6+K8+K10+K12+K14+K16+K18+K20+K22+K24+K26+K28+K30+K32+K34+K36+K38+K40 -> 5850 | L42: =L6+L8+L10+L12+L14+L16+L18+L20+L22+L24+L26+L28+L30+L32+L34+L36+L38+L40 -> 0 | N42: 小計 | O42: =O6+O8+O10+O12+O14+O16+O18+O20+O22+O24+O26+O28+O30+O32+O34+O36+O38+O40 -> 600 | P42: =P6+P8+P10+P12+P14+P16+P18+P20+P22+P24+P26+P28+P30+P32+P34+P36+P38+P40 -> 0 | R42: 小計 | S42: =S6+S8+S10+S12+S14+S16+S18+S20+S22+S24+S26+S28+S30+S32+S34+S36+S38+S40 -> 200 | T42: =T6+T8+T10+T12+T14+T16+T18+T20+T22+T24+T26+T28+T30+T32+T34+T36+T38+T40 -> 0 | V42: 小計 | W42: =W6+W8+W10+W12+W14+W16+W18+W20+W22+W24+W26+W28+W30+W32+W34+W36+W38+W40 -> 250 | X42: =X6+X8+X10+X12+X14+X16+X18+X20+X22+X24+X26+X28+X30+X32+X34+X36+X38+X40 -> 0
C43: =C7+C9+C11+C13+C15+C17+C19+C21+C23+C25+C27+C29+C31+C33+C35+C37+C39+C41 -> 0 | D43: =D7+D9+D11+D13+D15+D17+D19+D21+D23+D25+D27+D29+D31+D33+D35+D37+D39+D41 -> 0 | G43: =G7+G9+G11+G13+G15+G17+G19+G21+G23+G25+G27+G29+G31+G33+G35+G37+G39+G41 -> 0 | H43: =H7+H9+H11+H13+H15+H17+H19+H21+H23+H25+H27+H29+H31+H33+H35+H37+H39+H41 -> 0 | K43: =K7+K9+K11+K13+K15+K17+K19+K21+K23+K25+K27+K29+K31+K33+K35+K37+K39+K41 -> 0 | L43: =L7+L9+L11+L13+L15+L17+L19+L21+L23+L25+L27+L29+L31+L33+L35+L37+L39+L41 -> 0 | O43: =O7+O9+O11+O13+O15+O17+O19+O21+O23+O25+O27+O29+O31+O33+O35+O37+O39+O41 -> 0 | P43: =P7+P9+P11+P13+P15+P17+P19+P21+P23+P25+P27+P29+P31+P33+P35+P37+P39+P41 -> 0 | S43: =S7+S9+S11+S13+S15+S17+S19+S21+S23+S25+S27+S29+S31+S33+S35+S37+S39+S41 -> 0 | T43: =T7+T9+T11+T13+T15+T17+T19+T21+T23+T25+T27+T29+T31+T33+T35+T37+T39+T41 -> 0 | W43: =W7+W9+W11+W13+W15+W17+W19+W21+W23+W25+W27+W29+W31+W33+W35+W37+W39+W41 -> 0 | X43: =X7+X9+X11+X13+X15+X17+X19+X21+X23+X25+X27+X29+X31+X33+X35+X37+X39+X41 -> 0
F44: 合 計 | K44: =C42+C43+G42+G43+K42+K43+O42+O43+S42+S43+W42+W43 -> 8550 | N44: （ | O44: =D42+D43+H42+H43+L42+L43+P42+P43+T42+T43+X42+X43 -> 0 | Q44: ）

Sheet 匝　嵯　市
A2: スポンサー | H2: 品 名 | O2: 代理店 | V2: 担 当
A3: 折 込 日 | C3: 年 月 日 曜日 | H3: サイズ | L3: 総枚数 | R3: 備 考
B4: 0435 | C4: 匝 嵯 市 | AA4: 0435
B5: 朝日 | C5: 部数 | D5: 配布数 | F5: 毎日 | G5: 部数 | H5: 配布数 | J5: 読売 | K5: 部数 | L5: 配布数 | N5: 産経 | O5: 部数 | P5: 配布数 | R5: 東京 | S5: 部数 | T5: 配布数 | V5: 日経 | W5: 部数 | X5: 配布数
