Workbook

Sheet 市  川  市
A2: スポンサー | H2: 品 名 | O2: 代理店 | V2: 担 当
A3: 折 込 日 | C3: 年 月 日 曜日 | H3: サイズ | L3: 総枚数 | R3: 備 考
B4: 0401 | C4: 市 川 市 | S4: 令和８年６月改定・埼北オリコミ | AA4: 0401
B5: 朝日 | C5: 部数 | D5: 配布数 | F5: 毎日 | G5: 部数 | H5: 配布数 | J5: 読売 | K5: 部数 | L5: 配布数 | N5: 産経 | O5: 部数 | P5: 配布数 | R5: 東京 | S5: 部数 | T5: 配布数 | V5: 日経 | W5: 部数 | X5: 配布数
A6: 1 | B6: 市川 | C6: 2350 | E6: 1 | F6: 市川・本 | G6: 1000 | I6: 1 | J6: 市川 | K6: 3150 | M6: 1 | N6: 南行徳 | O6: 400 | Q6: 2 | R6: Ａ市川 | S6: 300 | U6: 4 | V6: Ａ中山 | W6: 950 | AA6: 4011001 | AB6: 4012001 | AC6: 4013001 | AD6: 4014001 | AE6: 4015002 | AF6: 4016004
C7: 0 | F7: 八幡南 | G7: 0 | K7: 0 | O7: 0 | S7: 0 | W7: 0 | AA7: 0 | AB7: 0 | AC7: 0 | AD7: 0 | AE7: 0 | AF7: 0
A8: 3 | B8: 市川南八 | C8: 3750 | E8: 7 | F8: Ｓ本八幡 | G8: 250 | I8: 2 | J8: 国分 | K8: 2100 | M8: 2 | N8: 本八幡 | O8: 850 | Q8: 4 | R8: Ａ市川南 | S8: 500 | U8: 5 | V8: Ａ行徳 | W8: 650 | AA8: 4011003 | AB8: 4012007 | AC8: 4013002 | AD8: 4014002 | AE8: 4015004 | AF8: 4016005
B9: 幡 | C9: 0 | G9: 0 | K9: 0 | O9: 0 | R9: 八幡 | S9: 0 | W9: 0 | AA9: 0 | AB9: 0 | AC9: 0 | AD9: 0 | AE9: 0 | AF9: 0
A10: 5 | B10: 本八幡 | C10: 3400 | E10: 12 | F10: Ａ中山 | G10: 250 | I10: 4 | J10: 市川大野 | K10: 1800 | M10: 4 | N10: 行徳 | O10: 350 | Q10: 5 | R10: Ａ本八幡 | S10: 450 | U10: 7 | V10: Ａ南行徳 | W10: 450 | AA10: 4011005 | AB10: 4012012 | AC10: 4013004 | AD10: 4014004 | AE10: 4015005 | AF10: 4016007
C11: 0 | G11: 0 | K11: 0 | O11: 0 | S11: 0 | W11: 0 | AA11: 0 | AB11: 0 | AC11: 0 | AD11: 0 | AE11: 0 | AF11: 0
A12: 11 | B12: 南行徳 | C12: 1950 | E12: 13 | F12: 行徳 | G12: 100 | I12: 5 | J12: 本八幡第 | K12: 2750 | M12: 7 | N12: Ａ行徳 | O12: 50 | Q12: 11 | R12: Ａ中山 | S12: 350 | U12: 8 | V12: Ａ市川南 | W12: 150 | AA12: 4011011 | AB12: 4012013 | AC12: 4013005 | AD12: 4014007 | AE12: 4015011 | AF12: 4016008
C13: 0 | G13: 0 | J13: 一 | K13: 0 | O13: 0 | S13: 0 | V13: 八幡 | W13: 0 | AA13: 0 | AB13: 0 | AC13: 0 | AD13: 0 | AE13: 0 | AF13: 0
A14: 12 | B14: 行徳 | C14: 2450 | E14: 14 | F14: 南行徳 | G14: 100 | I14: 6 | J14: 本八幡南 | K14: 2500 | M14: 8 | N14: Ｍ市川・ | O14: 850 | Q14: 12 | R14: Ａ行徳 | S14: 350 | U14: 9 | V14: Ｙ市川 | W14: 1300 | AA14: 4011012 | AB14: 4012014 | AC14: 4013006 | AD14: 4014008 | AE14: 4015012 | AF14: 4016009
C15: 0 | G15: 0 | J15: 部 | K15: 0 | N15: 本八幡南 | O15: 0 | S15: 0 | W15: 0 | AA15: 0 | AB15: 0 | AC15: 0 | AD15: 0 | AE15: 0 | AF15: 0
A16: 13 | B16: 中山 | C16: 3050 | E16: 15 | F16: Ａ本八幡 | G16: 0 | I16: 10 | J16: 南行徳 | K16: 2000 | M16: 14 | N16: Ａ中山 | O16: 300 | Q16: 13 | R16: Ａ南行徳 | S16: 550 | U16: 11 | V16: Ｙ国分 | W16: 550 | AA16: 4011013 | AB16: 4012015 | AC16: 4013010 | AD16: 4014014 | AE16: 4015013 | AF16: 4016011
C17: 0 | G17: 0 | K17: 0 | O17: 0 | S17: 0 | W17: 0 | AA17: 0 | AB17: 0 | AC17: 0 | AD17: 0 | AE17: 0 | AF17: 0
A18: 0 | C18: 0 | E18: 0 | G18: 0 | I18: 11 | J18: 本八幡北 | K18: 3000 | M18: 0 | O18: 0 | Q18: 0 | S18: 0 | U18: 13 | V18: Ｙ本八幡 | W18: 950 | AA18: 0 | AB18: 0 | AC18: 4013011 | AD18: 0 | AE18: 0 | AF18: 4016013
C19: 0 | G19: 0 | J19: 部 | K19: 0 | O19: 0 | S19: 0 | V19: 第一 | W19: 0 | AA19: 0 | AB19: 0 | AC19: 0 | AD19: 0 | AE19: 0 | AF19: 0
A20: 0 | C20: 0 | E20: 0 | G20: 0 | I20: 12 | J20: 行徳中央 | K20: 2400 | M20: 0 | O20: 0 | Q20: 0 | S20: 0 | U20: 14 | V20: Ｙ本八幡 | W20: 600 | AA20: 0 | AB20: 0 | AC20: 4013012 | AD20: 0 | AE20: 0 | AF20: 4016014
C21: 0 | G21: 0 | K21: 0 | O21: 0 | S21: 0 | V21: 南部 | W21: 0 | AA21: 0 | AB21: 0 | AC21: 0 | AD21: 0 | AE21: 0 | AF21: 0
A22: 0 | C22: 0 | E22: 0 | G22: 0 | I22: 13 | J22: 中山中央 | K22: 1300 | M22: 0 | O22: 0 | Q22: 0 | S22: 0 | U22: 15 | V22: Ｙ中山中 | W22: 100 | AA22: 0 | AB22: 0 | AC22: 4013013 | AD22: 0 | AE22: 0 | AF22: 4016015
C23: 0 | G23: 0 | K23: 0 | O23: 0 | S23: 0 | V23: 央 | W23: 0 | AA23: 0 | AB23: 0 | AC23: 0 | AD23: 0 | AE23: 0 | AF23: 0
A24: 0 | C24: 0 | E24: 0 | G24: 0 | I24: 14 | J24: 西船橋北 | K24: 2150 | M24: 0 | O24: 0 | Q24: 0 | S24: 0 | U24: 16 | V24: Ｙ市川大 | W24: 300 | AA24: 0 | AB24: 0 | AC24: 4013014 | AD24: 0 | AE24: 0 | AF24: 4016016
C25: 0 | G25: 0 | J25: 部（中山 | K25: 0 | O25: 0 | S25: 0 | V25: 野 | W25: 0 | AA25: 0 | AB25: 0 | AC25: 0 | AD25: 0 | AE25: 0 | AF25: 0
A26: 0 | C26: 0 | E26: 0 | G26: 0 | I26: 17 | J26: 行徳（新 | K26: 2550 | M26: 0 | O26: 0 | Q26: 0 | S26: 0 | U26: 20 | V26: Ｙ行徳 | W26: 350 | AA26: 0 | AB26: 0 | AC26: 4013017 | AD26: 0 | AE26: 0 | AF26: 4016020
C27: 0 | G27: 0 | J27: 行徳） | K27: 0 | O27: 0 | S27: 0 | W27: 0 | AA27: 0 | AB27: 0 | AC27: 0 | AD27: 0 | AE27: 0 | AF27: 0
A28: 0 | C28: 0 | E28: 0 | G28: 0 | I28: 0 | K28: 0 | M28: 0 | O28: 0 | Q28: 0 | S28: 0 | U28: 21 | V28: Ｙ南行徳 | W28: 300 | AA28: 0 | AB28: 0 | AC28: 0 | AD28: 0 | AE28: 0 | AF28: 4016021
C29: 0 | G29: 0 | K29: 0 | O29: 0 | S29: 0 | W29: 0 | AA29: 0 | AB29: 0 | AC29: 0 | AD29: 0 | AE29: 0 | AF29: 0
A30: 0 | C30: 0 | E30: 0 | G30: 0 | I30: 0 | K30: 0 | M30: 0 | O30: 0 | Q30: 0 | S30: 0 | U30: 22 | V30: Ｙ本八幡 | W30: 300 | AA30: 0 | AB30: 0 | AC30: 0 | AD30: 0 | AE30: 0 | AF30: 4016022
C31: 0 | G31: 0 | K31: 0 | O31: 0 | S31: 0 | V31: 北部 | W31: 0 | AA31: 0 | AB31: 0 | AC31: 0 | AD31: 0 | AE31: 0 | AF31: 0
A32: 0 | C32: 0 | E32: 0 | G32: 0 | I32: 0 | K32: 0 | M32: 0 | O32: 0 | Q32: 0 | S32: 0 | U32: 23 | V32: Ｙ行徳中 | W32: 200 | AA32: 0 | AB32: 0 | AC32: 0 | AD32: 0 | AE32: 0 | AF32: 4016023
C33: 0 | G33: 0 | K33: 0 | O33: 0 | S33: 0 | V33: 央 | W33: 0 | AA33: 0 | AB33: 0 | AC33: 0 | AD33: 0 | AE33: 0 | AF33: 0
B42: 小計 | C42: =C6+C8+C10+C12+C14+C16+C18+C20+C22+C24+C26+C28+C30+C32+C34+C36+C38+C40 -> 16950 | D42: =D6+D8+D10+D12+D14+D16+D18+D20+D22+D24+D26+D28+D30+D32+D34+D36+D38+D40 -> 0 | F42: 小計 | G42: =G6+G8+G10+G12+G14+G16+G18+G20+G22+G24+G26+G28+G30+G32+G34+G36+G38+G40 -> 1700 | H42: =H6+H8+H10+H12+H14+H16+H18+H20+H22+H24+H26+H28+H30+H32+H34+H36+H38+H40 -> 0 | J42: 小計 | K42: =K6+K8+K10+K12+K14+K16+K18+K20+K22+K24+K26+K28+K30+K32+K34+K36+K38+K40 -> 25700 | L42: =L6+L8+L10+L12+L14+L16+L18+L20+L22+L24+L26+L28+L30+L32+L34+L36+L38+L40 -> 0 | N42: 小計 | O42: =O6+O8+O10+O12+O14+O16+O18+O20+O22+O24+O26+O28+O30+O32+O34+O36+O38+O40 -> 2800 | P42: =P6+P8+P10+P12+P14+P16+P18+P20+P22+P24+P26+P28+P30+P32+P34+P36+P38+P40 -> 0 | R42: 小計 | S42: =S6+S8+S10+S12+S14+S16+S18+S20+S22+S24+S26+S28+S30+S32+S34+S36+S38+S40 -> 2500 | T42: =T6+T8+T10+T12+T14+T16+T18+T20+T22+T24+T26+T28+T30+T32+T34+T36+T38+T40 -> 0 | V42: 小計 | W42: =W6+W8+W10+W12+W14+W16+W18+W20+W22+W24+W26+W28+W30+W32+W34+W36+W38+W40 -> 7150 | X42: =X6+X8+X10+X12+X14+X16+X18+X20+X22+X24+X26+X28+X30+X32+X34+X36+X38+X40 -> 0
C43: =C7+C9+C11+C13+C15+C17+C19+C21+C23+C25+C27+C29+C31+C33+C35+C37+C39+C41 -> 0 | D43: =D7+D9+D11+D13+D15+D17+D19+D21+D23+D25+D27+D29+D31+D33+D35+D37+D39+D41 -> 0 | G43: =G7+G9+G11+G13+G15+G17+G19+G21+G23+G25+G27+G29+G31+G33+G35+G37+G39+G41 -> 0 | H43: =H7+H9+H11+H13+H15+H17+H19+H21+H23+H25+H27+H29+H31+H33+H35+H37+H39+H41 -> 0 | K43: =K7+K9+K11+K13+K15+K17+K19+K21+K23+K25+K27+K29+K31+K33+K35+K37+K39+K41 -> 0 | L43: =L7+L9+L11+L13+L15+L17+L19+L21+L23+L25+L27+L29+L31+L33+L35+L37+L39+L41 -> 0 | O43: =O7+O9+O11+O13+O15+O17+O19+O21+O23+O25+O27+O29+O31+O33+O35+O37+O39+O41 -> 0 | P43: =P7+P9+P11+P13+P15+P17+P19+P21+P23+P25+P27+P29+P31+P33+P35+P37+P39+P41 -> 0 | S43: =S7+S9+S11+S13+S15+S17+S19+S21+S23+S25+S27+S29+S31+S33+S35+S37+S39+S41 -> 0 | T43: =T7+T9+T11+T13+T15+T17+T19+T21+T23+T25+T27+T29+T31+T33+T35+T37+T39+T41 -> 0 | W43: =W7+W9+W11+W13+W15+W17+W19+W21+W23+W25+W27+W29+W31+W33+W35+W37+W39+W41 -> 0 | X43: =X7+X9+X11+X13+X15+X17+X19+X21+X23+X25+X27+X29+X31+X33+X35+X37+X39+X41 -> 0
F44: 合 計 | K44: =C42+C43+G42+G43+K42+K43+O42+O43+S42+S43+W42+W43 -> 56800 | N44: （ | O44: =D42+D43+H42+H43+L42+L43+P42+P43+T42+T43+X42+X43 -> 0 | Q44: ）
A45: Ｍ市川北部・本八幡南部⇒市川南部に吸収 | H45: Ｍ市川南部⇒市川・本八幡名変 | O45: Ｙ行徳南⇒南行徳名変

Sheet 浦  安  市
A2: スポンサー | H2: 品 名 | O2: 代理店 | V2: 担 当
A3: 折 込 日 | C3: 年 月 日 曜日 | H3: サイズ | L3: 総枚数 | R3: 備 考
B4: 0402 | C4: 浦 安 市 | AA4: 0402
B5: 朝日 | C5: 部数 | D5: 配布数 | F5: 毎日 | G5: 部数 | H5: 配布数 | J5: 読売 | K5: 部数 | L5: 配布数 | N5: 産経 | O5: 部数 | P5: 配布数 | R5: 東京 | S5: 部数 | T5: 配布数 | V5: 日経 | W5: 部数 | X5: 配布数
A6: 2 | B6: 浦安西部 | C6: 2100 | E6: 2 | F6: 浦安 | G6: 350 | I6: 1 | J6: 新浦安 | K6: 7100 | M6: 1 | N6: 浦安 | O6: 750 | Q6: 1 | R6: 浦安 | S6: 250 | U6: 2 | V6: Ａ浦安 | W6: 1500 | AA6: 4021002 | AB6: 4022002 | AC6: 4023001 | AD6: 4024001 | AE6: 4025001 | AF6: 4026002
C7: 0 | G7: 0 | K7: 0 | O7: 0 | S7: 0 | W7: 0 | AA7: 0 | AB7: 0 | AC7: 0 | AD7: 0 | AE7: 0 | AF7: 0
A8: 3 | B8: 浦安（北 | C8: 2500 | E8: 5 | F8: Ａ浦安西 | G8: 150 | I8: 2 | J8: 新浦安舞 | K8: 2800 | M8: 3 | N8: 浦安舞浜 | O8: 400 | Q8: 2 | R8: Ｙ新浦安 | S8: 300 | U8: 4 | V8: Ａ浦安西 | W8: 950 | AA8: 4021003 | AB8: 4022005 | AC8: 4023002 | AD8: 4024003 | AE8: 4025002 | AF8: 4026004
B9: 部） | C9: 0 | F9: 部 | G9: 0 | J9: 浜 | K9: 0 | O9: 0 | R9: 舞浜 | S9: 0 | V9: 部 | W9: 0 | AA9: 0 | AB9: 0 | AC9: 0 | AD9: 0 | AE9: 0 | AF9: 0
A10: 0 | C10: 0 | E10: 6 | F10: Ａ浦安 | G10: 200 | I10: 0 | K10: 0 | M10: 4 | N10: Ａ浦安 | O10: 300 | Q10: 4 | R10: Ｙ新浦安 | S10: 250 | U10: 5 | V10: Ｙ新浦安 | W10: 950 | AA10: 0 | AB10: 4022006 | AC10: 0 | AD10: 4024004 | AE10: 4025004 | AF10: 4026005
C11: 0 | G11: 0 | K11: 0 | O11: 0 | S11: 0 | W11: 0 | AA11: 0 | AB11: 0 | AC11: 0 | AD11: 0 | AE11: 0 | AF11: 0
A12: 0 | C12: 0 | E12: 0 | G12: 0 | I12: 0 | K12: 0 | M12: 0 | O12: 0 | Q12: 5 | R12: Ａ浦安西 | S12: 50 | U12: 6 | V12: Ｙ新浦安 | W12: 900 | AA12: 0 | AB12: 0 | AC12: 0 | AD12: 0 | AE12: 4025005 | AF12: 4026006
C13: 0 | G13: 0 | K13: 0 | O13: 0 | R13: 部 | S13: 0 | V13: 舞浜 | W13: 0 | AA13: 0 | AB13: 0 | AC13: 0 | AD13: 0 | AE13: 0 | AF13: 0
B42: 小計 | C42: =C6+C8+C10+C12+C14+C16+C18+C20+C22+C24+C26+C28+C30+C32+C34+C36+C38+C40 -> 4600 | D42: =D6+D8+D10+D12+D14+D16+D18+D20+D22+D24+D26+D28+D30+D32+D34+D36+D38+D40 -> 0 | F42: 小計 | G42: =G6+G8+G10+G12+G14+G16+G18+G20+G22+G24+G26+G28+G30+G32+G34+G36+G38+G40 -> 700 | H42: =H6+H8+H10+H12+H14+H16+H18+H20+H22+H24+H26+H28+H30+H32+H34+H36+H38+H40 -> 0 | J42: 小計 | K42: =K6+K8+K10+K12+K14+K16+K18+K20+K22+K24+K26+K28+K30+K32+K34+K36+K38+K40 -> 9900 | L42: =L6+L8+L10+L12+L14+L16+L18+L20+L22+L24+L26+L28+L30+L32+L34+L36+L38+L40 -> 0 | N42: 小計 | O42: =O6+O8+O10+O12+O14+O16+O18+O20+O22+O24+O26+O28+O30+O32+O34+O36+O38+O40 -> 1450 | P42: =P6+P8+P10+P12+P14+P16+P18+P20+P22+P24+P26+P28+P30+P32+P34+P36+P38+P40 -> 0 | R42: 小計 | S42: =S6+S8+S10+S12+S14+S16+S18+S20+S22+S24+S26+S28+S30+S32+S34+S36+S38+S40 -> 850 | T42: =T6+T8+T10+T12+T14+T16+T18+T20+T22+T24+T26+T28+T30+T32+T34+T36+T38+T40 -> 0 | V42: 小計 | W42: =W6+W8+W10+W12+W14+W16+W18+W20+W22+W24+W26+W28+W30+W32+W34+W36+W38+W40 -> 4300 | X42: =X6+X8+X10+X12+X14+X16+X18+X20+X22+X24+X26+X28+X30+X32+X34+X36+X38+X40 -> 0
C43: =C7+C9+C11+C13+C15+C17+C19+C21+C23+C25+C27+C29+C31+C33+C35+C37+C39+C41 -> 0 | D43: =D7+D9+D11+D13+D15+D17+D19+D21+D23+D25+D27+D29+D31+D33+D35+D37+D39+D41 -> 0 | G43: =G7+G9+G11+G13+G15+G17+G19+G21+G23+G25+G27+G29+G31+G33+G35+G37+G39+G41 -> 0 | H43: =H7+H9+H11+H13+H15+H17+H19+H21+H23+H25+H27+H29+H31+H33+H35+H37+H39+H41 -> 0 | K43: =K7+K9+K11+K13+K15+K17+K19+K21+K23+K25+K27+K29+K31+K33+K35+K37+K39+K41 -> 0 | L43: =L7+L9+L11+L13+L15+L17+L19+L21+L23+L25+L27+L29+L31+L33+L35+L37+L39+L41 -> 0 | O43: =O7+O9+O11+O13+O15+O17+O19+O21+O23+O25+O27+O29+O31+O33+O35+O37+O39+O41 -> 0 | P43: =P7+P9+P11+P13+P15+P17+P19+P21+P23+P25+P27+P29+P31+P33+P35+P37+P39+P41 -> 0 | S43: =S7+S9+S11+S13+S15+S17+S19+S21+S23+S25+S27+S29+S31+S33+S35+S37+S39+S41 -> 0 | T43: =T7+T9+T11+T13+T15+T17+T19+T21+T23+T25+T27+T29+T31+T33+T35+T37+T39+T41 -> 0 | W43: =W7+W9+W11+W13+W15+W17+W19+W21+W23+W25+W27+W29+W31+W33+W35+W37+W39+W41 -> 0 | X43: =X7+X9+X11+X13+X15+X17+X19+X21+X23+X25+X27+X29+X31+X33+X35+X37+X39+X41 -> 0
F44: 合 計 | K44: =C42+C43+G42+G43+K42+K43+O42+O43+S42+S43+W42+W43 -> 21800 | N44: （ | O44: =D42+D43+H42+H43+L42+L43+P42+P43+T42+T43+X42+X43 -> 0 | Q44: ）
A45: Ｍ浦安南廃店⇒浦安（浦安北部）に統合

Sheet 船  橋  市
A2: スポンサー | H2: 品 名 | O2: 代理店 | V2: 担 当
A3: 折 込 日 | C3: 年 月 日 曜日 | H3: サイズ | L3: 総枚数 | R3: 備 考
B4: 0403 | C4: 船 橋 市 | AA4: 0403
B5: 朝日 | C5: 部数 | D5: 配布数 | F5: 毎日 | G5: 部数 | H5: 配布数 | J5: 読売 | K5: 部数 | L5: 配布数 | N5: 産経 | O5: 部数 | P5: 配布数 | R5: 東京 | S5: 部数 | T5: 配布数 | V5: 日経 | W5: 部数 | X5: 配布数
A6: 1 | B6: 船橋 | C6: 4850 | E6: 6 | F6: 新高根・ | G6: 300 | I6: 2 | J6: 船橋南部 | K6: 5250 | M6: 1 | N6: 船橋中央 | O6: 400 | Q6: 2 | R6: Ａ西船橋 | S6: 250 | U6: 2 | V6: Ａ西船橋 | W6: 700 | AA6: 4031001 | AB6: 4032006 | AC6: 4033002 | AD6: 4034001 | AE6: 4035002 | AF6: 4036002
C7: 0 | F7: 飯山満 | G7: 0 | K7: 0 | O7: 0 | R7: 南部 | S7: 0 | V7: 南部 | W7: 0 | AA7: 0 | AB7: 0 | AC7: 0 | AD7: 0 | AE7: 0 | AF7: 0
A8: 5 | B8: 西船橋南 | C8: 2100 | E8: 7 | F8: 北習志野 | G8: 200 | I8: 3 | J8: 船橋北部 | K8: 2750 | M8: 3 | N8: 夏見・馬 | O8: 350 | Q8: 3 | R8: Ａ船橋 | S8: 550 | U8: 4 | V8: Ａ薬円台 | W8: 1000 | AA8: 4031005 | AB8: 4032007 | AC8: 4033003 | AD8: 4034003 | AE8: 4035003 | AF8: 4036004
B9: 部 | C9: 0 | G9: 0 | K9: 0 | N9: 込沢 | O9: 0 | S9: 0 | W9: 0 | AA9: 0 | AB9: 0 | AC9: 0 | AD9: 0 | AE9: 0 | AF9: 0
A10: 6 | B10: 船橋東部 | C10: 1500 | E10: 8 | F10: 高根台 | G10: 250 | I10: 4 | J10: 船橋海神 | K10: 1750 | M10: 5 | N10: Ａ船橋東 | O10: 50 | Q10: 5 | R10: Ａ薬円台 | S10: 450 | U10: 5 | V10: Ａ北習志 | W10: 550 | AA10: 4031006 | AB10: 4032008 | AC10: 4033004 | AD10: 4034005 | AE10: 4035005 | AF10: 4036005
C11: 0 | G11: 0 | K11: 0 | N11: 部 | O11: 0 | S11: 0 | V11: 野 | W11: 0 | AA11: 0 | AB11: 0 | AC11: 0 | AD11: 0 | AE11: 0 | AF11: 0
A12: 8 | B12: 薬円台 | C12: 3900 | E12: 9 | F12: 薬円台 | G12: 150 | I12: 5 | J12: 船橋金杉 | K12: 3300 | M12: 11 | N12: Ｍ新高根 | O12: 400 | Q12: 6 | R12: Ａ北習志 | S12: 250 | U12: 6 | V12: Ａ津田沼 | W12: 850 | AA12: 4031008 | AB12: 4032009 | AC12: 4033005 | AD12: 4034011 | AE12: 4035006 | AF12: 4036006
C13: 0 | G13: 0 | K13: 0 | N13: ・飯山満 | O13: 0 | R13: 野 | S13: 0 | W13: 0 | AA13: 0 | AB13: 0 | AC13: 0 | AD13: 0 | AE13: 0 | AF13: 0
A14: 9 | B14: 北習志野 | C14: 2200 | E14: 10 | F14: Ｙ船橋馬 | G14: 100 | I14: 6 | J14: 西船橋 | K14: 2800 | M14: 12 | N14: Ｍ北習志 | O14: 250 | Q14: 7 | R14: Ａ船橋松 | S14: 250 | U14: 7 | V14: Ａ船橋芝 | W14: 250 | AA14: 4031009 | AB14: 4032010 | AC14: 4033006 | AD14: 4034012 | AE14: 4035007 | AF14: 4036007
C15: 0 | F15: 込沢西部 | G15: 0 | K15: 0 | N15: 野 | O15: 0 | R15: ヶ丘 | S15: 0 | V15: 山 | W15: 0 | AA15: 0 | AB15: 0 | AC15: 0 | AD15: 0 | AE15: 0 | AF15: 0
A16: 10 | B16: 船橋芝山 | C16: 2400 | E16: 11 | F16: Ｙ船橋馬 | G16: 50 | I16: 7 | J16: 高根台 | K16: 1700 | M16: 13 | N16: Ｍ高根台 | O16: 150 | Q16: 9 | R16: Ａ船橋芝 | S16: 300 | U16: 8 | V16: Ａ船橋松 | W16: 200 | AA16: 4031010 | AB16: 4032011 | AC16: 4033007 | AD16: 4034013 | AE16: 4035009 | AF16: 4036008
C17: 0 | F17: 込沢 | G17: 0 | K17: 0 | O17: 0 | R17: 山 | S17: 0 | V17: ヶ丘 | W17: 0 | AA17: 0 | AB17: 0 | AC17: 0 | AD17: 0 | AE17: 0 | AF17: 0
A18: 11 | B18: 船橋松ヶ | C18: 1450 | E18: 12 | F18: Ａ船橋 | G18: 600 | I18: 8 | J18: 高根台北 | K18: 1850 | M18: 15 | N18: Ａ西船橋 | O18: 300 | Q18: 10 | R18: Ａ船橋三 | S18: 100 | U18: 9 | V18: Ａ船橋小 | W18: 50 | AA18: 4031011 | AB18: 4032012 | AC18: 4033008 | AD18: 4034015 | AE18: 4035010 | AF18: 4036009
B19: 丘 | C19: 0 | G19: 0 | K19: 0 | N19: 南部 | O19: 0 | R19: 咲 | S19: 0 | V19: 室 | W19: 0 | AA19: 0 | AB19: 0 | AC19: 0 | AD19: 0 | AE19: 0 | AF19: 0
A20: 12 | B20: 船橋三咲 | C20: 1550 | E20: 13 | F20: Ａ西船橋 | G20: 150 | I20: 9 | J20: 薬円台 | K20: 4400 | M20: 16 | N20: Ａ船橋 | O20: 100 | Q20: 11 | R20: Ａ津田沼 | S20: 200 | U20: 15 | V20: Ｍ高根台 | W20: 100 | AA20: 4031012 | AB20: 4032013 | AC20: 4033009 | AD20: 4034016 | AE20: 4035011 | AF20: 4036015
C21: 0 | F21: 南部 | G21: 0 | K21: 0 | O21: 0 | S21: 0 | W21: 0 | AA21: 0 | AB21: 0 | AC21: 0 | AD21: 0 | AE21: 0 | AF21: 0
A22: 13 | B22: 津田沼 | C22: 2400 | E22: 14 | F22: Ａ船橋東 | G22: 200 | I22: 10 | J22: 習志野台 | K22: 4700 | M22: 18 | N22: Ａ船橋馬 | O22: 200 | Q22: 12 | R22: Ａ船橋東 | S22: 200 | U22: 16 | V22: Ｍ新高根 | W22: 150 | AA22: 4031013 | AB22: 4032014 | AC22: 4033010 | AD22: 4034018 | AE22: 4035012 | AF22: 4036016
C23: 0 | F23: 部 | G23: 0 | K23: 0 | N23: 込沢 | O23: 0 | R23: 部 | S23: 0 | V23: ・飯山満 | W23: 0 | AA23: 0 | AB23: 0 | AC23: 0 | AD23: 0 | AE23: 0 | AF23: 0
A24: 14 | B24: 船橋小室 | C24: 300 | E24: 17 | F24: Ａ船橋馬 | G24: 50 | I24: 12 | J24: 東船橋 | K24: 1550 | M24: 19 | N24: Ｙ船橋金 | O24: 50 | Q24: 13 | R24: Ａ船橋小 | S24: 50 | U24: 19 | V24: Ｙ船橋南 | W24: 750 | AA24: 4031014 | AB24: 4032017 | AC24: 4033012 | AD24: 4034019 | AE24: 4035013 | AF24: 4036019
C25: 0 | F25: 込沢 | G25: 0 | K25: 0 | N25: 杉 | O25: 0 | R25: 室 | S25: 0 | V25: 部 | W25: 0 | AA25: 0 | AB25: 0 | AC25: 0 | AD25: 0 | AE25: 0 | AF25: 0
A26: 15 | B26: 船橋馬込 | C26: 2100 | E26: 18 | F26: Ｙ船橋金 | G26: 100 | I26: 13 | J26: 新船橋・ | K26: 2250 | M26: 21 | N26: Ａ薬円台 | O26: 250 | Q26: 14 | R26: Ａ船橋馬 | S26: 150 | U26: 20 | V26: Ｙ東船橋 | W26: 350 | AA26: 4031015 | AB26: 4032018 | AC26: 4033013 | AD26: 4034021 | AE26: 4035014 | AF26: 4036020
B27: 沢 | C27: 0 | F27: 杉 | G27: 0 | J27: 塚田 | K27: 0 | O27: 0 | R27: 込沢 | S27: 0 | W27: 0 | AA27: 0 | AB27: 0 | AC27: 0 | AD27: 0 | AE27: 0 | AF27: 0
A28: 0 | C28: 0 | E28: 0 | G28: 0 | I28: 14 | J28: 津田沼北 | K28: 2500 | M28: 0 | O28: 0 | Q28: 20 | R28: Ｍ新高根 | S28: 100 | U28: 21 | V28: Ｙ船橋馬 | W28: 200 | AA28: 0 | AB28: 0 | AC28: 4033014 | AD28: 0 | AE28: 4035020 | AF28: 4036021
C29: 0 | G29: 0 | J29: 部 | K29: 0 | O29: 0 | R29: ・飯山満 | S29: 0 | V29: 込沢西部 | W29: 0 | AA29: 0 | AB29: 0 | AC29: 0 | AD29: 0 | AE29: 0 | AF29: 0
A30: 0 | C30: 0 | E30: 0 | G30: 0 | I30: 15 | J30: 船橋馬込 | K30: 1450 | M30: 0 | O30: 0 | Q30: 21 | R30: Ｙ船橋馬 | S30: 50 | U30: 22 | V30: Ｙ船橋馬 | W30: 150 | AA30: 0 | AB30: 0 | AC30: 4033015 | AD30: 0 | AE30: 4035021 | AF30: 4036022
C31: 0 | G31: 0 | J31: 沢西部 | K31: 0 | O31: 0 | R31: 込沢西部 | S31: 0 | V31: 込沢 | W31: 0 | AA31: 0 | AB31: 0 | AC31: 0 | AD31: 0 | AE31: 0 | AF31: 0
A32: 0 | C32: 0 | E32: 0 | G32: 0 | I32: 16 | J32: 船橋馬込 | K32: 1150 | M32: 0 | O32: 0 | Q32: 22 | R32: Ｙ船橋馬 | S32: 50 | U32: 24 | V32: Ａ船橋 | W32: 1500 | AA32: 0 | AB32: 0 | AC32: 4033016 | AD32: 0 | AE32: 4035022 | AF32: 4036024
C33: 0 | G33: 0 | J33: 沢 | K33: 0 | O33: 0 | R33: 込沢 | S33: 0 | W33: 0 | AA33: 0 | AB33: 0 | AC33: 0 | AD33: 0 | AE33: 0 | AF33: 0
A34: 0 | C34: 0 | E34: 0 | G34: 0 | I34: 0 | K34: 0 | M34: 0 | O34: 0 | Q34: 0 | S34: 0 | U34: 25 | V34: Ｙ薬円台 | W34: 100 | AA34: 0 | AB34: 0 | AC34: 0 | AD34: 0 | AE34: 0 | AF34: 4036025
C35: 0 | G35: 0 | K35: 0 | O35: 0 | S35: 0 | W35: 0 | AA35: 0 | AB35: 0 | AC35: 0 | AD35: 0 | AE35: 0 | AF35: 0
A36: 0 | C36: 0 | E36: 0 | G36: 0 | I36: 0 | K36: 0 | M36: 0 | O36: 0 | Q36: 0 | S36: 0 | U36: 26 | V36: Ｙ船橋北 | W36: 150 | AA36: 0 | AB36: 0 | AC36: 0 | AD36: 0 | AE36: 0 | AF36: 4036026
C37: 0 | G37: 0 | K37: 0 | O37: 0 | S37: 0 | V37: 部 | W37: 0 | AA37: 0 | AB37: 0 | AC37: 0 | AD37: 0 | AE37: 0 | AF37: 0
A38: 0 | C38: 0 | E38: 0 | G38: 0 | I38: 0 | K38: 0 | M38: 0 | O38: 0 | Q38: 0 | S38: 0 | U38: 27 | V38: Ｙ新船橋 | W38: 100 | AA38: 0 | AB38: 0 | AC38: 0 | AD38: 0 | AE38: 0 | AF38: 4036027
C39: 0 | G39: 0 | K39: 0 | O39: 0 | S39: 0 | V39: ・塚田 | W39: 0 | AA39: 0 | AB39: 0 | AC39: 0 | AD39: 0 | AE39: 0 | AF39: 0
A40: 0 | C40: 0 | E40: 0 | G40: 0 | I40: 0 | K40: 0 | M40: 0 | O40: 0 | Q40: 0 | S40: 0 | U40: 28 | V40: Ａ船橋東 | W40: 450 | AA40: 0 | AB40: 0 | AC40: 0 | AD40: 0 | AE40: 0 | AF40: 4036028
C41: 0 | G41: 0 | K41: 0 | O41: 0 | S41: 0 | V41: 部 | W41: 0 | AA41: 0 | AB41: 0 | AC41: 0 | AD41: 0 | AE41: 0 | AF41: 0
...

Sheet 船  橋  市(2)
A2: スポンサー | H2: 品 名 | O2: 代理店 | V2: 担 当
A3: 折 込 日 | C3: 年 月 日 曜日 | H3: サイズ | L3: 総枚数 | R3: 備 考
B4: 0403 | C4: 船 橋 市 | AA4: 0403
B5: 朝日 | C5: 部数 | D5: 配布数 | F5: 毎日 | G5: 部数 | H5: 配布数 | J5: 読売 | K5: 部数 | L5: 配布数 | N5: 産経 | O5: 部数 | P5: 配布数 | R5: 東京 | S5: 部数 | T5: 配布数 | V5: 日経 | W5: 部数 | X5: 配布数
A6: 0 | C6: 0 | E6: 0 | G6: 0 | I6: 0 | K6: 0 | M6: 0 | O6: 0 | Q6: 0 | S6: 0 | U6: 30 | V6: Ａ船橋馬 | W6: 100 | AA6: 0 | AB6: 0 | AC6: 0 | AD6: 0 | AE6: 0 | AF6: 4036030
C7: 0 | G7: 0 | K7: 0 | O7: 0 | S7: 0 | V7: 込沢 | W7: 0 | AA7: 0 | AB7: 0 | AC7: 0 | AD7: 0 | AE7: 0 | AF7: 0
A8: 0 | C8: 0 | E8: 0 | G8: 0 | I8: 0 | K8: 0 | M8: 0 | O8: 0 | Q8: 0 | S8: 0 | U8: 31 | V8: Ｙ船橋金 | W8: 50 | AA8: 0 | AB8: 0 | AC8: 0 | AD8: 0 | AE8: 0 | AF8: 4036031
C9: 0 | G9: 0 | K9: 0 | O9: 0 | S9: 0 | V9: 杉 | W9: 0 | AA9: 0 | AB9: 0 | AC9: 0 | AD9: 0 | AE9: 0 | AF9: 0
B42: 小計 | C42: =C6+C8+C10+C12+C14+C16+C18+C20+C22+C24+C26+C28+C30+C32+C34+C36+C38+C40 -> 0 | D42: =D6+D8+D10+D12+D14+D16+D18+D20+D22+D24+D26+D28+D30+D32+D34+D36+D38+D40 -> 0 | F42: 小計 | G42: =G6+G8+G10+G12+G14+G16+G18+G20+G22+G24+G26+G28+G30+G32+G34+G36+G38+G40 -> 0 | H42: =H6+H8+H10+H12+H14+H16+H18+H20+H22+H24+H26+H28+H30+H32+H34+H36+H38+H40 -> 0 | J42: 小計 | K42: =K6+K8+K10+K12+K14+K16+K18+K20+K22+K24+K26+K28+K30+K32+K34+K36+K38+K40 -> 0 | L42: =L6+L8+L10+L12+L14+L16+L18+L20+L22+L24+L26+L28+L30+L32+L34+L36+L38+L40 -> 0 | N42: 小計 | O42: =O6+O8+O10+O12+O14+O16+O18+O20+O22+O24+O26+O28+O30+O32+O34+O36+O38+O40 -> 0 | P42: =P6+P8+P10+P12+P14+P16+P18+P20+P22+P24+P26+P28+P30+P32+P34+P36+P38+P40 -> 0 | R42: 小計 | S42: =S6+S8+S10+S12+S14+S16+S18+S20+S22+S24+S26+S28+S30+S32+S34+S36+S38+S40 -> 0 | T42: =T6+T8+T10+T12+T14+T16+T18+T20+T22+T24+T26+T28+T30+T32+T34+T36+T38+T40 -> 0 | V42: 小計 | W42: =W6+W8+W10+W12+W14+W16+W18+W20+W22+W24+W26+W28+W30+W32+W34+W36+W38+W40 -> 150 | X42: =X6+X8+X10+X12+X14+X16+X18+X20+X22+X24+X26+X28+X30+X32+X34+X36+X38+X40 -> 0
C43: =C7+C9+C11+C13+C15+C17+C19+C21+C23+C25+C27+C29+C31+C33+C35+C37+C39+C41 -> 0 | D43: =D7+D9+D11+D13+D15+D17+D19+D21+D23+D25+D27+D29+D31+D33+D35+D37+D39+D41 -> 0 | G43: =G7+G9+G11+G13+G15+G17+G19+G21+G23+G25+G27+G29+G31+G33+G35+G37+G39+G41 -> 0 | H43: =H7+H9+H11+H13+H15+H17+H19+H21+H23+H25+H27+H29+H31+H33+H35+H37+H39+H41 -> 0 | K43: =K7+K9+K11+K13+K15+K17+K19+K21+K23+K25+K27+K29+K31+K33+K35+K37+K39+K41 -> 0 | L43: =L7+L9+L11+L13+L15+L17+L19+L21+L23+L25+L27+L29+L31+L33+L35+L37+L39+L41 -> 0 | O43: =O7+O9+O11+O13+O15+O17+O19+O21+O23+O25+O27+O29+O31+O33+O35+O37+O39+O41 -> 0 | P43: =P7+P9+P11+P13+P15+P17+P19+P21+P23+P25+P27+P29+P31+P33+P35+P37+P39+P41 -> 0 | S43: =S7+S9+S11+S13+S15+S17+S19+S21+S23+S25+S27+S29+S31+S33+S35+S37+S39+S41 -> 0 | T43: =T7+T9+T11+T13+T15+T17+T19+T21+T23+T25+T27+T29+T31+T33+T35+T37+T39+T41 -> 0 | W43: =W7+W9+W11+W13+W15+W17+W19+W21+W23+W25+W27+W29+W31+W33+W35+W37+W39+W41 -> 0 | X43: =X7+X9+X11+X13+X15+X17+X19+X21+X23+X25+X27+X29+X31+X33+X35+X37+X39+X41 -> 0
B44: 合計 | C44: ='船 橋 市'!C42 + '船 橋 市(2)'!C42 -> 24750 | D44: ='船 橋 市'!D42 + '船 橋 市(2)'!D42 -> 0 | F44: 合計 | G44: ='船 橋 市'!G42 + '船 橋 市(2)'!G42 -> 2150 | H44: ='船 橋 市'!H42 + '船 橋 市(2)'!H42 -> 0 | J44: 合計 | K44: ='船 橋 市'!K42 + '船 橋 市(2)'!K42 -> 37400 | L44: ='船 橋 市'!L42 + '船 橋 市(2)'!L42 -> 0 | N44: 合計 | O44: ='船 橋 市'!O42 + '船 橋 市(2)'!O42 -> 2500 | P44: ='船 橋 市'!P42 + '船 橋 市(2)'!P42 -> 0 | R44: 合計 | S44: ='船 橋 市'!S42 + '船 橋 市(2)'!S42 -> 2950 | T44: ='船 橋 市'!T42 + '船 橋 市(2)'!T42 -> 0 | V44: 合計 | W44: ='船 橋 市'!W42 + '船 橋 市(2)'!W42 -> 7750 | X44: ='船 橋 市'!X42 + '船 橋 市(2)'!X42 -> 0
C45: ='船 橋 市'!C43 + '船 橋 市(2)'!C43 -> 0 | D45: ='船 橋 市'!D43 + '船 橋 市(2)'!D43 -> 0 | G45: ='船 橋 市'!G43 + '船 橋 市(2)'!G43 -> 0 | H45: ='船 橋 市'!H43 + '船 橋 市(2)'!H43 -> 0 | K45: ='船 橋 市'!K43 + '船 橋 市(2)'!K43 -> 0 | L45: ='船 橋 市'!L43 + '船 橋 市(2)'!L43 -> 0 | O45: ='船 橋 市'!O43 + '船 橋 市(2)'!O43 -> 0 | P45: ='船 橋 市'!P43 + '船 橋 市(2)'!P43 -> 0 | S45: ='船 橋 市'!S43 + '船 橋 市(2)'!S43 -> 0 | T45: ='船 橋 市'!T43 + '船 橋 市(2)'!T43 -> 0 | W45: ='船 橋 市'!W43 + '船 橋 市(2)'!W43 -> 0 | X45: ='船 橋 市'!X43 + '船 橋 市(2)'!X43 -> 0
F46: 合 計 | K46: =C44+C45+G44+G45+K44+K45+O44+O45+S44+S45+W44+W45 -> 77500 | N46: （ | O46: =D44+D45+H44+H45+L44+L45+P44+P45+T44+T45+X44+X45 -> 0 | Q46: ）

Sheet 八千代市
A2: スポンサー | H2: 品 名 | O2: 代理店 | V2: 担 当
A3: 折 込 日 | C3: 年 月 日 曜日 | H3: サイズ | L3: 総枚数 | R3: 備 考
B4: 0404 | C4: 八千代市 | AA4: 0404
B5: 朝日 | C5: 部数 | D5: 配布数 | F5: 毎日 | G5: 部数 | H5: 配布数 | J5: 読売 | K5: 部数 | L5: 配布数 | N5: 産経 | O5: 部数 | P5: 配布数 | R5: 東京 | S5: 部数 | T5: 配布数 | V5: 日経 | W5: 部数 | X5: 配布数
A6: 2 | B6: 八千代台 | C6: 3200 | E6: 1 | F6: 大和田 | G6: 1300 | I6: 1 | J6: 八千代大 | K6: 1700 | M6: 1 | N6: Ｍ大和田 | O6: 400 | Q6: 1 | R6: Ａ八千代 | S6: 450 | U6: 1 | V6: Ｍ大和田 | W6: 1000 | AA6: 4041002 | AB6: 4042001 | AC6: 4043001 | AD6: 4044001 | AE6: 4045001 | AF6: 4046001
B7: ・花見川 | C7: 0 | G7: 0 | J7: 和田 | K7: 0 | O7: 0 | R7: 台花見川 | S7: 0 | W7: 0 | AA7: 0 | AB7: 0 | AC7: 0 | AD7: 0 | AE7: 0 | AF7: 0
A8: 3 | B8: 勝田台村 | C8: 3700 | E8: 2 | F8: 八千代台 | G8: 300 | I8: 2 | J8: 八千代緑 | K8: 1950 | M8: 2 | N8: Ｍ八千代 | O8: 250 | Q8: 3 | R8: Ａ八千代 | S8: 150 | U8: 3 | V8: Ｍ八千代 | W8: 650 | AA8: 4041003 | AB8: 4042002 | AC8: 4043002 | AD8: 4044002 | AE8: 4045003 | AF8: 4046003
B9: 上 | C9: 0 | G9: 0 | J9: ヶ丘 | K9: 0 | N9: 台 | O9: 0 | R9: 緑が丘 | S9: 0 | V9: 緑ヶ丘 | W9: 0 | AA9: 0 | AB9: 0 | AC9: 0 | AD9: 0 | AE9: 0 | AF9: 0
A10: 4 | B10: 八千代緑 | C10: 1700 | E10: 4 | F10: 八千代緑 | G10: 350 | I10: 3 | J10: 八千代台 | K10: 1450 | M10: 4 | N10: Ｍ八千代 | O10: 250 | Q10: 4 | R10: Ａ勝田台 | S10: 400 | U10: 4 | V10: Ｍ勝田台 | W10: 600 | AA10: 4041004 | AB10: 4042004 | AC10: 4043003 | AD10: 4044004 | AE10: 4045004 | AF10: 4046004
B11: が丘 | C11: 0 | F11: ヶ丘 | G11: 0 | K11: 0 | N11: 緑ヶ丘 | O11: 0 | R11: 村上 | S11: 0 | V11: 村上 | W11: 0 | AA11: 0 | AB11: 0 | AC11: 0 | AD11: 0 | AE11: 0 | AF11: 0
A12: 6 | B12: ゆりのき | C12: 1500 | E12: 5 | F12: 勝田台村 | G12: 500 | I12: 4 | J12: 勝田台 | K12: 1500 | M12: 5 | N12: Ｍ勝田台 | O12: 350 | Q12: 6 | R12: Ａゆりの | S12: 150 | U12: 5 | V12: Ｙ八千代 | W12: 250 | AA12: 4041006 | AB12: 4042005 | AC12: 4043004 | AD12: 4044005 | AE12: 4045006 | AF12: 4046005
B13: 台 | C13: 0 | F13: 上 | G13: 0 | K13: 0 | N13: 村上 | O13: 0 | R13: き台 | S13: 0 | V13: 台 | W13: 0 | AA13: 0 | AB13: 0 | AC13: 0 | AD13: 0 | AE13: 0 | AF13: 0
A14: 0 | C14: 0 | E14: 7 | F14: Ａ八千代 | G14: 100 | I14: 6 | J14: 八千代村 | K14: 1700 | M14: 7 | N14: Ａ八千代 | O14: 50 | Q14: 8 | R14: Ｙ八千代 | S14: 50 | U14: 7 | V14: Ａ八千代 | W14: 250 | AA14: 0 | AB14: 4042007 | AC14: 4043006 | AD14: 4044007 | AE14: 4045008 | AF14: 4046007
C15: 0 | F15: 台花見川 | G15: 0 | J15: 上 | K15: 0 | N15: 台花見川 | O15: 0 | R15: 村上 | S15: 0 | V15: 緑が丘 | W15: 0 | AA15: 0 | AB15: 0 | AC15: 0 | AD15: 0 | AE15: 0 | AF15: 0
A16: 0 | C16: 0 | E16: 8 | F16: Ｙ八千代 | G16: 50 | I16: 7 | J16: ゆりのき | K16: 3500 | M16: 8 | N16: Ｙ八千代 | O16: 50 | Q16: 0 | S16: 0 | U16: 8 | V16: Ｙ八千代 | W16: 100 | AA16: 0 | AB16: 4042008 | AC16: 4043007 | AD16: 4044008 | AE16: 0 | AF16: 4046008
C17: 0 | F17: 村上 | G17: 0 | J17: 高津 | K17: 0 | N17: 村上 | O17: 0 | S17: 0 | V17: 村上 | W17: 0 | AA17: 0 | AB17: 0 | AC17: 0 | AD17: 0 | AE17: 0 | AF17: 0
B42: 小計 | C42: =C6+C8+C10+C12+C14+C16+C18+C20+C22+C24+C26+C28+C30+C32+C34+C36+C38+C40 -> 10100 | D42: =D6+D8+D10+D12+D14+D16+D18+D20+D22+D24+D26+D28+D30+D32+D34+D36+D38+D40 -> 0 | F42: 小計 | G42: =G6+G8+G10+G12+G14+G16+G18+G20+G22+G24+G26+G28+G30+G32+G34+G36+G38+G40 -> 2600 | H42: =H6+H8+H10+H12+H14+H16+H18+H20+H22+H24+H26+H28+H30+H32+H34+H36+H38+H40 -> 0 | J42: 小計 | K42: =K6+K8+K10+K12+K14+K16+K18+K20+K22+K24+K26+K28+K30+K32+K34+K36+K38+K40 -> 11800 | L42: =L6+L8+L10+L12+L14+L16+L18+L20+L22+L24+L26+L28+L30+L32+L34+L36+L38+L40 -> 0 | N42: 小計 | O42: =O6+O8+O10+O12+O14+O16+O18+O20+O22+O24+O26+O28+O30+O32+O34+O36+O38+O40 -> 1350 | P42: =P6+P8+P10+P12+P14+P16+P18+P20+P22+P24+P26+P28+P30+P32+P34+P36+P38+P40 -> 0 | R42: 小計 | S42: =S6+S8+S10+S12+S14+S16+S18+S20+S22+S24+S26+S28+S30+S32+S34+S36+S38+S40 -> 1200 | T42: =T6+T8+T10+T12+T14+T16+T18+T20+T22+T24+T26+T28+T30+T32+T34+T36+T38+T40 -> 0 | V42: 小計 | W42: =W6+W8+W10+W12+W14+W16+W18+W20+W22+W24+W26+W28+W30+W32+W34+W36+W38+W40 -> 2850 | X42: =X6+X8+X10+X12+X14+X16+X18+X20+X22+X24+X26+X28+X30+X32+X34+X36+X38+X40 -> 0
C43: =C7+C9+C11+C13+C15+C17+C19+C21+C23+C25+C27+C29+C31+C33+C35+C37+C39+C41 -> 0 | D43: =D7+D9+D11+D13+D15+D17+D19+D21+D23+D25+D27+D29+D31+D33+D35+D37+D39+D41 -> 0 | G43: =G7+G9+G11+G13+G15+G17+G19+G21+G23+G25+G27+G29+G31+G33+G35+G37+G39+G41 -> 0 | H43: =H7+H9+H11+H13+H15+H17+H19+H21+H23+H25+H27+H29+H31+H33+H35+H37+H39+H41 -> 0 | K43: =K7+K9+K11+K13+K15+K17+K19+K21+K23+K25+K27+K29+K31+K33+K35+K37+K39+K41 -> 0 | L43: =L7+L9+L11+L13+L15+L17+L19+L21+L23+L25+L27+L29+L31+L33+L35+L37+L39+L41 -> 0 | O43: =O7+O9+O11+O13+O15+O17+O19+O21+O23+O25+O27+O29+O31+O33+O35+O37+O39+O41 -> 0 | P43: =P7+P9+P11+P13+P15+P17+P19+P21+P23+P25+P27+P29+P31+P33+P35+P37+P39+P41 -> 0 | S43: =S7+S9+S11+S13+S15+S17+S19+S21+S23+S25+S27+S29+S31+S33+S35+S37+S39+S41 -> 0 | T43: =T7+T9+T11+T13+T15+T17+T19+T21+T23+T25+T27+T29+T31+T33+T35+T37+T39+T41 -> 0 | W43: =W7+W9+W11+W13+W15+W17+W19+W21+W23+W25+W27+W29+W31+W33+W35+W37+W39+W41 -> 0 | X43: =X7+X9+X11+X13+X15+X17+X19+X21+X23+X25+X27+X29+X31+X33+X35+X37+X39+X41 -> 0
F44: 合 計 | K44: =C42+C43+G42+G43+K42+K43+O42+O43+S42+S43+W42+W43 -> 29900 | N44: （ | O44: =D42+D43+H42+H43+L42+L43+P42+P43+T42+T43+X42+X43 -> 0 | Q44: ）

Sheet 習志野市
A2: スポンサー | H2: 品 名 | O2: 代理店 | V2: 担 当
A3: 折 込 日 | C3: 年 月 日 曜日 | H3: サイズ | L3: 総枚数 | R3: 備 考
B4: 0405 | C4: 習志野市 | AA4: 0405
B5: 朝日 | C5: 部数 | D5: 配布数 | F5: 毎日 | G5: 部数 | H5: 配布数 | J5: 読売 | K5: 部数 | L5: 配布数 | N5: 産経 | O5: 部数 | P5: 配布数 | R5: 東京 | S5: 部数 | T5: 配布数 | V5: 日経 | W5: 部数 | X5: 配布数
A6: 1 | B6: 習志野 | C6: 2300 | E6: 1 | F6: 津田沼 | G6: 550 | I6: 1 | J6: 津田沼南 | K6: 3550 | M6: 1 | N6: Ａ習志野 | O6: 250 | Q6: 1 | R6: Ａ習志野 | S6: 200 | U6: 1 | V6: Ａ習志野 | W6: 500 | AA6: 4051001 | AB6: 4052001 | AC6: 4053001 | AD6: 4054001 | AE6: 4055001 | AF6: 4056001
C7: 0 | G7: 0 | J7: 部 | K7: 0 | O7: 0 | S7: 0 | W7: 0 | AA7: 0 | AB7: 0 | AC7: 0 | AD7: 0 | AE7: 0 | AF7: 0
A8: 4 | B8: 津田沼南 | C8: 2750 | E8: 3 | F8: 大久保東 | G8: 450 | I8: 3 | J8: 実籾 | K8: 3250 | M8: 4 | N8: Ｍ津田沼 | O8: 300 | Q8: 2 | R8: Ａ津田沼 | S8: 300 | U8: 3 | V8: Ａ津田沼 | W8: 1050 | AA8: 4051004 | AB8: 4052003 | AC8: 4053003 | AD8: 4054004 | AE8: 4055002 | AF8: 4056003
B9: 部 | C9: 0 | F9: 部 | G9: 0 | K9: 0 | O9: 0 | R9: 東部 | S9: 0 | V9: 南部 | W9: 0 | AA9: 0 | AB9: 0 | AC9: 0 | AD9: 0 | AE9: 0 | AF9: 0
A10: 5 | B10: 津田沼東 | C10: 2900 | E10: 4 | F10: 大久保西 | G10: 500 | I10: 4 | J10: 新習志野 | K10: 1800 | M10: 5 | N10: Ａ津田沼 | O10: 200 | Q10: 5 | R10: Ａ津田沼 | S10: 250 | U10: 5 | V10: Ａ津田沼 | W10: 950 | AA10: 4051005 | AB10: 4052004 | AC10: 4053004 | AD10: 4054005 | AE10: 4055005 | AF10: 4056005
B11: 部 | C11: 0 | F11: 部 | G11: 0 | J11: （袖ケ浦 | K11: 0 | N11: 南部 | O11: 0 | R11: 南部 | S11: 0 | V11: 東部 | W11: 0 | AA11: 0 | AB11: 0 | AC11: 0 | AD11: 0 | AE11: 0 | AF11: 0
A12: 0 | C12: 0 | E12: 5 | F12: Ａ習志野 | G12: 250 | I12: 0 | K12: 0 | M12: 6 | N12: Ｍ大久保 | O12: 150 | Q12: 0 | S12: 0 | U12: 6 | V12: Ｙ津田沼 | W12: 0 | AA12: 0 | AB12: 4052005 | AC12: 0 | AD12: 4054006 | AE12: 0 | AF12: 4056006
C13: 0 | G13: 0 | K13: 0 | N13: 東部 | O13: 0 | S13: 0 | V13: 南部 | W13: 0 | AA13: 0 | AB13: 0 | AC13: 0 | AD13: 0 | AE13: 0 | AF13: 0
A14: 0 | C14: 0 | E14: 0 | G14: 0 | I14: 0 | K14: 0 | M14: 7 | N14: Ｍ大久保 | O14: 200 | Q14: 0 | S14: 0 | U14: 0 | W14: 0 | AA14: 0 | AB14: 0 | AC14: 0 | AD14: 4054007 | AE14: 0 | AF14: 0
C15: 0 | G15: 0 | K15: 0 | N15: 西部 | O15: 0 | S15: 0 | W15: 0 | AA15: 0 | AB15: 0 | AC15: 0 | AD15: 0 | AE15: 0 | AF15: 0
A16: 0 | C16: 0 | E16: 0 | G16: 0 | I16: 0 | K16: 0 | M16: 9 | N16: Ａ津田沼 | O16: 50 | Q16: 0 | S16: 0 | U16: 0 | W16: 0 | AA16: 0 | AB16: 0 | AC16: 0 | AD16: 4054009 | AE16: 0 | AF16: 0
C17: 0 | G17: 0 | K17: 0 | N17: 東部 | O17: 0 | S17: 0 | W17: 0 | AA17: 0 | AB17: 0 | AC17: 0 | AD17: 0 | AE17: 0 | AF17: 0
B42: 小計 | C42: =C6+C8+C10+C12+C14+C16+C18+C20+C22+C24+C26+C28+C30+C32+C34+C36+C38+C40 -> 7950 | D42: =D6+D8+D10+D12+D14+D16+D18+D20+D22+D24+D26+D28+D30+D32+D34+D36+D38+D40 -> 0 | F42: 小計 | G42: =G6+G8+G10+G12+G14+G16+G18+G20+G22+G24+G26+G28+G30+G32+G34+G36+G38+G40 -> 1750 | H42: =H6+H8+H10+H12+H14+H16+H18+H20+H22+H24+H26+H28+H30+H32+H34+H36+H38+H40 -> 0 | J42: 小計 | K42: =K6+K8+K10+K12+K14+K16+K18+K20+K22+K24+K26+K28+K30+K32+K34+K36+K38+K40 -> 8600 | L42: =L6+L8+L10+L12+L14+L16+L18+L20+L22+L24+L26+L28+L30+L32+L34+L36+L38+L40 -> 0 | N42: 小計 | O42: =O6+O8+O10+O12+O14+O16+O18+O20+O22+O24+O26+O28+O30+O32+O34+O36+O38+O40 -> 1150 | P42: =P6+P8+P10+P12+P14+P16+P18+P20+P22+P24+P26+P28+P30+P32+P34+P36+P38+P40 -> 0 | R42: 小計 | S42: =S6+S8+S10+S12+S14+S16+S18+S20+S22+S24+S26+S28+S30+S32+S34+S36+S38+S40 -> 750 | T42: =T6+T8+T10+T12+T14+T16+T18+T20+T22+T24+T26+T28+T30+T32+T34+T36+T38+T40 -> 0 | V42: 小計 | W42: =W6+W8+W10+W12+W14+W16+W18+W20+W22+W24+W26+W28+W30+W32+W34+W36+W38+W40 -> 2500 | X42: =X6+X8+X10+X12+X14+X16+X18+X20+X22+X24+X26+X28+X30+X32+X34+X36+X38+X40 -> 0
C43: =C7+C9+C11+C13+C15+C17+C19+C21+C23+C25+C27+C29+C31+C33+C35+C37+C39+C41 -> 0 | D43: =D7+D9+D11+D13+D15+D17+D19+D21+D23+D25+D27+D29+D31+D33+D35+D37+D39+D41 -> 0 | G43: =G7+G9+G11+G13+G15+G17+G19+G21+G23+G25+G27+G29+G31+G33+G35+G37+G39+G41 -> 0 | H43: =H7+H9+H11+H13+H15+H17+H19+H21+H23+H25+H27+H29+H31+H33+H35+H37+H39+H41 -> 0 | K43: =K7+K9+K11+K13+K15+K17+K19+K21+K23+K25+K27+K29+K31+K33+K35+K37+K39+K41 -> 0 | L43: =L7+L9+L11+L13+L15+L17+L19+L21+L23+L25+L27+L29+L31+L33+L35+L37+L39+L41 -> 0 | O43: =O7+O9+O11+O13+O15+O17+O19+O21+O23+O25+O27+O29+O31+O33+O35+O37+O39+O41 -> 0 | P43: =P7+P9+P11+P13+P15+P17+P19+P21+P23+P25+P27+P29+P31+P33+P35+P37+P39+P41 -> 0 | S43: =S7+S9+S11+S13+S15+S17+S19+S21+S23+S25+S27+S29+S31+S33+S35+S37+S39+S41 -> 0 | T43: =T7+T9+T11+T13+T15+T17+T19+T21+T23+T25+T27+T29+T31+T33+T35+T37+T39+T41 -> 0 | W43: =W7+W9+W11+W13+W15+W17+W19+W21+W23+W25+W27+W29+W31+W33+W35+W37+W39+W41 -> 0 | X43: =X7+X9+X11+X13+X15+X17+X19+X21+X23+X25+X27+X29+X31+X33+X35+X37+X39+X41 -> 0
F44: 合 計 | K44: =C42+C43+G42+G43+K42+K43+O42+O43+S42+S43+W42+W43 -> 22700 | N44: （ | O44: =D42+D43+H42+H43+L42+L43+P42+P43+T42+T43+X42+X43 -> 0 | Q44: ）
A45: Ｍ南津田沼⇒習志野南部に名変

Sheet 千葉市・花見川区
A2: スポンサー | H2: 品 名 | O2: 代理店 | V2: 担 当
A3: 折 込 日 | C3: 年 月 日 曜日 | H3: サイズ | L3: 総枚数 | R3: 備 考
B4: 0406 | C4: 千葉市・花見川区 | AA4: 0406
B5: 朝日 | C5: 部数 | D5: 配布数 | F5: 毎日 | G5: 部数 | H5: 配布数 | J5: 読売 | K5: 部数 | L5: 配布数 | N5: 産経 | O5: 部数 | P5: 配布数 | R5: 東京 | S5: 部数 | T5: 配布数 | V5: 日経 | W5: 部数 | X5: 配布数
A6: 3 | B6: 検見川北 | C6: 1750 | E6: 1 | F6: 幕張新都 | G6: 150 | I6: 1 | J6: 幕張 | K6: 3900 | M6: 1 | N6: Ｍ幕張北 | O6: 50 | Q6: 3 | R6: Ａ検見川 | S6: 200 | U6: 3 | V6: Ａ検見川 | W6: 150 | AA6: 4061003 | AB6: 4062001 | AC6: 4063001 | AD6: 4064001 | AE6: 4065003 | AF6: 4066003
B7: 部 | C7: 0 | F7: 心 | G7: 0 | K7: 0 | N7: 部 | O7: 0 | R7: 東部 | S7: 0 | V7: 東部 | W7: 0 | AA7: 0 | AB7: 0 | AC7: 0 | AD7: 0 | AE7: 0 | AF7: 0
A8: 6 | B8: 検見川東 | C8: 1350 | E8: 2 | F8: 幕張北部 | G8: 250 | I8: 3 | J8: 検見川 | K8: 3900 | M8: 3 | N8: Ｙ幕張 | O8: 250 | Q8: 5 | R8: Ａ検見川 | S8: 150 | U8: 4 | V8: Ａ検見川 | W8: 250 | AA8: 4061006 | AB8: 4062002 | AC8: 4063003 | AD8: 4064003 | AE8: 4065005 | AF8: 4066004
B9: 部 | C9: 0 | G9: 0 | K9: 0 | O9: 0 | R9: 北部 | S9: 0 | V9: 北部 | W9: 0 | AA9: 0 | AB9: 0 | AC9: 0 | AD9: 0 | AE9: 0 | AF9: 0
A10: 0 | C10: 0 | E10: 5 | F10: Ａ検見川 | G10: 50 | I10: 6 | J10: 花見川 | K10: 5750 | M10: 5 | N10: Ｙ花見川 | O10: 150 | Q10: 0 | S10: 0 | U10: 7 | V10: Ｙ検見川 | W10: 450 | AA10: 0 | AB10: 4062005 | AC10: 4063006 | AD10: 4064005 | AE10: 0 | AF10: 4066007
C11: 0 | F11: 北部 | G11: 0 | K11: 0 | O11: 0 | S11: 0 | W11: 0 | AA11: 0 | AB11: 0 | AC11: 0 | AD11: 0 | AE11: 0 | AF11: 0
A12: 0 | C12: 0 | E12: 0 | G12: 0 | I12: 7 | J12: 幕張本郷 | K12: 2550 | M12: 6 | N12: Ｙ幕張第 | O12: 50 | Q12: 0 | S12: 0 | U12: 10 | V12: Ｙ花見川 | W12: 300 | AA12: 0 | AB12: 0 | AC12: 4063007 | AD12: 4064006 | AE12: 0 | AF12: 4066010
C13: 0 | G13: 0 | K13: 0 | N13: 二 | O13: 0 | S13: 0 | W13: 0 | AA13: 0 | AB13: 0 | AC13: 0 | AD13: 0 | AE13: 0 | AF13: 0
A14: 0 | C14: 0 | E14: 0 | G14: 0 | I14: 8 | J14: 幕張第二 | K14: 1400 | M14: 8 | N14: Ａ検見川 | O14: 50 | Q14: 0 | S14: 0 | U14: 0 | W14: 0 | AA14: 0 | AB14: 0 | AC14: 4063008 | AD14: 4064008 | AE14: 0 | AF14: 0
C15: 0 | G15: 0 | K15: 0 | N15: 北部 | O15: 0 | S15: 0 | W15: 0 | AA15: 0 | AB15: 0 | AC15: 0 | AD15: 0 | AE15: 0 | AF15: 0
A16: 0 | C16: 0 | E16: 0 | G16: 0 | I16: 0 | K16: 0 | M16: 10 | N16: Ｙ検見川 | O16: 0 | Q16: 0 | S16: 0 | U16: 0 | W16: 0 | AA16: 0 | AB16: 0 | AC16: 0 | AD16: 4064010 | AE16: 0 | AF16: 0
C17: 0 | G17: 0 | K17: 0 | O17: 0 | S17: 0 | W17: 0 | AA17: 0 | AB17: 0 | AC17: 0 | AD17: 0 | AE17: 0 | AF17: 0
B42: 小計 | C42: =C6+C8+C10+C12+C14+C16+C18+C20+C22+C24+C26+C28+C30+C32+C34+C36+C38+C40 -> 3100 | D42: =D6+D8+D10+D12+D14+D16+D18+D20+D22+D24+D26+D28+D30+D32+D34+D36+D38+D40 -> 0 | F42: 小計 | G42: =G6+G8+G10+G12+G14+G16+G18+G20+G22+G24+G26+G28+G30+G32+G34+G36+G38+G40 -> 450 | H42: =H6+H8+H10+H12+H14+H16+H18+H20+H22+H24+H26+H28+H30+H32+H34+H36+H38+H40 -> 0 | J42: 小計 | K42: =K6+K8+K10+K12+K14+K16+K18+K20+K22+K24+K26+K28+K30+K32+K34+K36+K38+K40 -> 17500 | L42: =L6+L8+L10+L12+L14+L16+L18+L20+L22+L24+L26+L28+L30+L32+L34+L36+L38+L40 -> 0 | N42: 小計 | O42: =O6+O8+O10+O12+O14+O16+O18+O20+O22+O24+O26+O28+O30+O32+O34+O36+O38+O40 -> 550 | P42: =P6+P8+P10+P12+P14+P16+P18+P20+P22+P24+P26+P28+P30+P32+P34+P36+P38+P40 -> 0 | R42: 小計 | S42: =S6+S8+S10+S12+S14+S16+S18+S20+S22+S24+S26+S28+S30+S32+S34+S36+S38+S40 -> 350 | T42: =T6+T8+T10+T12+T14+T16+T18+T20+T22+T24+T26+T28+T30+T32+T34+T36+T38+T40 -> 0 | V42: 小計 | W42: =W6+W8+W10+W12+W14+W16+W18+W20+W22+W24+W26+W28+W30+W32+W34+W36+W38+W40 -> 1150 | X42: =X6+X8+X10+X12+X14+X16+X18+X20+X22+X24+X26+X28+X30+X32+X34+X36+X38+X40 -> 0
C43: =C7+C9+C11+C13+C15+C17+C19+C21+C23+C25+C27+C29+C31+C33+C35+C37+C39+C41 -> 0 | D43: =D7+D9+D11+D13+D15+D17+D19+D21+D23+D25+D27+D29+D31+D33+D35+D37+D39+D41 -> 0 | G43: =G7+G9+G11+G13+G15+G17+G19+G21+G23+G25+G27+G29+G31+G33+G35+G37+G39+G41 -> 0 | H43: =H7+H9+H11+H13+H15+H17+H19+H21+H23+H25+H27+H29+H31+H33+H35+H37+H39+H41 -> 0 | K43: =K7+K9+K11+K13+K15+K17+K19+K21+K23+K25+K27+K29+K31+K33+K35+K37+K39+K41 -> 0 | L43: =L7+L9+L11+L13+L15+L17+L19+L21+L23+L25+L27+L29+L31+L33+L35+L37+L39+L41 -> 0 | O43: =O7+O9+O11+O13+O15+O17+O19+O21+O23+O25+O27+O29+O31+O33+O35+O37+O39+O41 -> 0 | P43: =P7+P9+P11+P13+P15+P17+P19+P21+P23+P25+P27+P29+P31+P33+P35+P37+P39+P41 -> 0 | S43: =S7+S9+S11+S13+S15+S17+S19+S21+S23+S25+S27+S29+S31+S33+S35+S37+S39+S41 -> 0 | T43: =T7+T9+T11+T13+T15+T17+T19+T21+T23+T25+T27+T29+T31+T33+T35+T37+T39+T41 -> 0 | W43: =W7+W9+W11+W13+W15+W17+W19+W21+W23+W25+W27+W29+W31+W33+W35+W37+W39+W41 -> 0 | X43: =X7+X9+X11+X13+X15+X17+X19+X21+X23+X25+X27+X29+X31+X33+X35+X37+X39+X41 -> 0
F44: 合 計 | K44: =C42+C43+G42+G43+K42+K43+O42+O43+S42+S43+W42+W43 -> 23100 | N44: （ | O44: =D42+D43+H42+H43+L42+L43+P42+P43+T42+T43+X42+X43 -> 0 | Q44: ）
A45: Ａこてはし台廃店⇒花見川引継

Sheet 千葉市・美浜区
A2: スポンサー | H2: 品 名 | O2: 代理店 | V2: 担 当
A3: 折 込 日 | C3: 年 月 日 曜日 | H3: サイズ | L3: 総枚数 | R3: 備 考
B4: 0407 | C4: 千葉市・美浜区 | AA4: 0407
B5: 朝日 | C5: 部数 | D5: 配布数 | F5: 毎日 | G5: 部数 | H5: 配布数 | J5: 読売 | K5: 部数 | L5: 配布数 | N5: 産経 | O5: 部数 | P5: 配布数 | R5: 東京 | S5: 部数 | T5: 配布数 | V5: 日経 | W5: 部数 | X5: 配布数
A6: 1 | B6: 検見川Ｎ | C6: 2300 | E6: 1 | F6: 海浜ＮＴ | G6: 950 | I6: 1 | J6: 検見川Ｎ | K6: 2750 | M6: 1 | N6: Ｍ海浜Ｎ | O6: 600 | Q6: 1 | R6: Ａ検見川 | S6: 250 | U6: 3 | V6: Ａ幕張 | W6: 1000 | AA6: 4071001 | AB6: 4072001 | AC6: 4073001 | AD6: 4074001 | AE6: 4075001 | AF6: 4076003
B7: Ｔ | C7: 0 | G7: 0 | J7: Ｔ | K7: 0 | N7: Ｔ | O7: 0 | R7: ＮＴ | S7: 0 | W7: 0 | AA7: 0 | AB7: 0 | AC7: 0 | AD7: 0 | AE7: 0 | AF7: 0
A8: 4 | B8: 幕張 | C8: 3500 | E8: 2 | F8: 海浜高洲 | G8: 200 | I8: 2 | J8: 稲毛ベイ | K8: 5200 | M8: 2 | N8: Ｍ海浜高 | O8: 200 | Q8: 4 | R8: Ａ幕張 | S8: 200 | U8: 4 | V8: Ａ幕張新 | W8: 1050 | AA8: 4071004 | AB8: 4072002 | AC8: 4073002 | AD8: 4074002 | AE8: 4075004 | AF8: 4076004
C9: 0 | G9: 0 | J9: タウン | K9: 0 | N9: 洲 | O9: 0 | S9: 0 | V9: 都心 | W9: 0 | AA9: 0 | AB9: 0 | AC9: 0 | AD9: 0 | AE9: 0 | AF9: 0
A10: 5 | B10: 幕張新都 | C10: 1150 | E10: 3 | F10: 幸町団地 | G10: 100 | I10: 3 | J10: 幸町 | K10: 1350 | M10: 3 | N10: Ｙ幸町 | O10: 100 | Q10: 5 | R10: Ａ幕張新 | S10: 100 | U10: 5 | V10: Ａ検見川 | W10: 350 | AA10: 4071005 | AB10: 4072003 | AC10: 4073003 | AD10: 4074003 | AE10: 4075005 | AF10: 4076005
B11: 心 | C11: 0 | G11: 0 | K11: 0 | O11: 0 | R11: 都心 | S11: 0 | V11: ＮＴ | W11: 0 | AA11: 0 | AB11: 0 | AC11: 0 | AD11: 0 | AE11: 0 | AF11: 0
A12: 6 | B12: 稲毛西部 | C12: 2100 | E12: 4 | F12: Ａ幕張 | G12: 250 | I12: 0 | K12: 0 | M12: 4 | N12: Ｙ稲毛ベ | O12: 0 | Q12: 6 | R12: Ａ稲毛西 | S12: 450 | U12: 6 | V12: Ｙ検見川 | W12: 400 | AA12: 4071006 | AB12: 4072004 | AC12: 0 | AD12: 4074004 | AE12: 4075006 | AF12: 4076006
C13: 0 | G13: 0 | K13: 0 | N13: イタウン | O13: 0 | R13: 部 | S13: 0 | V13: ＮＴ | W13: 0 | AA13: 0 | AB13: 0 | AC13: 0 | AD13: 0 | AE13: 0 | AF13: 0
A14: 7 | B14: 千葉西 | C14: 600 | E14: 0 | G14: 0 | I14: 0 | K14: 0 | M14: 0 | O14: 0 | Q14: 7 | R14: Ａ千葉西 | S14: 200 | U14: 7 | V14: Ｙ稲毛ベ | W14: 350 | AA14: 4071007 | AB14: 0 | AC14: 0 | AD14: 0 | AE14: 4075007 | AF14: 4076007
C15: 0 | G15: 0 | K15: 0 | O15: 0 | S15: 0 | V15: イタウン | W15: 0 | AA15: 0 | AB15: 0 | AC15: 0 | AD15: 0 | AE15: 0 | AF15: 0
A16: 0 | C16: 0 | E16: 0 | G16: 0 | I16: 0 | K16: 0 | M16: 0 | O16: 0 | Q16: 0 | S16: 0 | U16: 8 | V16: Ａ稲毛西 | W16: 500 | AA16: 0 | AB16: 0 | AC16: 0 | AD16: 0 | AE16: 0 | AF16: 4076008
C17: 0 | G17: 0 | K17: 0 | O17: 0 | S17: 0 | V17: 部 | W17: 0 | AA17: 0 | AB17: 0 | AC17: 0 | AD17: 0 | AE17: 0 | AF17: 0
A18: 0 | C18: 0 | E18: 0 | G18: 0 | I18: 0 | K18: 0 | M18: 0 | O18: 0 | Q18: 0 | S18: 0 | U18: 9 | V18: Ａ千葉西 | W18: 250 | AA18: 0 | AB18: 0 | AC18: 0 | AD18: 0 | AE18: 0 | AF18: 4076009
C19: 0 | G19: 0 | K19: 0 | O19: 0 | S19: 0 | W19: 0 | AA19: 0 | AB19: 0 | AC19: 0 | AD19: 0 | AE19: 0 | AF19: 0
B42: 小計 | C42: =C6+C8+C10+C12+C14+C16+C18+C20+C22+C24+C26+C28+C30+C32+C34+C36+C38+C40 -> 9650 | D42: =D6+D8+D10+D12+D14+D16+D18+D20+D22+D24+D26+D28+D30+D32+D34+D36+D38+D40 -> 0 | F42: 小計 | G42: =G6+G8+G10+G12+G14+G16+G18+G20+G22+G24+G26+G28+G30+G32+G34+G36+G38+G40 -> 1500 | H42: =H6+H8+H10+H12+H14+H16+H18+H20+H22+H24+H26+H28+H30+H32+H34+H36+H38+H40 -> 0 | J42: 小計 | K42: =K6+K8+K10+K12+K14+K16+K18+K20+K22+K24+K26+K28+K30+K32+K34+K36+K38+K40 -> 9300 | L42: =L6+L8+L10+L12+L14+L16+L18+L20+L22+L24+L26+L28+L30+L32+L34+L36+L38+L40 -> 0 | N42: 小計 | O42: =O6+O8+O10+O12+O14+O16+O18+O20+O22+O24+O26+O28+O30+O32+O34+O36+O38+O40 -> 900 | P42: =P6+P8+P10+P12+P14+P16+P18+P20+P22+P24+P26+P28+P30+P32+P34+P36+P38+P40 -> 0 | R42: 小計 | S42: =S6+S8+S10+S12+S14+S16+S18+S20+S22+S24+S26+S28+S30+S32+S34+S36+S38+S40 -> 1200 | T42: =T6+T8+T10+T12+T14+T16+T18+T20+T22+T24+T26+T28+T30+T32+T34+T36+T38+T40 -> 0 | V42: 小計 | W42: =W6+W8+W10+W12+W14+W16+W18+W20+W22+W24+W26+W28+W30+W32+W34+W36+W38+W40 -> 3900 | X42: =X6+X8+X10+X12+X14+X16+X18+X20+X22+X24+X26+X28+X30+X32+X34+X36+X38+X40 -> 0
C43: =C7+C9+C11+C13+C15+C17+C19+C21+C23+C25+C27+C29+C31+C33+C35+C37+C39+C41 -> 0 | D43: =D7+D9+D11+D13+D15+D17+D19+D21+D23+D25+D27+D29+D31+D33+D35+D37+D39+D41 -> 0 | G43: =G7+G9+G11+G13+G15+G17+G19+G21+G23+G25+G27+G29+G31+G33+G35+G37+G39+G41 -> 0 | H43: =H7+H9+H11+H13+H15+H17+H19+H21+H23+H25+H27+H29+H31+H33+H35+H37+H39+H41 -> 0 | K43: =K7+K9+K11+K13+K15+K17+K19+K21+K23+K25+K27+K29+K31+K33+K35+K37+K39+K41 -> 0 | L43: =L7+L9+L11+L13+L15+L17+L19+L21+L23+L25+L27+L29+L31+L33+L35+L37+L39+L41 -> 0 | O43: =O7+O9+O11+O13+O15+O17+O19+O21+O23+O25+O27+O29+O31+O33+O35+O37+O39+O41 -> 0 | P43: =P7+P9+P11+P13+P15+P17+P19+P21+P23+P25+P27+P29+P31+P33+P35+P37+P39+P41 -> 0 | S43: =S7+S9+S11+S13+S15+S17+S19+S21+S23+S25+S27+S29+S31+S33+S35+S37+S39+S41 -> 0 | T43: =T7+T9+T11+T13+T15+T17+T19+T21+T23+T25+T27+T29+T31+T33+T35+T37+T39+T41 -> 0 | W43: =W7+W9+W11+W13+W15+W17+W19+W21+W23+W25+W27+W29+W31+W33+W35+W37+W39+W41 -> 0 | X43: =X7+X9+X11+X13+X15+X17+X19+X21+X23+X25+X27+X29+X31+X33+X35+X37+X39+X41 -> 0
F44: 合 計 | K44: =C42+C43+G42+G43+K42+K43+O42+O43+S42+S43+W42+W43 -> 26450 | N44: （ | O44: =D42+D43+H42+H43+L42+L43+P42+P43+T42+T43+X42+X43 -> 0 | Q44: ）

Sheet 千葉市・稲毛区
A2: スポンサー | H2: 品 名 | O2: 代理店 | V2: 担 当
A3: 折 込 日 | C3: 年 月 日 曜日 | H3: サイズ | L3: 総枚数 | R3: 備 考
B4: 0408 | C4: 千葉市・稲毛区 | AA4: 0408
B5: 朝日 | C5: 部数 | D5: 配布数 | F5: 毎日 | G5: 部数 | H5: 配布数 | J5: 読売 | K5: 部数 | L5: 配布数 | N5: 産経 | O5: 部数 | P5: 配布数 | R5: 東京 | S5: 部数 | T5: 配布数 | V5: 日経 | W5: 部数 | X5: 配布数
A6: 1 | B6: 稲毛 | C6: 2100 | E6: 1 | F6: 稲毛 | G6: 550 | I6: 2 | J6: 稲毛東部 | K6: 1650 | M6: 1 | N6: Ｍ稲毛 | O6: 300 | Q6: 1 | R6: Ａ園生 | S6: 150 | U6: 1 | V6: Ａ稲毛 | W6: 850 | AA6: 4081001 | AB6: 4082001 | AC6: 4083002 | AD6: 4084001 | AE6: 4085001 | AF6: 4086001
C7: 0 | G7: 0 | K7: 0 | O7: 0 | S7: 0 | W7: 0 | AA7: 0 | AB7: 0 | AC7: 0 | AD7: 0 | AE7: 0 | AF7: 0
A8: 2 | B8: 園生 | C8: 1850 | E8: 4 | F8: Ａ園生 | G8: 200 | I8: 3 | J8: 西千葉 | K8: 1350 | M8: 2 | N8: Ａ園生 | O8: 200 | Q8: 3 | R8: Ａ作草部 | S8: 250 | U8: 2 | V8: Ａ園生 | W8: 450 | AA8: 4081002 | AB8: 4082004 | AC8: 4083003 | AD8: 4084002 | AE8: 4085003 | AF8: 4086002
C9: 0 | G9: 0 | K9: 0 | O9: 0 | S9: 0 | W9: 0 | AA9: 0 | AB9: 0 | AC9: 0 | AD9: 0 | AE9: 0 | AF9: 0
A10: 4 | B10: 作草部 | C10: 2400 | E10: 5 | F10: Ａ作草部 | G10: 350 | I10: 5 | J10: 千草台 | K10: 2600 | M10: 3 | N10: Ａ千葉北 | O10: 150 | Q10: 4 | R10: Ａ千葉北 | S10: 100 | U10: 4 | V10: Ａ作草部 | W10: 1050 | AA10: 4081004 | AB10: 4082005 | AC10: 4083005 | AD10: 4084003 | AE10: 4085004 | AF10: 4086004
C11: 0 | G11: 0 | K11: 0 | O11: 0 | S11: 0 | W11: 0 | AA11: 0 | AB11: 0 | AC11: 0 | AD11: 0 | AE11: 0 | AF11: 0
A12: 5 | B12: 千葉北 | C12: 1100 | E12: 6 | F12: Ａ千葉北 | G12: 200 | I12: 6 | J12: 園生宮野 | K12: 3150 | M12: 0 | O12: 0 | Q12: 5 | R12: Ａ稲毛 | S12: 150 | U12: 5 | V12: Ａ千葉北 | W12: 150 | AA12: 4081005 | AB12: 4082006 | AC12: 4083006 | AD12: 0 | AE12: 4085005 | AF12: 4086005
C13: 0 | G13: 0 | J13: 木 | K13: 0 | O13: 0 | S13: 0 | W13: 0 | AA13: 0 | AB13: 0 | AC13: 0 | AD13: 0 | AE13: 0 | AF13: 0
A14: 0 | C14: 0 | E14: 0 | G14: 0 | I14: 9 | J14: 山王 | K14: 2350 | M14: 0 | O14: 0 | Q14: 6 | R14: Ｍ稲毛 | S14: 50 | U14: 6 | V14: Ｙ千草台 | W14: 150 | AA14: 0 | AB14: 0 | AC14: 4083009 | AD14: 0 | AE14: 4085006 | AF14: 4086006
C15: 0 | G15: 0 | K15: 0 | O15: 0 | S15: 0 | W15: 0 | AA15: 0 | AB15: 0 | AC15: 0 | AD15: 0 | AE15: 0 | AF15: 0
A16: 0 | C16: 0 | E16: 0 | G16: 0 | I16: 0 | K16: 0 | M16: 0 | O16: 0 | Q16: 0 | S16: 0 | U16: 8 | V16: Ｙ山王 | W16: 250 | AA16: 0 | AB16: 0 | AC16: 0 | AD16: 0 | AE16: 0 | AF16: 4086008
C17: 0 | G17: 0 | K17: 0 | O17: 0 | S17: 0 | W17: 0 | AA17: 0 | AB17: 0 | AC17: 0 | AD17: 0 | AE17: 0 | AF17: 0
A18: 0 | C18: 0 | E18: 0 | G18: 0 | I18: 0 | K18: 0 | M18: 0 | O18: 0 | Q18: 0 | S18: 0 | U18: 9 | V18: Ｙ園生宮 | W18: 50 | AA18: 0 | AB18: 0 | AC18: 0 | AD18: 0 | AE18: 0 | AF18: 4086009
C19: 0 | G19: 0 | K19: 0 | O19: 0 | S19: 0 | V19: 野木 | W19: 0 | AA19: 0 | AB19: 0 | AC19: 0 | AD19: 0 | AE19: 0 | AF19: 0
B42: 小計 | C42: =C6+C8+C10+C12+C14+C16+C18+C20+C22+C24+C26+C28+C30+C32+C34+C36+C38+C40 -> 7450 | D42: =D6+D8+D10+D12+D14+D16+D18+D20+D22+D24+D26+D28+D30+D32+D34+D36+D38+D40 -> 0 | F42: 小計 | G42: =G6+G8+G10+G12+G14+G16+G18+G20+G22+G24+G26+G28+G30+G32+G34+G36+G38+G40 -> 1300 | H42: =H6+H8+H10+H12+H14+H16+H18+H20+H22+H24+H26+H28+H30+H32+H34+H36+H38+H40 -> 0 | J42: 小計 | K42: =K6+K8+K10+K12+K14+K16+K18+K20+K22+K24+K26+K28+K30+K32+K34+K36+K38+K40 -> 11100 | L42: =L6+L8+L10+L12+L14+L16+L18+L20+L22+L24+L26+L28+L30+L32+L34+L36+L38+L40 -> 0 | N42: 小計 | O42: =O6+O8+O10+O12+O14+O16+O18+O20+O22+O24+O26+O28+O30+O32+O34+O36+O38+O40 -> 650 | P42: =P6+P8+P10+P12+P14+P16+P18+P20+P22+P24+P26+P28+P30+P32+P34+P36+P38+P40 -> 0 | R42: 小計 | S42: =S6+S8+S10+S12+S14+S16+S18+S20+S22+S24+S26+S28+S30+S32+S34+S36+S38+S40 -> 700 | T42: =T6+T8+T10+T12+T14+T16+T18+T20+T22+T24+T26+T28+T30+T32+T34+T36+T38+T40 -> 0 | V42: 小計 | W42: =W6+W8+W10+W12+W14+W16+W18+W20+W22+W24+W26+W28+W30+W32+W34+W36+W38+W40 -> 2950 | X42: =X6+X8+X10+X12+X14+X16+X18+X20+X22+X24+X26+X28+X30+X32+X34+X36+X38+X40 -> 0
C43: =C7+C9+C11+C13+C15+C17+C19+C21+C23+C25+C27+C29+C31+C33+C35+C37+C39+C41 -> 0 | D43: =D7+D9+D11+D13+D15+D17+D19+D21+D23+D25+D27+D29+D31+D33+D35+D37+D39+D41 -> 0 | G43: =G7+G9+G11+G13+G15+G17+G19+G21+G23+G25+G27+G29+G31+G33+G35+G37+G39+G41 -> 0 | H43: =H7+H9+H11+H13+H15+H17+H19+H21+H23+H25+H27+H29+H31+H33+H35+H37+H39+H41 -> 0 | K43: =K7+K9+K11+K13+K15+K17+K19+K21+K23+K25+K27+K29+K31+K33+K35+K37+K39+K41 -> 0 | L43: =L7+L9+L11+L13+L15+L17+L19+L21+L23+L25+L27+L29+L31+L33+L35+L37+L39+L41 -> 0 | O43: =O7+O9+O11+O13+O15+O17+O19+O21+O23+O25+O27+O29+O31+O33+O35+O37+O39+O41 -> 0 | P43: =P7+P9+P11+P13+P15+P17+P19+P21+P23+P25+P27+P29+P31+P33+P35+P37+P39+P41 -> 0 | S43: =S7+S9+S11+S13+S15+S17+S19+S21+S23+S25+S27+S29+S31+S33+S35+S37+S39+S41 -> 0 | T43: =T7+T9+T11+T13+T15+T17+T19+T21+T23+T25+T27+T29+T31+T33+T35+T37+T39+T41 -> 0 | W43: =W7+W9+W11+W13+W15+W17+W19+W21+W23+W25+W27+W29+W31+W33+W35+W37+W39+W41 -> 0 | X43: =X7+X9+X11+X13+X15+X17+X19+X21+X23+X25+X27+X29+X31+X33+X35+X37+X39+X41 -> 0
F44: 合 計 | K44: =C42+C43+G42+G43+K42+K43+O42+O43+S42+S43+W42+W43 -> 24150 | N44: （ | O44: =D42+D43+H42+H43+L42+L43+P42+P43+T42+T43+X42+X43 -> 0 | Q44: ）

Sheet 千葉市・中央区
A2: スポンサー | H2: 品 名 | O2: 代理店 | V2: 担 当
A3: 折 込 日 | C3: 年 月 日 曜日 | H3: サイズ | L3: 総枚数 | R3: 備 考
B4: 0409 | C4: 千葉市・中央区 | AA4: 0409
B5: 朝日 | C5: 部数 | D5: 配布数 | F5: 毎日 | G5: 部数 | H5: 配布数 | J5: 読売 | K5: 部数 | L5: 配布数 | N5: 産経 | O5: 部数 | P5: 配布数 | R5: 東京 | S5: 部数 | T5: 配布数 | V5: 日経 | W5: 部数 | X5: 配布数
A6: 1 | B6: 千葉中央 | C6: 1150 | E6: 6 | F6: Ａ千葉中 | G6: 200 | I6: 1 | J6: 千葉中央 | K6: 4200 | M6: 1 | N6: 千葉中央 | O6: 300 | Q6: 2 | R6: Ａ千葉中 | S6: 250 | U6: 4 | V6: Ａ千葉寺 | W6: 150 | AA6: 4091001 | AB6: 4092006 | AC6: 4093001 | AD6: 4094001 | AE6: 4095002 | AF6: 4096004
C7: 0 | F7: 央 | G7: 0 | K7: 0 | O7: 0 | R7: 央 | S7: 0 | W7: 0 | AA7: 0 | AB7: 0 | AC7: 0 | AD7: 0 | AE7: 0 | AF7: 0
A8: 3 | B8: 千葉寺 | C8: 1150 | E8: 7 | F8: Ａ千葉寺 | G8: 250 | I8: 3 | J8: 浜野 | K8: 2000 | M8: 2 | N8: 西千葉 | O8: 700 | Q8: 4 | R8: Ａ蘇我浜 | S8: 200 | U8: 5 | V8: Ａ蘇我浜 | W8: 200 | AA8: 4091003 | AB8: 4092007 | AC8: 4093003 | AD8: 4094002 | AE8: 4095004 | AF8: 4096005
C9: 0 | G9: 0 | K9: 0 | O9: 0 | R9: 野 | S9: 0 | V9: 野 | W9: 0 | AA9: 0 | AB9: 0 | AC9: 0 | AD9: 0 | AE9: 0 | AF9: 0
A10: 5 | B10: 蘇我浜野 | C10: 1500 | E10: 8 | F10: Ａ千葉み | G10: 150 | I10: 4 | J10: 蘇我 | K10: 2100 | M10: 3 | N10: 蘇我 | O10: 250 | Q10: 5 | R10: Ａ千葉松 | S10: 100 | U10: 6 | V10: Ａ千葉松 | W10: 100 | AA10: 4091005 | AB10: 4092008 | AC10: 4093004 | AD10: 4094003 | AE10: 4095005 | AF10: 4096006
C11: 0 | F11: なと | G11: 0 | K11: 0 | O11: 0 | R11: ヶ丘 | S11: 0 | V11: ヶ丘 | W11: 0 | AA11: 0 | AB11: 0 | AC11: 0 | AD11: 0 | AE11: 0 | AF11: 0
A12: 6 | B12: 千葉松ヶ | C12: 650 | E12: 9 | F12: Ａ蘇我浜 | G12: 300 | I12: 6 | J12: 千葉寺 | K12: 2800 | M12: 4 | N12: 白旗 | O12: 350 | Q12: 9 | R12: Ａ千葉寺 | S12: 250 | U12: 7 | V12: Ｙ千葉中 | W12: 100 | AA12: 4091006 | AB12: 4092009 | AC12: 4093006 | AD12: 4094004 | AE12: 4095009 | AF12: 4096007
B13: 丘 | C13: 0 | F13: 野 | G13: 0 | K13: 0 | O13: 0 | S13: 0 | V13: 央 | W13: 0 | AA13: 0 | AB13: 0 | AC13: 0 | AD13: 0 | AE13: 0 | AF13: 0
A14: 7 | B14: 千葉みな | C14: 400 | E14: 10 | F14: Ａ千葉松 | G14: 150 | I14: 0 | K14: 0 | M14: 5 | N14: 松ヶ丘 | O14: 500 | Q14: 10 | R14: Ａ千葉み | S14: 50 | U14: 8 | V14: Ｙ浜野 | W14: 200 | AA14: 4091007 | AB14: 4092010 | AC14: 0 | AD14: 4094005 | AE14: 4095010 | AF14: 4096008
B15: と | C15: 0 | F15: ヶ丘 | G15: 0 | K15: 0 | O15: 0 | R15: なと | S15: 0 | W15: 0 | AA15: 0 | AB15: 0 | AC15: 0 | AD15: 0 | AE15: 0 | AF15: 0
A16: 0 | C16: 0 | E16: 0 | G16: 0 | I16: 0 | K16: 0 | M16: 10 | N16: Ａ千葉中 | O16: 150 | Q16: 0 | S16: 0 | U16: 9 | V16: Ｙ蘇我 | W16: 200 | AA16: 0 | AB16: 0 | AC16: 0 | AD16: 4094010 | AE16: 0 | AF16: 4096009
C17: 0 | G17: 0 | K17: 0 | N17: 央 | O17: 0 | S17: 0 | W17: 0 | AA17: 0 | AB17: 0 | AC17: 0 | AD17: 0 | AE17: 0 | AF17: 0
A18: 0 | C18: 0 | E18: 0 | G18: 0 | I18: 0 | K18: 0 | M18: 12 | N18: Ａ千葉寺 | O18: 50 | Q18: 0 | S18: 0 | U18: 10 | V18: Ｙ千葉寺 | W18: 200 | AA18: 0 | AB18: 0 | AC18: 0 | AD18: 4094012 | AE18: 0 | AF18: 4096010
C19: 0 | G19: 0 | K19: 0 | O19: 0 | S19: 0 | W19: 0 | AA19: 0 | AB19: 0 | AC19: 0 | AD19: 0 | AE19: 0 | AF19: 0
A20: 0 | C20: 0 | E20: 0 | G20: 0 | I20: 0 | K20: 0 | M20: 13 | N20: Ａ千葉み | O20: 50 | Q20: 0 | S20: 0 | U20: 11 | V20: Ａ千葉中 | W20: 700 | AA20: 0 | AB20: 0 | AC20: 0 | AD20: 4094013 | AE20: 0 | AF20: 4096011
C21: 0 | G21: 0 | K21: 0 | N21: なと | O21: 0 | S21: 0 | V21: 央 | W21: 0 | AA21: 0 | AB21: 0 | AC21: 0 | AD21: 0 | AE21: 0 | AF21: 0
A22: 0 | C22: 0 | E22: 0 | G22: 0 | I22: 0 | K22: 0 | M22: 14 | N22: Ａ蘇我浜 | O22: 100 | Q22: 0 | S22: 0 | U22: 12 | V22: Ａ千葉み | W22: 250 | AA22: 0 | AB22: 0 | AC22: 0 | AD22: 4094014 | AE22: 0 | AF22: 4096012
C23: 0 | G23: 0 | K23: 0 | N23: 野 | O23: 0 | S23: 0 | V23: なと | W23: 0 | AA23: 0 | AB23: 0 | AC23: 0 | AD23: 0 | AE23: 0 | AF23: 0
A24: 0 | C24: 0 | E24: 0 | G24: 0 | I24: 0 | K24: 0 | M24: 15 | N24: Ａ千葉松 | O24: 50 | Q24: 0 | S24: 0 | U24: 0 | W24: 0 | AA24: 0 | AB24: 0 | AC24: 0 | AD24: 4094015 | AE24: 0 | AF24: 0
C25: 0 | G25: 0 | K25: 0 | N25: ヶ丘 | O25: 0 | S25: 0 | W25: 0 | AA25: 0 | AB25: 0 | AC25: 0 | AD25: 0 | AE25: 0 | AF25: 0
B42: 小計 | C42: =C6+C8+C10+C12+C14+C16+C18+C20+C22+C24+C26+C28+C30+C32+C34+C36+C38+C40 -> 4850 | D42: =D6+D8+D10+D12+D14+D16+D18+D20+D22+D24+D26+D28+D30+D32+D34+D36+D38+D40 -> 0 | F42: 小計 | G42: =G6+G8+G10+G12+G14+G16+G18+G20+G22+G24+G26+G28+G30+G32+G34+G36+G38+G40 -> 1050 | H42: =H6+H8+H10+H12+H14+H16+H18+H20+H22+H24+H26+H28+H30+H32+H34+H36+H38+H40 -> 0 | J42: 小計 | K42: =K6+K8+K10+K12+K14+K16+K18+K20+K22+K24+K26+K28+K30+K32+K34+K36+K38+K40 -> 11100 | L42: =L6+L8+L10+L12+L14+L16+L18+L20+L22+L24+L26+L28+L30+L32+L34+L36+L38+L40 -> 0 | N42: 小計 | O42: =O6+O8+O10+O12+O14+O16+O18+O20+O22+O24+O26+O28+O30+O32+O34+O36+O38+O40 -> 2500 | P42: =P6+P8+P10+P12+P14+P16+P18+P20+P22+P24+P26+P28+P30+P32+P34+P36+P38+P40 -> 0 | R42: 小計 | S42: =S6+S8+S10+S12+S14+S16+S18+S20+S22+S24+S26+S28+S30+S32+S34+S36+S38+S40 -> 850 | T42: =T6+T8+T10+T12+T14+T16+T18+T20+T22+T24+T26+T28+T30+T32+T34+T36+T38+T40 -> 0 | V42: 小計 | W42: =W6+W8+W10+W12+W14+W16+W18+W20+W22+W24+W26+W28+W30+W32+W34+W36+W38+W40 -> 2100 | X42: =X6+X8+X10+X12+X14+X16+X18+X20+X22+X24+X26+X28+X30+X32+X34+X36+X38+X40 -> 0
C43: =C7+C9+C11+C13+C15+C17+C19+C21+C23+C25+C27+C29+C31+C33+C35+C37+C39+C41 -> 0 | D43: =D7+D9+D11+D13+D15+D17+D19+D21+D23+D25+D27+D29+D31+D33+D35+D37+D39+D41 -> 0 | G43: =G7+G9+G11+G13+G15+G17+G19+G21+G23+G25+G27+G29+G31+G33+G35+G37+G39+G41 -> 0 | H43: =H7+H9+H11+H13+H15+H17+H19+H21+H23+H25+H27+H29+H31+H33+H35+H37+H39+H41 -> 0 | K43: =K7+K9+K11+K13+K15+K17+K19+K21+K23+K25+K27+K29+K31+K33+K35+K37+K39+K41 -> 0 | L43: =L7+L9+L11+L13+L15+L17+L19+L21+L23+L25+L27+L29+L31+L33+L35+L37+L39+L41 -> 0 | O43: =O7+O9+O11+O13+O15+O17+O19+O21+O23+O25+O27+O29+O31+O33+O35+O37+O39+O41 -> 0 | P43: =P7+P9+P11+P13+P15+P17+P19+P21+P23+P25+P27+P29+P31+P33+P35+P37+P39+P41 -> 0 | S43: =S7+S9+S11+S13+S15+S17+S19+S21+S23+S25+S27+S29+S31+S33+S35+S37+S39+S41 -> 0 | T43: =T7+T9+T11+T13+T15+T17+T19+T21+T23+T25+T27+T29+T31+T33+T35+T37+T39+T41 -> 0 | W43: =W7+W9+W11+W13+W15+W17+W19+W21+W23+W25+W27+W29+W31+W33+W35+W37+W39+W41 -> 0 | X43: =X7+X9+X11+X13+X15+X17+X19+X21+X23+X25+X27+X29+X31+X33+X35+X37+X39+X41 -> 0
F44: 合 計 | K44: =C42+C43+G42+G43+K42+K43+O42+O43+S42+S43+W42+W43 -> 22450 | N44: （ | O44: =D42+D43+H42+H43+L42+L43+P42+P43+T42+T43+X42+X43 -> 0 | Q44: ）
A45: Ａ本千葉新設 Ｍ千葉中央廃店 | H45: Ｙ緑町廃店⇒西千葉吸収 | O45: Ａ浜野廃店⇒蘇我引継・蘇我浜野に名変

Sheet 千葉市・若葉区
A2: スポンサー | H2: 品 名 | O2: 代理店 | V2: 担 当
A3: 折 込 日 | C3: 年 月 日 曜日 | H3: サイズ | L3: 総枚数 | R3: 備 考
B4: 0410 | C4: 千葉市・若葉区 | AA4: 0410
B5: 朝日 | C5: 部数 | D5: 配布数 | F5: 毎日 | G5: 部数 | H5: 配布数 | J5: 読売 | K5: 部数 | L5: 配布数 | N5: 産経 | O5: 部数 | P5: 配布数 | R5: 東京 | S5: 部数 | T5: 配布数 | V5: 日経 | W5: 部数 | X5: 配布数
A6: 1 | B6: みつわ台 | C6: 1500 | E6: 2 | F6: Ｓ千城台 | G6: 250 | I6: 2 | J6: 若葉中央 | K6: 2650 | M6: 2 | N6: 千城台 | O6: 600 | Q6: 1 | R6: Ａみつわ | S6: 150 | U6: 1 | V6: Ａみつわ | W6: 200 | AA6: 4101001 | AB6: 4102002 | AC6: 4103002 | AD6: 4104002 | AE6: 4105001 | AF6: 4106001
C7: 0 | G7: 0 | K7: 0 | O7: 0 | R7: 台 | S7: 0 | V7: 台 | W7: 0 | AA7: 0 | AB7: 0 | AC7: 0 | AD7: 0 | AE7: 0 | AF7: 0
A8: 2 | B8: 都賀 | C8: 2350 | E8: 4 | F8: Ｇ中野 | G8: 100 | I8: 3 | J8: 桜木 | K8: 2750 | M8: 3 | N8: 都賀・み | O8: 550 | Q8: 2 | R8: Ａ都賀 | S8: 200 | U8: 2 | V8: Ａ都賀 | W8: 350 | AA8: 4101002 | AB8: 4102004 | AC8: 4103003 | AD8: 4104003 | AE8: 4105002 | AF8: 4106002
C9: 0 | G9: 0 | K9: 0 | N9: つわ台 | O9: 0 | S9: 0 | W9: 0 | AA9: 0 | AB9: 0 | AC9: 0 | AD9: 0 | AE9: 0 | AF9: 0
A10: 3 | B10: 青葉の森 | C10: 1900 | E10: 5 | F10: Ａ青葉の | G10: 150 | I10: 4 | J10: 千葉東 | K10: 2700 | M10: 5 | N10: Ｇ中野 | O10: 150 | Q10: 3 | R10: Ａ青葉の | S10: 250 | U10: 3 | V10: Ａ青葉の | W10: 150 | AA10: 4101003 | AB10: 4102005 | AC10: 4103004 | AD10: 4104005 | AE10: 4105003 | AF10: 4106003
C11: 0 | F11: 森 | G11: 0 | K11: 0 | O11: 0 | R11: 森 | S11: 0 | V11: 森 | W11: 0 | AA11: 0 | AB11: 0 | AC11: 0 | AD11: 0 | AE11: 0 | AF11: 0
A12: 4 | B12: 小倉千城 | C12: 1400 | E12: 6 | F12: Ａ小倉千 | G12: 150 | I12: 6 | J12: 都賀みつ | K12: 2050 | M12: 6 | N12: Ａ青葉の | O12: 150 | Q12: 4 | R12: Ａ小倉千 | S12: 150 | U12: 4 | V12: Ａ小倉千 | W12: 250 | AA12: 4101004 | AB12: 4102006 | AC12: 4103006 | AD12: 4104006 | AE12: 4105004 | AF12: 4106004
B13: 台 | C13: 0 | F13: 城台 | G13: 0 | J13: わ台 | K13: 0 | N13: 森 | O13: 0 | R13: 城台 | S13: 0 | V13: 城台 | W13: 0 | AA13: 0 | AB13: 0 | AC13: 0 | AD13: 0 | AE13: 0 | AF13: 0
A14: 6 | B14: Ｇ中野 | C14: 150 | E14: 7 | F14: Ａ都賀 | G14: 150 | I14: 7 | J14: Ｇ中野 | K14: 800 | M14: 7 | N14: Ａ小倉千 | O14: 50 | Q14: 6 | R14: Ｇ中野 | S14: 100 | U14: 7 | V14: Ｙ若葉中 | W14: 100 | AA14: 4101006 | AB14: 4102007 | AC14: 4103007 | AD14: 4104007 | AE14: 4105006 | AF14: 4106007
C15: 0 | G15: 0 | K15: 0 | N15: 城台 | O15: 0 | S15: 0 | V15: 央 | W15: 0 | AA15: 0 | AB15: 0 | AC15: 0 | AD15: 0 | AE15: 0 | AF15: 0
A16: 0 | C16: 0 | E16: 8 | F16: Ａみつわ | G16: 150 | I16: 0 | K16: 0 | M16: 0 | O16: 0 | Q16: 0 | S16: 0 | U16: 8 | V16: Ｙ桜木 | W16: 150 | AA16: 0 | AB16: 4102008 | AC16: 0 | AD16: 0 | AE16: 0 | AF16: 4106008
C17: 0 | F17: 台 | G17: 0 | K17: 0 | O17: 0 | S17: 0 | W17: 0 | AA17: 0 | AB17: 0 | AC17: 0 | AD17: 0 | AE17: 0 | AF17: 0
A18: 0 | C18: 0 | E18: 0 | G18: 0 | I18: 0 | K18: 0 | M18: 0 | O18: 0 | Q18: 0 | S18: 0 | U18: 9 | V18: Ｙ千葉東 | W18: 100 | AA18: 0 | AB18: 0 | AC18: 0 | AD18: 0 | AE18: 0 | AF18: 4106009
C19: 0 | G19: 0 | K19: 0 | O19: 0 | S19: 0 | W19: 0 | AA19: 0 | AB19: 0 | AC19: 0 | AD19: 0 | AE19: 0 | AF19: 0
A20: 0 | C20: 0 | E20: 0 | G20: 0 | I20: 0 | K20: 0 | M20: 0 | O20: 0 | Q20: 0 | S20: 0 | U20: 10 | V20: Ｙ都賀み | W20: 200 | AA20: 0 | AB20: 0 | AC20: 0 | AD20: 0 | AE20: 0 | AF20: 4106010
C21: 0 | G21: 0 | K21: 0 | O21: 0 | S21: 0 | V21: つわ台 | W21: 0 | AA21: 0 | AB21: 0 | AC21: 0 | AD21: 0 | AE21: 0 | AF21: 0
A22: 0 | C22: 0 | E22: 0 | G22: 0 | I22: 0 | K22: 0 | M22: 0 | O22: 0 | Q22: 0 | S22: 0 | U22: 11 | V22: Ｇ中野 | W22: 100 | AA22: 0 | AB22: 0 | AC22: 0 | AD22: 0 | AE22: 0 | AF22: 4106011
C23: 0 | G23: 0 | K23: 0 | O23: 0 | S23: 0 | W23: 0 | AA23: 0 | AB23: 0 | AC23: 0 | AD23: 0 | AE23: 0 | AF23: 0
B42: 小計 | C42: =C6+C8+C10+C12+C14+C16+C18+C20+C22+C24+C26+C28+C30+C32+C34+C36+C38+C40 -> 7300 | D42: =D6+D8+D10+D12+D14+D16+D18+D20+D22+D24+D26+D28+D30+D32+D34+D36+D38+D40 -> 0 | F42: 小計 | G42: =G6+G8+G10+G12+G14+G16+G18+G20+G22+G24+G26+G28+G30+G32+G34+G36+G38+G40 -> 950 | H42: =H6+H8+H10+H12+H14+H16+H18+H20+H22+H24+H26+H28+H30+H32+H34+H36+H38+H40 -> 0 | J42: 小計 | K42: =K6+K8+K10+K12+K14+K16+K18+K20+K22+K24+K26+K28+K30+K32+K34+K36+K38+K40 -> 10950 | L42: =L6+L8+L10+L12+L14+L16+L18+L20+L22+L24+L26+L28+L30+L32+L34+L36+L38+L40 -> 0 | N42: 小計 | O42: =O6+O8+O10+O12+O14+O16+O18+O20+O22+O24+O26+O28+O30+O32+O34+O36+O38+O40 -> 1500 | P42: =P6+P8+P10+P12+P14+P16+P18+P20+P22+P24+P26+P28+P30+P32+P34+P36+P38+P40 -> 0 | R42: 小計 | S42: =S6+S8+S10+S12+S14+S16+S18+S20+S22+S24+S26+S28+S30+S32+S34+S36+S38+S40 -> 850 | T42: =T6+T8+T10+T12+T14+T16+T18+T20+T22+T24+T26+T28+T30+T32+T34+T36+T38+T40 -> 0 | V42: 小計 | W42: =W6+W8+W10+W12+W14+W16+W18+W20+W22+W24+W26+W28+W30+W32+W34+W36+W38+W40 -> 1600 | X42: =X6+X8+X10+X12+X14+X16+X18+X20+X22+X24+X26+X28+X30+X32+X34+X36+X38+X40 -> 0
C43: =C7+C9+C11+C13+C15+C17+C19+C21+C23+C25+C27+C29+C31+C33+C35+C37+C39+C41 -> 0 | D43: =D7+D9+D11+D13+D15+D17+D19+D21+D23+D25+D27+D29+D31+D33+D35+D37+D39+D41 -> 0 | G43: =G7+G9+G11+G13+G15+G17+G19+G21+G23+G25+G27+G29+G31+G33+G35+G37+G39+G41 -> 0 | H43: =H7+H9+H11+H13+H15+H17+H19+H21+H23+H25+H27+H29+H31+H33+H35+H37+H39+H41 -> 0 | K43: =K7+K9+K11+K13+K15+K17+K19+K21+K23+K25+K27+K29+K31+K33+K35+K37+K39+K41 -> 0 | L43: =L7+L9+L11+L13+L15+L17+L19+L21+L23+L25+L27+L29+L31+L33+L35+L37+L39+L41 -> 0 | O43: =O7+O9+O11+O13+O15+O17+O19+O21+O23+O25+O27+O29+O31+O33+O35+O37+O39+O41 -> 0 | P43: =P7+P9+P11+P13+P15+P17+P19+P21+P23+P25+P27+P29+P31+P33+P35+P37+P39+P41 -> 0 | S43: =S7+S9+S11+S13+S15+S17+S19+S21+S23+S25+S27+S29+S31+S33+S35+S37+S39+S41 -> 0 | T43: =T7+T9+T11+T13+T15+T17+T19+T21+T23+T25+T27+T29+T31+T33+T35+T37+T39+T41 -> 0 | W43: =W7+W9+W11+W13+W15+W17+W19+W21+W23+W25+W27+W29+W31+W33+W35+W37+W39+W41 -> 0 | X43: =X7+X9+X11+X13+X15+X17+X19+X21+X23+X25+X27+X29+X31+X33+X35+X37+X39+X41 -> 0
F44: 合 計 | K44: =C42+C43+G42+G43+K42+K43+O42+O43+S42+S43+W42+W43 -> 23150 | N44: （ | O44: =D42+D43+H42+H43+L42+L43+P42+P43+T42+T43+X42+X43 -> 0 | Q44: ）
A45: Ｙ千葉東部⇒千城台名変 | H45: Ｓ千城台南廃店⇒千城台へ

Sheet 千葉市・緑  区
A2: スポンサー | H2: 品 名 | O2: 代理店 | V2: 担 当
A3: 折 込 日 | C3: 年 月 日 曜日 | H3: サイズ | L3: 総枚数 | R3: 備 考
B4: 0411 | C4: 千葉市・緑 区 | AA4: 0411
B5: 朝日 | C5: 部数 | D5: 配布数 | F5: 毎日 | G5: 部数 | H5: 配布数 | J5: 読売 | K5: 部数 | L5: 配布数 | N5: 産経 | O5: 部数 | P5: 配布数 | R5: 東京 | S5: 部数 | T5: 配布数 | V5: 日経 | W5: 部数 | X5: 配布数
